Workbook
Name \C: [1]Reforma!#REF!
Name \C: [1]Reforma!#REF!
Name \D: [1]Reforma!#REF!
Name \D: [1]Reforma!#REF!
Name \G: [1]Reforma!#REF!
Name \G: [1]Reforma!#REF!
Name \I: [1]Reforma!#REF!
Name \I: [1]Reforma!#REF!
Name \l: #REF!
Name \l: #REF!
Name \M: [1]Reforma!#REF!
Name \M: [1]Reforma!#REF!
Name \P: [1]Reforma!#REF!
Name \P: [1]Reforma!#REF!
Name \R: [1]Reforma!#REF!
Name \R: [1]Reforma!#REF!
Name \s: #REF!
Name \s: #REF!
Name \t: #REF!
Name \t: #REF!
Name \Y: [1]Reforma!#REF!
Name \Y: [1]Reforma!#REF!
Name _: [1]Reforma!#REF!
Name _: [1]Reforma!#REF!
Name ___________R: #REF!
Name ___________R: #REF!
Name _________R: #REF!
Name ________MDO1: [2]INSUMOS!$C$8
Name ________MDO2: [3]INSUMOS!$C$6
Name ________R: #REF!
Name _______MDO1: [2]INSUMOS!$C$8
Name _______MDO2: [3]INSUMOS!$C$6
Name _______R: #REF!
Name ______MDO1: [2]INSUMOS!$C$8
Name ______MDO2: [3]INSUMOS!$C$6
Name ______R: #REF!
Name _____MDO1: [4]INSUMOS!$C$8
Name _____MDO2: [3]INSUMOS!$C$6
Name _____R: #REF!
Name ____MDO1: [4]INSUMOS!$C$8
Name ____MDO2: [3]INSUMOS!$C$6
Name ____R: #REF!
Name ___ELE3: #REF!
Name ___MDO1: [4]INSUMOS!$C$8
Name ___MDO2: [3]INSUMOS!$C$6
Name ___R: #REF!
Name ___sub1: #REF!
Name ___sub2: #REF!
Name ___sub3: #REF!
Name ___sub4: #REF!
Name ___tot1: #REF!
Name ___tot2: #REF!
Name ___tot3: #REF!
Name ___tot4: #REF!
Name ___tot5: #REF!
Name ___tot6: #REF!
Name ___tot7: #REF!
Name ___tot8: #REF!
Name __ELE1: #REF!
Name __ELE2: #REF!

Sheet PROPOSTA
A1: R & S ENGENHARIA E CONSULTORIA
A2: CNPJ: 30.836.850/0001-95
A3: Endereço: Rua Euclides Magno Bacalhau, n° 195, Centro, Ingá – PB
A4: Telefone: (83) 9 9806-7435
A5: E-mail: resengenhariaeconsultoria@outlook.com
A9: OBRA: CONTRATAÇÃO DE EMPRESA ESPECIALIZADA PARA EXECUÇÃO DE ESCOLA COM 13 SALAS – TÉRREO, NO MUNICÍPIO DE MOGEIRO –PB, CONFORME TERMO DE COMPROMISSO Nº 960784/2024/FNDE/CAIXA – OPERAÇÃO Nº 1094601–47 – PROGRAMA: EDUCAÇÃO BÁSICA DEMOCRÁTICA, COM QUALIDADE E EQUIDADE.
A10: LOCAL: MUNICIPIO DE MOGEIRO/PB
A11: BDI: 22,47%
A12: SINAPI: PB 01/2025-ORSE: SE 12/2024/PRÓPIO - PREÇOS NÃO DESONERADOS
A13: Encargos Sociais Encargos sociais SEM desoneração: Horista: 113,60% Mensalista: 69,85%
A15: PREFEITURA MUNICIPAL DE MOGEIRO/PB
A16: CONCORRÊNCIA ELETRÔNICA N° 00008/2025
A18: PLANILHA ORÇAMENTÁRIA
A20: ÍTEM | B20: Código | C20: Fonte | D20: DESCRIÇÃO SERVIÇO | E20: UNIDADE | F20: QUANTIDADE | G20: CUSTO UNITÁRIO | H20: PREÇO UNITÁRIO COM BDI | I20: PREÇO TOTAL COM BDI
A21: 1.0 | D21: ADMINISTRAÇÃO LOCAL | I21: 751651.12
A22: 1.1 | B22: FNDE 52 | C22: Composição | D22: ADMINISTRAÇÃO LOCAL | E22: UN | F22: 1,00 | G22: 613743.05 | H22: 751651.12 | I22: =H22*F22 -> 751651.12
A23: 2.0 | D23: SERVIÇOS PRELIMINARES | I23: 243528.53
A24: 2.1 | B24: 103689 | C24: SINAPI | D24: FORNECIMENTO E INSTALAÇÃO DE PLACA DE OBRA COM CHAPA GALVANIZADA E ESTRUTURA DE MADEIRA. | E24: M2 | F24: 6,48 | G24: 459.65 | H24: 562.93 | I24: =H24*F24 -> 3647.7864
A25: 2.2 | B25: 98459 | C25: SINAPI | D25: TAPUME COM TELHA METÁLICA. | E25: M2 | F25: 726,00 | G25: 89.91 | H25: 110.11 | I25: =H25*F25 -> 79939.86
A26: 2.3 | B26: 101509 | C26: SINAPI | D26: ENTRADA DE ENERGIA ELÉTRICA, AÉREA, TRIFÁSICA, COM CAIXA DE EMBUTIR, CABO DE 10 MM2 E DISJUNTOR DIN 50A (NÃO INCLUSO O POSTE DE CONCRETO). | E26: UN | F26: 1,00 | G26: 1879.98 | H26: 2302.41 | I26: =H26*F26 -> 2302.41
A27: 2.4 | B27: FNDE 03 | C27: Composição | D27: LIGAÇÃO PROVISÓRIA DE ÁGUA E ESGOTO | E27: UN | F27: 1,00 | G27: 2953.15 | H27: 3616.72 | I27: =H27*F27 -> 3616.72
A28: 2.5 | B28: 99059 | C28: SINAPI | D28: LOCAÇÃO CONVENCIONAL DE OBRA, UTILIZANDO GABARITO DE TÁBUAS CORRIDAS PONTALETADAS A CADA 2,00M - 2 UTILIZAÇÕES. | E28: M | F28: 911,48 | G28: 57.17 | H28: 70.02 | I28: =H28*F28 -> 63821.83
A29: 2.6 | B29: 98525 | C29: SINAPI | D29: LIMPEZA MECANIZADA DE CAMADA VEGETAL, VEGETAÇÃO E PEǪUENAS ÁRVORES (DIÂMETRO DE TRONCO MENOR ǪUE 0,20 M), COM TRATOR DE ESTEIRAS. | E29: M2 | F29: 6.800,00 | G29: 0.6 | H29: 0.73 | I29: =H29*F29 -> 4964
A30: 2.7 | B30: FNDE 230 | C30: Composição | D30: LOCACAO DE CONTAINER 2,30 X 6,00 M, ALT. 2,50 M, PARA ESCRITORIO, SEM DIVISORIAS INTERNAS E SEM SANITARIO (NAO INCLUI MOBILIZACAO/DESMOBILIZACAO) | E30: MÊS | F30: 28,00 | G30: 640.62 | H30: 784.57 | I30: =H30*F30 -> 21967.96
A31: 2.8 | B31: FNDE 231 | C31: Composição | D31: LOCACAO DE CONTAINER 2,30 X 6,00 M, ALT. 2,50 M, COM 1 SANITARIO, PARA ESCRITORIO, COMPLETO, SEM DIVISORIAS INTERNAS (NAO INCLUI MOBILIZACAO/DESMOBILIZACAO) | E31: MÊS | F31: 28,00 | G31: 820 | H31: 1004.25 | I31: =H31*F31 -> 28119
A32: 2.9 | B32: FNDE 232 | C32: Composição | D32: LOCACAO DE CONTAINER 2,30 X 6,00 M, ALT. 2,50 M, PARA SANITARIO, COM 4 BACIAS, 8 CHUVEIROS,1 LAVATORIO E 1 MICTORIO (NAO INCLUI MOBILIZACAO/DESMOBILIZACAO) | E32: MÊS | F32: 28,00 | G32: 1025 | H32: 1255.32 | I32: =H32*F32 -> 35148.96
A33: 3.0 | D33: MOVIMENTO DE TERRA PARA FUNDAÇÕES | I33: 88974.27
A34: 3.1 | D34: EDIFICAÇÃO | I34: =SUM(I35:I39) -> 76063.61
A35: 3.1.1 | B35: 96521 | C35: SINAPI | D35: ESCAVAÇÃO MECANIZADA PARA BLOCO DE COROAMENTO OU SAPATA COM RETROESCAVADEIRA (INCLUINDO ESCAVAÇÃO PARA COLOCAÇÃO DE FÔRMAS). | E35: M3 | F35: 328,06 | G35: 37.7 | H35: 46.17 | I35: =H35*F35 -> 15146.53
A36: 3.1.2 | B36: 94318 | C36: SINAPI | D36: ATERRO MECANIZADO DE VALA COM RETROESCAVADEIRA (CAPACIDADE DA CAÇAMBA DA RETRO: 0,26 M³ / POTÊNCIA: 88 HP), LARGURA ATÉ 1,5 M, PROFUNDIDADE DE 1,5 A 3,0 M, COM SOLO ARGILO- ARENOSO. | E36: M3 | F36: 298,71 | G36: 62.91 | H36: 77.05 | I36: =H36*F36 -> 23015.605
A37: 3.1.3 | B37: 96525 | C37: SINAPI | D37: ESCAVAÇÃO MECANIZADA PARA VIGA BALDRAME OU SAPATA CORRIDA COM MINI-ESCAVADEIRA (INCLUINDO ESCAVAÇÃO PARA COLOCAÇÃO DE FÔRMAS). | E37: M3 | F37: 433,13 | G37: 50.7 | H37: 62.09 | I37: =H37*F37 -> 26893.042
A38: 3.1.4 | B38: 101617 | C38: SINAPI | D38: PREPARO DE FUNDO DE VALA COM LARGURA MAIOR OU IGUAL A 1,5 M E MENOR ǪUE 2,5 M (ACERTO DO SOLO NATURAL). | E38: M2 | F38: 432,57 | G38: 2.65 | H38: 3.25 | I38: =H38*F38 -> 1405.8525
A39: 3.1.5 | B39: 93381 | C39: SINAPI | D39: REATERRO MECANIZADO DE VALA COM RETROESCAVADEIRA (CAPACIDADE DA CAÇAMBA DA RETRO: 0,26 M³/POTÊNCIA: 88 HP), LARGURA 0,8 A 1,5 M, PROFUNDIDADE 1,5 A 3,0 M, COM SOLO (SEM SUBSTITUIÇÃO) DE 19 CATEGORIA E COMPACTADOR DE SOLOS DE PERCUSSÃO. | E39: M3 | F39: 710,25 | G39: 11.04 | H39: 13.52 | I39: =H39*F39 -> 9602.58
A40: 3.2 | D40: RESERVATÓRIO | I40: =SUM(I41:I44) -> 1325.3472
A41: 3.2.1 | B41: 96521 | C41: SINAPI | D41: ESCAVAÇÃO MECANIZADA PARA BLOCO DE COROAMENTO OU SAPATA COM RETROESCAVADEIRA (INCLUINDO ESCAVAÇÃO PARA COLOCAÇÃO DE FÔRMAS). | E41: M3 | F41: 8,71 | G41: 37.7 | H41: 46.17 | I41: =H41*F41 -> 402.1407
A42: 3.2.2 | B42: 96525 | C42: SINAPI | D42: ESCAVAÇÃO MECANIZADA PARA VIGA BALDRAME OU SAPATA CORRIDA COM MINI-ESCAVADEIRA (INCLUINDO ESCAVAÇÃO PARA COLOCAÇÃO DE FÔRMAS). | E42: M3 | F42: 11,47 | G42: 50.7 | H42: 62.09 | I42: =H42*F42 -> 712.1723
A43: 3.2.3 | B43: 101617 | C43: SINAPI | D43: PREPARO DE FUNDO DE VALA COM LARGURA MAIOR OU IGUAL A 1,5 M E MENOR ǪUE 2,5 M (ACERTO DO SOLO NATURAL). | E43: M2 | F43: 20,38 | G43: 2.65 | H43: 3.25 | I43: =H43*F43 -> 66.235
A44: 3.2.4 | B44: 93381 | C44: SINAPI | D44: REATERRO MECANIZADO DE VALA COM RETROESCAVADEIRA (CAPACIDADE DA CAÇAMBA DA RETRO: 0,26 M³/POTÊNCIA: 88 HP), LARGURA 0,8 A 1,5 M, PROFUNDIDADE 1,5 A 3,0 M, COM SOLO (SEM SUBSTITUIÇÃO) DE 19 CATEGORIA E COMPACTADOR DE SOLOS DE PERCUSSÃO. | E44: M3 | F44: 10,71 | G44: 11.04 | H44: 13.52 | I44: =H44*F44 -> 144.7992
A45: 3.3 | D45: ESTUTURA METÁLICA | I45: =SUM(I46:I48) -> 4396.2489
A46: 3.3.1 | B46: 96521 | C46: SINAPI | D46: ESCAVAÇÃO MECANIZADA PARA BLOCO DE COROAMENTO OU SAPATA COM RETROESCAVADEIRA (INCLUINDO ESCAVAÇÃO PARA COLOCAÇÃO DE FÔRMAS). | E46: M3 | F46: 79,62 | G46: 37.7 | H46: 46.17 | I46: =H46*F46 -> 3676.0554
...

Sheet CRONOGRAMA
A1: R & S ENGENHARIA E CONSULTORIA
A2: CNPJ: 30.836.850/0001-95
A3: Endereço: Rua Euclides Magno Bacalhau, n° 195, Centro, Ingá – PB
A4: Telefone: (83) 9 9806-7435
A5: E-mail: resengenhariaeconsultoria@outlook.com
A9: OBRA: CONTRATAÇÃO DE EMPRESA ESPECIALIZADA PARA EXECUÇÃO DE ESCOLA COM 13 SALAS – TÉRREO, NO MUNICÍPIO DE MOGEIRO –PB, CONFORME TERMO DE COMPROMISSO Nº 960784/2024/FNDE/CAIXA – OPERAÇÃO Nº 1094601–47 – PROGRAMA: EDUCAÇÃO BÁSICA DEMOCRÁTICA, COM QUALIDADE E EQUIDADE.
A10: LOCAL: MUNICIPIO DE MOGEIRO/PB
A11: BDI: 22,47%
A12: SINAPI: PB 01/2025-ORSE: SE 12/2024/PRÓPIO - PREÇOS NÃO DESONERADOS
A13: Encargos Sociais Encargos sociais SEM desoneração: Horista: 113,60% Mensalista: 69,85%
A15: PREFEITURA MUNICIPAL DE MOGEIRO/PB
A16: CONCORRÊNCIA ELETRÔNICA N° 00008/2025
A18: CRONOGRAMA FISICO-FINANCEIRO
A20: ITEM | B20: DESCRIÇÃO | C20: VALOR (R$) | D20: PARCELA 01 | E20: PARCELA 02 | F20: PARCELA 03 | G20: PARCELA 04 | H20: PARCELA 05 | I20: PARCELA 06 | J20: PARCELA 07 | K20: PARCELA 08 | L20: PARCELA 09 | M20: PARCELA 10 | N20: PARCELA 11 | O20: PARCELA 12 | P20: PARCELA 13 | Q20: PARCELA 14 | R20: PARCELA 15 | S20: PARCELA 16 | T20: PARCELA 17 | U20: PARCELA 18 | V20: PARCELA 19 | W20: PARCELA 20 | X20: PARCELA 21 | Y20: PARCELA 22 | Z20: PARCELA 23 | AA20: PARCELA 24 | AB20: PARCELA 25 | AC20: PARCELA 26 | AD20: PARCELA 27 | AE20: PARCELA 28 | AF20: TOTAL
A21: 1 | B21: =[40]PROPOSTA!D20 -> ADMINISTRAÇÃO LOCAL | C21: =PROPOSTA!I21 -> 751651.12 | D21: 0.0219 | E21: 0.0298 | F21: 0.0498 | G21: 0.0587 | H21: 0.0892 | I21: 0.0542 | J21: 0.0803 | K21: 0.0797 | L21: 0.0809 | M21: 0.077 | N21: 0.0781 | O21: 0.0546 | P21: 0.0554 | Q21: 0.0329 | R21: 0.0144 | S21: 0.0121 | T21: 0.0143 | U21: 0.015 | V21: 0.0075 | W21: 0.0076 | X21: 0.0079 | Y21: 0.0126 | Z21: 0.0106 | AA21: 0.0111 | AB21: 0.0162 | AC21: 0.02 | AD21: 0.0036 | AE21: 0.0046 | AF21: =SUM(D21:AE21) -> 1
D22: =D21*C21 -> 16461.16 | E22: =E21*C21 -> 22399.203 | F22: =F21*C21 -> 37432.226 | G22: =G21*C21 -> 44121.921 | H22: =H21*C21 -> 67047.28 | I22: =I21*C21 -> 40739.491 | J22: =J21*C21 -> 60357.585 | K22: =K21*C21 -> 59906.594 | L22: =L21*C21 -> 60808.576 | M22: =M21*C21 -> 57877.136 | N22: =N21*C21 -> 58703.952 | O22: =O21*C21 -> 41040.151 | P22: =P21*C21 -> 41641.472 | Q22: =Q21*C21 -> 24729.322 | R22: =R21*C21 -> 10823.776 | S22: =S21*C21 -> 9094.9786 | T22: =T21*C21 -> 10748.611 | U22: =U21*C21 -> 11274.767 | V22: =V21*C21 -> 5637.3834 | W22: =W21*C21 -> 5712.5485 | X22: =X21*C21 -> 5938.0438 | Y22: =Y21*C21 -> 9470.8041 | Z22: =Z21*C21 -> 7967.5019 | AA22: =AA21*C21 -> 8343.3274 | AB22: =AB21*C21 -> 12176.748 | AC22: =AC21*C21 -> 15033.022 | AD22: =AD21*C21 -> 2705.944 | AE22: =AE21*C21 -> 3457.5952 | AF22: =SUM(D22:AE22) -> 751651.12
A23: 2 | B23: =[40]PROPOSTA!D22 -> SERVIÇOS PRELIMINARES | C23: =PROPOSTA!I23 -> 243528.53 | D23: 0.836 | E23: 0.164 | AF23: =SUM(D23:AE23) -> 1
D24: =D23*C23 -> 203589.85 | E24: =E23*C23 -> 39938.679 | AF24: =SUM(D24:AE24) -> 243528.53
A25: 3 | B25: =[40]PROPOSTA!D32 -> MOVIMENTO DE TERRA PARA FUNDAÇÕES | C25: =PROPOSTA!I33 -> 88974.27 | D25: 0.1077 | E25: 0.2821 | F25: 0.2545 | G25: 0.3284 | H25: 0.0273 | AF25: =SUM(D25:AE25) -> 1
D26: =D25*C25 -> 9582.5289 | E26: =E25*C25 -> 25099.642 | F26: =F25*C25 -> 22643.952 | G26: =G25*C25 -> 29219.15 | H26: =H25*C25 -> 2428.9976 | AF26: =SUM(D26:AE26) -> 88974.27
A27: 4 | B27: =[40]PROPOSTA!D50 -> FUNDAÇÕES | C27: =PROPOSTA!I55 -> 1132711.2 | E27: 0.2003 | F27: 0.2408 | G27: 0.2571 | H27: 0.3018 | AF27: =SUM(D27:AE27) -> 1
E28: =E27*C27 -> 226882.05 | F28: =F27*C27 -> 272756.85 | G28: =G27*C27 -> 291220.04 | H28: =H27*C27 -> 341852.23 | AF28: =SUM(D28:AE28) -> 1132711.2
A29: 5 | B29: =[40]PROPOSTA!D115 -> SUPERESTRUTURA | C29: =PROPOSTA!I130 -> 2551550.5 | F29: 0.0766 | G29: 0.0767 | H29: 0.1774 | I29: 0.1752 | J29: 0.196 | K29: 0.1156 | L29: 0.1227 | M29: 0.0264 | N29: 0.0263 | O29: 0.0071 | AF29: =SUM(D29:AE29) -> 1
F30: =F29*C29 -> 195448.77 | G30: =G29*C29 -> 195703.92 | H30: =H29*C29 -> 452645.05 | I30: =I29*C29 -> 447031.64 | J30: =J29*C29 -> 500103.89 | K30: =K29*C29 -> 294959.23 | L30: =L29*C29 -> 313075.24 | M30: =M29*C29 -> 67360.932 | N30: =N29*C29 -> 67105.777 | O30: =O29*C29 -> 18116.008 | AF30: =SUM(D30:AE30) -> 2551550.5
A31: 6 | B31: =PROPOSTA!D202 -> SISTEMA DE VEDAÇÃO VERTICAL | C31: =PROPOSTA!I202 -> 432597.07 | I31: 0.1116 | J31: 0.1572 | K31: 0.1323 | L31: 0.1689 | M31: 0.2662 | N31: 0.1638 | AF31: =SUM(D31:AE31) -> 1
I32: =I31*C31 -> 48277.833 | J32: =J31*C31 -> 68004.259 | K32: =K31*C31 -> 57232.592 | L32: =L31*C31 -> 73065.645 | M32: =M31*C31 -> 115157.34 | N32: =N31*C31 -> 70859.4 | AF32: =SUM(D32:AE32) -> 432597.07
A33: 7 | B33: =PROPOSTA!D221 -> ESǪUADRIAS | C33: =PROPOSTA!I221 -> 773383.09 | K33: 0.1079 | L33: 0.1955 | M33: 0.1365 | N33: 0.3654 | O33: 0.1947 | AF33: =SUM(D33:AE33) -> 1
K34: =K33*C33 -> 83448.035 | L34: =L33*C33 -> 151196.39 | M34: =M33*C33 -> 105566.79 | N34: =N33*C33 -> 282594.18 | O34: =O33*C33 -> 150577.69 | AF34: =SUM(D34:AE34) -> 773383.09
A35: 8 | B35: =PROPOSTA!D270 -> SISTEMAS DE COBERTURA | C35: =PROPOSTA!I270 -> 969399.6 | M35: 0.1754 | N35: 0.2112 | O35: 0.2175 | P35: 0.2057 | Q35: 0.1902 | AF35: =SUM(D35:AE35) -> 1
M36: =M35*C35 -> 170032.69 | N36: =N35*C35 -> 204737.2 | O36: =O35*C35 -> 210844.41 | P36: =P35*C35 -> 199405.5 | Q36: =Q35*C35 -> 184379.8 | AF36: =SUM(D36:AE36) -> 969399.6
A37: 9 | B37: =PROPOSTA!D289 -> IMPERMEABILIZAÇÃO | C37: =PROPOSTA!I289 -> 142378.56 | G37: 0.3177 | H37: 0.4499 | I37: 0.1397 | K37: 0.0927 | AF37: =SUM(D37:AE37) -> 1
G38: =G37*C37 -> 45233.669 | H38: =H37*C37 -> 64056.114 | I38: =I37*C37 -> 19890.285 | K38: =K37*C37 -> 13198.493 | AF38: =SUM(D38:AE38) -> 142378.56
A39: 10 | B39: =PROPOSTA!D296 -> REVESTIMENTOS INTERNO E EXTERNO | C39: =PROPOSTA!I296 -> 649227.3 | J39: 0.2191 | K39: 0.2191 | L39: 0.2191 | M39: 0.2191 | P39: 0.1236 | AF39: =SUM(D39:AE39) -> 1
J40: =J39*C39 -> 142245.7 | K40: =K39*C39 -> 142245.7 | L40: =L39*C39 -> 142245.7 | M40: =M39*C39 -> 142245.7 | P40: =P39*C39 -> 80244.494 | AF40: =SUM(D40:AE40) -> 649227.3
A41: 11 | B41: =PROPOSTA!D312 -> SISTEMAS DE PISOS | C41: =PROPOSTA!I312 -> 635633.87 | J41: 0.1333 | K41: 0.1557 | L41: 0.1636 | M41: 0.1736 | N41: 0.1569 | O41: 0.1682 | P41: 0.0487 | AF41: =SUM(D41:AE41) -> 1
J42: =J41*C41 -> 84729.995 | K42: =K41*C41 -> 98968.194 | L42: =L41*C41 -> 103989.7 | M42: =M41*C41 -> 110346.04 | N42: =N41*C41 -> 99730.954 | O42: =O41*C41 -> 106913.62 | P42: =P41*C41 -> 30955.369 | AF42: =SUM(D42:AE42) -> 635633.87
A43: 12 | B43: =PROPOSTA!D333 -> PINTURAS E ACABAMENTOS | C43: =PROPOSTA!I333 -> 288796.25 | V43: 0.2472 | W43: 0.2626 | X43: 0.2418 | Y43: 0.2484 | AF43: =SUM(D43:AE43) -> 1
V44: =V43*C43 -> 71390.433 | W44: =W43*C43 -> 75837.895 | X44: =X43*C43 -> 69830.933 | Y44: =Y43*C43 -> 71736.989 | AF44: =SUM(D44:AE44) -> 288796.25
A45: 13 | B45: =PROPOSTA!D358 -> INSTALAÇÃO HIDRÁULICA | C45: =PROPOSTA!I358 -> 218694.29 | K45: 0.399 | L45: 0.0339 | M45: 0.046 | N45: 0.0428 | O45: 0.094 | P45: 0.3843 | AF45: =SUM(D45:AE45) -> 1
K46: =K45*C45 -> 87259.022 | L46: =L45*C45 -> 7413.7364 | M46: =M45*C45 -> 10059.937 | N46: =N45*C45 -> 9360.1156 | O46: =O45*C45 -> 20557.263 | P46: =P45*C45 -> 84044.216 | AF46: =SUM(D46:AE46) -> 218694.29
...

Sheet BDI
M1: R & S ENGENHARIA E CONSULTORIA
O3: CNPJ: 30.836.850/0001-95
O4: Endereço: Rua Euclides Magno Bacalhau, n° 195, Centro, Ingá – PB
O5: Telefone: (83) 9 9806-7435
O6: E-mail: resengenhariaeconsultoria@outlook.com
A7: COMPOSIÇÃO DE B.D.I.
A10: OBRA: CONTRATAÇÃO DE EMPRESA ESPECIALIZADA PARA EXECUÇÃO DE ESCOLA COM 13 SALAS – TÉRREO, NO MUNICÍPIO DE MOGEIRO –PB, CONFORME TERMO DE COMPROMISSO Nº 960784/2024/FNDE/CAIXA – OPERAÇÃO Nº 1094601–47 – PROGRAMA: EDUCAÇÃO BÁSICA DEMOCRÁTICA, COM QUALIDADE E EQUIDADE.
A11: LOCAL: MUNICIPIO DE MOGEIRO/PB
A12: BDI: 22,47%
A13: SINAPI: PB 01/2025-ORSE: SE 12/2024/PRÓPIO - PREÇOS NÃO DESONERADOS
A14: Encargos Sociais Encargos sociais SEM desoneração: Horista: 113,60% Mensalista: 69,85%
A16: PREFEITURA MUNICIPAL DE MOGEIRO/PB
A17: CONCORRÊNCIA ELETRÔNICA N° 00008/2025
A19: CÁLCULO DE BDI | C19: Construção de Edifícios | F19: Rodovias e Ferrovias - Infra Urbana, praças, calçadas, etc. | I19: Abastecimento de Água, Coleta de Esgoto | L19: Fornecimento de materiais e equipamentos | O19: Construção e Manutenção de Estações e Redes de Distribuição de Energia Elétrica | R19: Portuárias, Marítimas e Fluviais
A20: Item componente do BDI | B20: % Informado | C20: 1ºQ | D20: Médio | E20: 3º Q | F20: 1ºQ | G20: Médio | H20: 3º Q | I20: 1ºQ | J20: Médio | K20: 3º Q | L20: 1ºQ | M20: Médio | N20: 3º Q | O20: 1ºQ | P20: Médio | Q20: 3º Q | R20: 1ºQ | S20: Médio | T20: 3º Q
A21: Administração Central ( AC ) | B21: 3 | C21: 3 | D21: 4 | E21: 5.5 | F21: 3.8 | G21: 4.01 | H21: 4.67 | I21: 3.43 | J21: 4.93 | K21: 6.71 | L21: 1.5 | M21: 3.45 | N21: 4.49 | O21: 5.29 | P21: 5.92 | Q21: 7.93 | R21: 4 | S21: 5.52 | T21: 7.85
A22: Seguro (S) e Garantia (G) | B22: 0.8 | C22: 0.8 | D22: 0.8 | E22: 1 | F22: 0.32 | G22: 0.4 | H22: 0.74 | I22: 0.28 | J22: 0.49 | K22: 0.75 | L22: 0.3 | M22: 0.48 | N22: 0.82 | O22: 0.25 | P22: 0.51 | Q22: 0.56 | R22: 0.81 | S22: 1.22 | T22: 1.99
A23: Risco (R) | B23: 0.97 | C23: 0.97 | D23: 1.27 | E23: 1.27 | F23: 0.5 | G23: 0.56 | H23: 0.97 | I23: 1 | J23: 1.39 | K23: 1.74 | L23: 0.56 | M23: 0.85 | N23: 0.89 | O23: 1 | P23: 1.48 | Q23: 1.97 | R23: 1.46 | S23: 2.32 | T23: 3.16
A24: Despesas Financeiras (DF) | B24: 0.59 | C24: 0.59 | D24: 1.23 | E24: 1.39 | F24: 1.02 | G24: 1.11 | H24: 1.21 | I24: 0.94 | J24: 0.99 | K24: 1.17 | L24: 0.85 | M24: 0.85 | N24: 1.11 | O24: 1.01 | P24: 1.07 | Q24: 1.11 | R24: 0.94 | S24: 1.02 | T24: 1.33
A25: Lucro (L) | B25: 6.16 | C25: 6.16 | D25: 7.4 | E25: 8.96 | F25: 6.64 | G25: 7.3 | H25: 8.69 | I25: 6.74 | J25: 8.04 | K25: 9.4 | L25: 3.5 | M25: 5.11 | N25: 6.22 | O25: 8 | P25: 8.31 | Q25: 9.51 | R25: 7.14 | S25: 8.4 | T25: 10.43
A26: Impostos (I) - PIS, COFINS, ISSQN, CPRB | B26: =3.65+5 -> 8.65 | C26: Conforme Legislação Específica
A28: Observações | F28: VALORES DE BDI POR TIPO DE OBRA
A29: 1) Preencher apenas a coluna % Informado (Coluna B) | F29: Tipo de Obra | L29: 1ºQ | M29: Médio | N29: 3º Q
A30: 2) Os Tributos normalmente aplicáveis são: PIS (0,65%), COFINS (3,00%) e ISS(5,00%) | F30: Construção de Edifícios | L30: 20.34 | M30: 22.12 | N30: 25
A31: 3) O cálculo do BDI se baseia na fórmula abaixo utilizada pelo Acórdão 2622/13 do TCU, conforme CE GEPAD 354/2013 de 17/10/2013. | F31: Construção de Rodovias e Ferrovias - Infra Urbana, praças, etc. | L31: 19.6 | M31: 20.97 | N31: 24.23
A32: B.D.I = | B32: =ROUND(((1+(B21+B22+B23)/100)*((1+B24/100)*(1+B25/100))/(1-B26/100))-1,4) -> 0.2247 | F32: Rede de Abastecimento de Água, Coleta de Esgotos | L32: 20.76 | M32: 24.18 | N32: 26.44
A33: Fórmula Utilizada: | F33: Estações e Redes de Distribuição de Energia Elétrica | L33: 24 | M33: 25.84 | N33: 27.86
F34: Obras Portuárias, Marítimas e Fluviais | L34: 22.8 | M34: 27.48 | N34: 30.95
F35: Fornecimento de Materiais e Equipamentos | L35: 11.1 | M35: 14.02 | N35: 16.8
A40: Observações sobre os % informados no cálculo do BDI, neste caso:
A41: OBRAS DE REDES DE ÁGUA E ESGOTO
A42: OS VALORES % INFORMADO ENQUADRAM-SE NOS LIMITES DO ACÓRDÃO 2622/2013-TCU-PLENÁRIO
A43: OS VALORES % INFORMADO DE AC,DF E L ESTÃO NOS VALORES MÁXIMOS DOS LIMITES DO ACÓRDÃO 2622/2013-TCU-PLENÁRIO
A44: OS VALORES % INFORMADO DE S+G E R FORAM CONSIDERADOS ZERADOS OU SEJA, ABAIXO DO MÍNIMO DOS LIMITES DO ACÓRDÃO 2622/2013-TCU-PLENÁRIO

Sheet ENCARGOS SOCIAIS 
F1: R & S ENGENHARIA E CONSULTORIA
G3: CNPJ: 30.836.850/0001-95
G4: Endereço: Rua Euclides Magno Bacalhau, n° 195, Centro, Ingá – PB
G5: Telefone: (83) 9 9806-7435
G6: E-mail: resengenhariaeconsultoria@outlook.com
A9: ENCARGOS SOCIAIS
A11: OBRA: CONTRATAÇÃO DE EMPRESA ESPECIALIZADA PARA EXECUÇÃO DE ESCOLA COM 13 SALAS – TÉRREO, NO MUNICÍPIO DE MOGEIRO –PB, CONFORME TERMO DE COMPROMISSO Nº 960784/2024/FNDE/CAIXA – OPERAÇÃO Nº 1094601–47 – PROGRAMA: EDUCAÇÃO BÁSICA DEMOCRÁTICA, COM QUALIDADE E EQUIDADE.
A12: LOCAL: MUNICIPIO DE MOGEIRO/PB
A13: BDI: 22,47%
A14: Encargos Sociais Encargos sociais SEM desoneração: Horista: 113,60% Mensalista: 69,85%
A15: Descrição: Encargos Complementares Inclusos Nos Serviços
A17: PREFEITURA MUNICIPAL DE MOGEIRO/PB
A18: CONCORRÊNCIA ELETRÔNICA N° 00008/2025
A21: COD | C21: DESCRIÇÃO | I21: HORA% | K21: MÊS%
A23: A | C23: GRUPO A
A24: A1 | C24: INSS | I24: 20 | K24: 20
A25: A2 | C25: SESI | I25: 1.5 | K25: 1.5
A26: A3 | C26: SENAI | I26: 1 | K26: 1
A27: A4 | C27: INCRA | I27: 0.2 | K27: 0.2
A28: A5 | C28: SEBRAE | I28: 0.6 | K28: 0.6
A29: A6 | C29: Salário Educação | I29: 2.5 | K29: 2.5
A30: A7 | C30: Seguro Contra Acidentes de Trabalho | I30: 3 | K30: 3
A31: A8 | C31: FGTS | I31: 8 | K31: 8
A32: A9 | C32: SECONCI | I32: 0 | K32: 0
C33: TOTAL | I33: =SUM(I32,I31,I30,I29,I28,I27,I26,I25,I24) -> 36.8 | K33: =SUM(K32,K31,K30,K29,K28,K27,K26,K25,K24) -> 36.8
A35: B | C35: GRUPO B
A36: B1 | C36: Repouso Semanal Remunerado | I36: 18.02 | K36: Não Incide
A37: B2 | C37: Feriados | I37: 4.31 | K37: Não Incide
A38: B3 | C38: Auxilio - Enfermidade | I38: 0.86 | K38: 0.65
A39: B4 | C39: 13º Salário | I39: 10.96 | K39: 8.33
A40: B5 | C40: Licença Paternidade | I40: 0.07 | K40: 0.05
A41: B6 | C41: Faltas Justificadas | I41: 0.73 | K41: 0.56
A42: B7 | C42: Dias de Chuvas | I42: 2.04 | K42: Não Incide
A43: B8 | C43: Auxilio Acidente de Trabalho | I43: 0.1 | K43: 0.07
A44: B9 | C44: Férias Gozadas | I44: 9.76 | K44: 7.42
A45: B10 | C45: Salário Maternidade | I45: 0.03 | K45: 0.03
C46: TOTAL | I46: =SUM(I45,I44,I43,I42,I41,I40,I39,I38,I37,I36) -> 46.88 | K46: =SUM(K45,K44,K43,K42,K41,K40,K39,K38,K37,K36) -> 17.11
A48: C | C48: GRUPO C
A49: C1 | C49: Aviso Prévio Indenizado | I49: 4.53 | K49: 3.45
A50: C2 | C50: Aviso Prévio Trabalhado | I50: 0.11 | K50: 0.08
...

Sheet COMPOSIÇÕES - SINAPI
E1: R & S ENGENHARIA E CONSULTORIA
F3: CNPJ: 30.836.850/0001-95
G4: Endereço: Rua Euclides Magno Bacalhau, n° 195, Centro, Ingá – PB
G5: Telefone: (83) 9 9806-7435
G6: E-mail: resengenhariaeconsultoria@outlook.com
A10: OBRA: CONTRATAÇÃO DE EMPRESA ESPECIALIZADA PARA EXECUÇÃO DE ESCOLA COM 13 SALAS – TÉRREO, NO MUNICÍPIO DE MOGEIRO –PB, CONFORME TERMO DE COMPROMISSO Nº 960784/2024/FNDE/CAIXA – OPERAÇÃO Nº 1094601–47 – PROGRAMA: EDUCAÇÃO BÁSICA DEMOCRÁTICA, COM QUALIDADE E EQUIDADE.
A11: LOCAL: MUNICIPIO DE MOGEIRO/PB
A12: BDI: 22,47% | C12: SINAPI: PB 01/2025-ORSE: SE 12/2024/PRÓPIO - PREÇOS NÃO DESONERADOS
A13: Encargos Sociais Encargos sociais SEM desoneração: Horista: 113,60% Mensalista: 69,85%
A16: PREFEITURA MUNICIPAL DE MOGEIRO/PB
A17: CONCORRÊNCIA ELETRÔNICA N° 00008/2025
A19: COMPOSIÇÕES - SINAPI
B20: Código | C20: Banco | D20: Descrição | E20: Tipo | G20: Und | H20: Quant. | I20: Valor Unit | J20: Total
A21: Composição | B21: 103689 | C21: SINAPI | D21: FORNECIMENTO E INSTALAÇÃO DE PLACA DE OBRA COM CHAPA GALVANIZADA E ESTRUTURA DE MADEIRA. AF_03/2022_PS | E21: PAVI - PAVIMENTAÇÃO | G21: m² | H21: 1 | I21: 459.22 | J21: 459.22
A22: Composição Auxiliar | B22: 88316 | C22: SINAPI | D22: SERVENTE COM ENCARGOS COMPLEMENTARES | E22: SEDI - SERVIÇOS DIVERSOS | G22: H | H22: 1.1186 | I22: 18.67 | J22: 20.88
A23: Composição Auxiliar | B23: 102234 | C23: SINAPI | D23: PINTURA IMUNIZANTE PARA MADEIRA, 2 DEMÃOS. AF_01/2021 | E23: PINT - PINTURAS | G23: m² | H23: 0.5 | I23: 22.01 | J23: 11
A24: Composição Auxiliar | B24: 88262 | C24: SINAPI | D24: CARPINTEIRO DE FORMAS COM ENCARGOS COMPLEMENTARES | E24: SEDI - SERVIÇOS DIVERSOS | G24: H | H24: 0.3729 | I24: 22.51 | J24: 8.39
A25: Insumo | B25: 00005069 | C25: SINAPI | D25: PREGO DE ACO POLIDO COM CABECA 17 X 27 (2 1/2 X 11) | E25: Material | G25: KG | H25: 0.0132 | I25: 20.74 | J25: 0.27
A26: Insumo | B26: 00005065 | C26: SINAPI | D26: PREGO DE ACO POLIDO COM CABECA 10 X 10 (7/8 X 17) | E26: Material | G26: KG | H26: 0.0113 | I26: 38.7 | J26: 0.43
A27: Insumo | B27: 00004509 | C27: SINAPI | D27: SARRAFO *2,5 X 10* CM EM PINUS, MISTA OU EQUIVALENTE DA REGIAO - BRUTA | E27: Material | G27: M | H27: 3.2083 | I27: 5.69 | J27: 18.25
A28: Insumo | B28: 00004813 | C28: SINAPI | D28: PLACA DE OBRA (PARA CONSTRUCAO CIVIL) EM CHAPA GALVANIZADA *N. 22*, ADESIVADA, DE *2,4 X 1,2* M (SEM POSTES PARA FIXACAO) | E28: Material | G28: M² | H28: 1 | I28: 400 | J28: 400
B32: Código | C32: Banco | D32: Descrição | E32: Tipo | G32: Und | H32: Quant. | I32: Valor Unit | J32: Total
A33: Composição | B33: 98459 | C33: SINAPI | D33: TAPUME COM TELHA METÁLICA. AF_03/2024 | E33: CANT - CANTEIRO DE OBRAS | G33: m² | H33: 1 | I33: 89.91 | J33: 89.91
A34: Composição Auxiliar | B34: 91693 | C34: SINAPI | D34: SERRA CIRCULAR DE BANCADA COM MOTOR ELÉTRICO POTÊNCIA DE 5HP, COM COIFA PARA DISCO 10" - CHI DIURNO. AF_08/2015 | E34: CHOR - CUSTOS HORÁRIOS DE MÁQUINAS E EQUIPAMENTOS | G34: CHI | H34: 0.0264 | I34: 21.82 | J34: 0.57
A35: Composição Auxiliar | B35: 91692 | C35: SINAPI | D35: SERRA CIRCULAR DE BANCADA COM MOTOR ELÉTRICO POTÊNCIA DE 5HP, COM COIFA PARA DISCO 10" - CHP DIURNO. AF_08/2015 | E35: CHOR - CUSTOS HORÁRIOS DE MÁQUINAS E EQUIPAMENTOS | G35: CHP | H35: 0.0066 | I35: 22.89 | J35: 0.15
A36: Composição Auxiliar | B36: 88239 | C36: SINAPI | D36: AJUDANTE DE CARPINTEIRO COM ENCARGOS COMPLEMENTARES | E36: SEDI - SERVIÇOS DIVERSOS | G36: H | H36: 0.492 | I36: 19.22 | J36: 9.45
A37: Composição Auxiliar | B37: 88262 | C37: SINAPI | D37: CARPINTEIRO DE FORMAS COM ENCARGOS COMPLEMENTARES | E37: SEDI - SERVIÇOS DIVERSOS | G37: H | H37: 0.735 | I37: 22.51 | J37: 16.54
A38: Composição Auxiliar | B38: 94974 | C38: SINAPI | D38: CONCRETO MAGRO PARA LASTRO, TRAÇO 1:4,5:4,5 (EM MASSA SECA DE CIMENTO/ AREIA MÉDIA/ BRITA 1) - PREPARO MANUAL. AF_05/2021 | E38: FUES - FUNDAÇÕES E ESTRUTURAS | G38: m³ | H38: 0.0061 | I38: 446.55 | J38: 2.72
A39: Insumo | B39: 00005061 | C39: SINAPI | D39: PREGO DE ACO POLIDO COM CABECA 18 X 27 (2 1/2 X 10) | E39: Material | G39: KG | H39: 0.068 | I39: 20 | J39: 1.36
A40: Insumo | B40: 00004491 | C40: SINAPI | D40: PONTALETE *7,5 X 7,5* CM EM PINUS, MISTA OU EQUIVALENTE DA REGIAO - BRUTA | E40: Material | G40: M | H40: 1.2273 | I40: 11.21 | J40: 13.75
A41: Insumo | B41: 00006194 | C41: SINAPI | D41: TABUA *2,5 X 15 CM EM PINUS, MISTA OU EQUIVALENTE DA REGIAO - BRUTA | E41: Material | G41: M | H41: 2 | I41: 8 | J41: 16
A42: Insumo | B42: 00007243 | C42: SINAPI | D42: TELHA TRAPEZOIDAL EM ACO ZINCADO, SEM PINTURA, ALTURA DE APROXIMADAMENTE 40 MM, ESPESSURA DE 0,50 MM E LARGURA UTIL DE 980 MM | E42: Material | G42: M² | H42: 0.5853 | I42: 50.19 | J42: 29.37
B46: Código | C46: Banco | D46: Descrição | E46: Tipo | G46: Und | H46: Quant. | I46: Valor Unit | J46: Total
A47: Composição | B47: 101509 | C47: SINAPI | D47: ENTRADA DE ENERGIA ELÉTRICA, AÉREA, TRIFÁSICA, COM CAIXA DE EMBUTIR, CABO DE 10 MM2 E DISJUNTOR DIN 50A (NÃO INCLUSO O POSTE DE CONCRETO). AF_07/2020 | E47: INEL - INSTALAÇÃO ELÉTRICA/ELETRIFICAÇÃO E ILUMINAÇÃO EXTERNA | G47: UN | H47: 1 | I47: 1879.98 | J47: 1879.98
A48: Composição Auxiliar | B48: 91885 | C48: SINAPI | D48: LUVA PARA ELETRODUTO, PVC, ROSCÁVEL, DN 32 MM (1"), PARA CIRCUITOS TERMINAIS, INSTALADA EM PAREDE - FORNECIMENTO E INSTALAÇÃO. AF_03/2023 | E48: INEL - INSTALAÇÃO ELÉTRICA/ELETRIFICAÇÃO E ILUMINAÇÃO EXTERNA | G48: UN | H48: 1 | I48: 10.26 | J48: 10.26
A49: Composição Auxiliar | B49: 96977 | C49: SINAPI | D49: CORDOALHA DE COBRE NU 50 MM², ENTERRADA - FORNECIMENTO E INSTALAÇÃO. AF_08/2023 | E49: INEL - INSTALAÇÃO ELÉTRICA/ELETRIFICAÇÃO E ILUMINAÇÃO EXTERNA | G49: M | H49: 1.95 | I49: 66.33 | J49: 129.34
A50: Composição Auxiliar | B50: 87367 | C50: SINAPI | D50: ARGAMASSA TRAÇO 1:1:6 (EM VOLUME DE CIMENTO, CAL E AREIA MÉDIA ÚMIDA) PARA EMBOÇO/MASSA ÚNICA/ASSENTAMENTO DE ALVENARIA DE VEDAÇÃO, PREPARO MANUAL. AF_08/2019 | E50: SEDI - SERVIÇOS DIVERSOS | G50: m³ | H50: 0.0194 | I50: 681.09 | J50: 13.21
A51: Composição Auxiliar | B51: 91872 | C51: SINAPI | D51: ELETRODUTO RÍGIDO ROSCÁVEL, PVC, DN 32 MM (1"), PARA CIRCUITOS TERMINAIS, INSTALADO EM PAREDE - FORNECIMENTO E INSTALAÇÃO. AF_03/2023 | E51: INEL - INSTALAÇÃO ELÉTRICA/ELETRIFICAÇÃO E ILUMINAÇÃO EXTERNA | G51: M | H51: 6.05 | I51: 16.57 | J51: 100.24
A52: Composição Auxiliar | B52: 88264 | C52: SINAPI | D52: ELETRICISTA COM ENCARGOS COMPLEMENTARES | E52: SEDI - SERVIÇOS DIVERSOS | G52: H | H52: 2.9102 | I52: 23.42 | J52: 68.15
A53: Composição Auxiliar | B53: 88247 | C53: SINAPI | D53: AUXILIAR DE ELETRICISTA COM ENCARGOS COMPLEMENTARES | E53: SEDI - SERVIÇOS DIVERSOS | G53: H | H53: 0.3233 | I53: 19.78 | J53: 6.39
...

Sheet COMPOSIÇÕES - FNDE
B1: R & S ENGENHARIA E CONSULTORIA
C3: CNPJ: 30.836.850/0001-95
D4: Endereço: Rua Euclides Magno Bacalhau, n° 195, Centro, Ingá – PB
D5: Telefone: (83) 9 9806-7435
D6: E-mail: resengenhariaeconsultoria@outlook.com
A10: OBRA: CONTRATAÇÃO DE EMPRESA ESPECIALIZADA PARA EXECUÇÃO DE ESCOLA COM 13 SALAS – TÉRREO, NO MUNICÍPIO DE MOGEIRO –PB, CONFORME TERMO DE COMPROMISSO Nº 960784/2024/FNDE/CAIXA – OPERAÇÃO Nº 1094601–47 – PROGRAMA: EDUCAÇÃO BÁSICA DEMOCRÁTICA, COM QUALIDADE E EQUIDADE.
A11: LOCAL: MUNICIPIO DE MOGEIRO/PB
A12: BDI: 22,47%
A13: SINAPI: PB 01/2025-ORSE: SE 12/2024/PRÓPIO - PREÇOS NÃO DESONERADOS
A14: Encargos Sociais Encargos sociais SEM desoneração: Horista: 113,60% Mensalista: 69,85%
A16: PREFEITURA MUNICIPAL DE MOGEIRO/PB
A17: CONCORRÊNCIA ELETRÔNICA N° 00008/2025
A19: COMPOSIÇÕES - PRÓPRIAS
A21: FNDE 03 LIGAÇÃO PROVISÓRIA DE ÁGUA E ESGOTO (UN)
A22: Material | C22: FONTE | D22: UNID | E22: COEFICIENTE | F22: PREÇO UNITÁRIO | G22: TOTAL
A23: 370 | B23: AREIA MEDIA - POSTO JAZIDA/FORNECEDOR (RETIRADO NA JAZIDA, SEM TRANSPORTE) - Percentual=1,0000% | C23: SINAPI | D23: M3 | E23: 0.02 | F23: 75 | G23: =F23*E23 -> 1.5
A24: 00010420 | B24: BACIA SANITARIA (VASO) CONVENCIONAL, DE LOUCA BRANCA, SIFAO APARENTE, SAIDA VERTICAL (SEM ASSENTO) - Percentual=1,0000% | C24: SINAPI | D24: UN | E24: 1 | F24: 198.76 | G24: =F24*E24 -> 198.76
A25: 00011868 | B25: CAIXA D'AGUA / RESERVATORIO EM POLIESTER REFORCADO COM FIBRA DE VIDRO,1000 LITROS, COM TAMPA - Percentual=1,0000% | C25: SINAPI | D25: UN | E25: 1 | F25: 616.74 | G25: =F25*E25 -> 616.74
A26: 00020247 | B26: PREGO DE ACO POLIDO COM CABECA 15 X 15 (1 1/4 X 13) - Percentual=1,0000% | C26: SINAPI | D26: KG | E26: 1 | F26: 16.05 | G26: =F26*E26 -> 16.05
A27: 00020205 | B27: RIPA APARELHADA *1,5 X 5* CM, EM MACARANDUBA/MASSARANDUBA, ANGELIM OU EQUIVALENTE DA REGIAO - Percentual=1,0000% | C27: SINAPI | D27: M | E27: 8 | F27: 4.12 | G27: =F27*E27 -> 32.96
A28: 00021009 | B28: TUBO ACO GALVANIZADO COM COSTURA, CLASSE LEVE, DN 20 MM ( 3/4"), E = 2,25 MM, *1,3* KG/M (NBR 5580) - Percentual=1,0000% | C28: SINAPI | D28: M | E28: 30 | F28: 24.09 | G28: =F28*E28 -> 722.7
A29: 00009841 | B29: TUBO PVC, SERIE R, DN 100 MM, PARA ESGOTO OU AGUAS PLUVIAIS PREDIAL (NBR 5688) - Percentual=1,0000% | C29: SINAPI | D29: M | E29: 5 | F29: 21.197 | G29: =F29*E29 -> 105.985
A30: 00009841 | B30: TUBO PVC, SERIE R, DN 100 MM, PARA ESGOTO OU AGUAS PLUVIAIS PREDIAL (NBR 5688) - Percentual=1,0000% | C30: SINAPI | D30: M | E30: 5 | F30: =F29 -> 21.197 | G30: =F30*E30 -> 105.985
E31: TOTAL Material: | G31: =SUM(G23:G30) -> 1800.68
A32: Mão de Obra com Encargos Complementares | C32: FONTE | D32: UNID | E32: COEFICIENTE | F32: PREÇO UNITÁRIO | G32: TOTAL
A33: 88248 | B33: AUXILIAR DE ENCANADOR OU BOMBEIRO HIDRÁULICO COM ENCARGOS COMPLEMENTARES - Percentual=1,0000% | C33: SINAPI | D33: H | E33: 4 | F33: 29.77 | G33: =F33*E33 -> 119.08
A34: 88267 | B34: ENCANADOR OU BOMBEIRO HIDRÁULICO COM ENCARGOS COMPLEMENTARES - Percentual=1,0000% | C34: SINAPI | D34: H | E34: 8 | F34: 35.69 | G34: =F34*E34 -> 285.52
A35: 88309 | B35: PEDREIRO COM ENCARGOS COMPLEMENTARES - Percentual=1,0000% | C35: SINAPI | D35: H | E35: 8 | F35: 32.57 | G35: =F35*E35 -> 260.56
A36: 88316 | B36: SERVENTE COM ENCARGOS COMPLEMENTARES - Percentual=1,0000% | C36: SINAPI | D36: H | E36: 8.12 | F36: 28.17 | G36: =F36*E36 -> 228.7404
E37: TOTAL Mão de Obra com Encargos Complementares: | G37: =SUM(G33:G36) -> 893.9004
A38: Serviço | C38: FONTE | D38: UNID | E38: COEFICIENTE | F38: PREÇO UNITÁRIO | G38: TOTAL
A39: 92273 | B39: FABRICAÇÃO DE ESCORAS DO TIPO PONTALETE, EM MADEIRA, PARA PÉ-DIREITO SIMPLES. AF_09/2020 - Percentual=1,0000% | C39: SINAPI | D39: M | E39: 17 | F39: 15.21 | G39: =F39*E39 -> 258.57
E40: TOTAL Serviço: | G40: =G39 -> 258.57
E41: VALOR: | G41: =SUM(G40,G37,G31) -> 2953.1504
A43: FNDE 52 ADMINISTRAÇÃO LOCAL (UN)
A44: Mão de Obra com Encargos Complementares | C44: FONTE | D44: UNID | E44: COEFICIENTE | F44: PREÇO UNITÁRIO | G44: TOTAL
A45: 93563 | B45: ALMOXARIFE COM ENCARGOS COMPLEMENTARES | C45: SINAPI | D45: MES | E45: 14 | F45: 6499.084 | G45: =F45*E45 -> 90987.176
A46: 93572 | B46: ENCARREGADO GERAL DE OBRAS COM ENCARGOS COMPLEMENTARES | C46: SINAPI | D46: MES | E46: 14 | F46: 8369.11 | G46: =F46*E46 -> 117167.54
A47: 93565 | B47: ENGENHEIRO CIVIL DE OBRA JUNIOR COM ENCARGOS COMPLEMENTARES | C47: SINAPI | D47: MES | E47: 7 | F47: 21240.35 | G47: =F47*E47 -> 148682.45
A48: 94295 | B48: MESTRE DE OBRAS COM ENCARGOS COMPLEMENTARES | C48: SINAPI | D48: MES | E48: 14 | F48: 13327.43 | G48: =F48*E48 -> 186584.02
...
