Workbook

Sheet Orçamento Sintético
D1: CONSTRUTORA SOUSA CAMPOS: 19.175.657/0001-18 | E1: Bancos | G1: B.D.I. | I1: Encargos Sociais
D2: OBRA: CONTRATAÇÃO DE EMPRESA PARA CONSTRUÇÃO DE UMA ESCOLA COM 06 (SEIS) SALAS DE AULA NO MUNICÍPIO DE MOGEIRO–PB | E2: SINAPI - 04/2023 SBC - 05/2023 ORSE - 05/2023 SEINFRA - 05/2021 | G2: 22,47% | I2: ORSE 111,93 / 71,07 SBC 113,45 / - SEINFRA 112,76 / 71,07 SINAPI 113,42 / 69,75 PROPRIA
A3: PLANILHA ORÇAMENTÁRIA | K3: FEVEREIRO - MEDIÇÃO 01 | Q3: MARÇO/ABRIL - MEDIÇÃO 02 | W3: MAIO - MEDIÇÃO 03 | AE3: JUNHO - MEDIÇÃO 03
A4: Item | B4: Código | C4: Banco | D4: Descrição | E4: Und | F4: Quant. | G4: Valor Unit | H4: Valor Unit com BDI | I4: Total | J4: Peso (%) | K4: MEDIÇÃO | M4: ACUMULADO | O4: SALDO | Q4: MEDIÇÃO | S4: ACUMULADO | U4: SALDO | W4: META | Y4: MEDIÇÃO | AA4: ACUMULADO | AC4: SALDO | AE4: META | AG4: MEDIÇÃO | AI4: ACUMULADO | AK4: SALDO
K5: QUANT. | L5: VALOR | M5: UNIDADE | N5: % | O5: UNIDADE | P5: VALOR | Q5: QUANT. | R5: VALOR | S5: UNIDADE | T5: % | U5: UNIDADE | V5: VALOR | W5: QUANT. | X5: VALOR | Y5: QUANT. | Z5: VALOR | AA5: UNIDADE | AB5: % | AC5: UNIDADE | AD5: VALOR | AE5: QUANT. | AF5: VALOR | AG5: QUANT. | AH5: VALOR | AI5: UNIDADE | AJ5: % | AK5: UNIDADE | AL5: VALOR
A6: 1 | D6: SERVIÇOS PRELIMINARES | I6: 73151.73 | J6: 0.05221394 | L6: =SUM(L7:L16) -> 53166.7 | P6: =SUM(P7:P16) -> 19985.034 | V6: =SUM(V7:V16) -> 2684.739 | AD6: =SUM(AD7:AD16) -> 2684.739 | AL6: =SUM(AL7:AL16) -> 2684.739
A7: 1.1 | B7: 51 | C7: ORSE | D7: Placa de obra em chapa aço galvanizado, instalada - Rev 02_01/2022 | E7: m² | F7: 10 | G7: 254.25 | H7: 311.37 | I7: 3113.7 | J7: 0.0022224839 | K7: 10 | L7: =K7*H7 -> 3113.7 | M7: =K7 -> 10 | N7: =M7/F7 -> 1 | O7: =F7-M7 -> 0 | P7: =O7*H7 -> 0 | R7: =Q7*H7 -> 0 | S7: =M7+Q7 -> 10 | T7: =S7/$F$8 -> 0.056818182 | U7: =F7-S7 -> 0 | V7: =U7*H7 -> 0 | X7: =W7*H7 -> 0 | AA7: =S7+Y7 -> 10 | AB7: =AA7/$F$8 -> 0.056818182 | AC7: =F7-AA7 -> 0 | AD7: =AC7*H7 -> 0 | AF7: =AE7*P7 -> 0 | AI7: =AA7+AG7 -> 10 | AJ7: =AI7/$F$8 -> 0.056818182 | AK7: =F7-AI7 -> 0 | AL7: =AK7*H7 -> 0
A8: 1.2 | B8: 98458 | C8: SINAPI | D8: TAPUME COM COMPENSADO DE MADEIRA. AF_05/2018 | E8: m² | F8: 176 | G8: 75.78 | H8: 92.8 | I8: 16332.8 | J8: 0.011657959 | K8: 176 | L8: =K8*H8 -> 16332.8 | M8: =K8 -> 176 | N8: =M8/F8 -> 1 | O8: =F8-M8 -> 0 | P8: =O8*H8 -> 0 | R8: =Q8*H8 -> 0 | S8: =M8+Q8 -> 176 | T8: =S8/$F$8 -> 1 | U8: =F8-S8 -> 0 | V8: =U8*H8 -> 0 | X8: =W8*H8 -> 0 | AA8: =S8+Y8 -> 176 | AB8: =AA8/$F$8 -> 1 | AC8: =F8-AA8 -> 0 | AD8: =AC8*H8 -> 0 | AF8: =AE8*P8 -> 0 | AI8: =AA8+AG8 -> 176 | AJ8: =AI8/$F$8 -> 1 | AK8: =F8-AI8 -> 0 | AL8: =AK8*H8 -> 0
A9: 1.3 | B9: C2850 | C9: SEINFRA | D9: INSTALAÇÕES PROVISÓRIAS DE LUZ , FORÇA,TELEFONE E LÓGICA | E9: UN | F9: 1 | G9: 931.54 | H9: 1140.85 | I9: 1140.85 | J9: 0.00081431121 | L9: =K9*H9 -> 0 | M9: =K9 -> 0 | N9: =M9/F9 -> 0 | O9: =F9-M9 -> 1 | P9: =O9*H9 -> 1140.85 | Q9: 1 | R9: =Q9*H9 -> 1140.85 | S9: =M9+Q9 -> 1 | T9: =S9/$F$8 -> 0.0056818182 | U9: =F9-S9 -> 0 | V9: =U9*H9 -> 0 | X9: =W9*H9 -> 0 | AA9: =S9+Y9 -> 1 | AB9: =AA9/$F$8 -> 0.0056818182 | AC9: =F9-AA9 -> 0 | AD9: =AC9*H9 -> 0 | AF9: =AE9*P9 -> 0 | AI9: =AA9+AG9 -> 1 | AJ9: =AI9/$F$8 -> 0.0056818182 | AK9: =F9-AI9 -> 0 | AL9: =AK9*H9 -> 0
A10: 1.4 | B10: 93214 | C10: SINAPI | D10: EXECUÇÃO DE RESERVATÓRIO ELEVADO DE ÁGUA (1000 LITROS) EM CANTEIRO DE OBRA, APOIADO EM ESTRUTURA DE MADEIRA. AF_02/2016_PA | E10: UN | F10: 1 | G10: 3683.51 | H10: 4511.19 | I10: 4511.19 | J10: 0.0032199786 | L10: =K10*H10 -> 0 | M10: =K10 -> 0 | N10: =M10/F10 -> 0 | O10: =F10-M10 -> 1 | P10: =O10*H10 -> 4511.19 | Q10: 1 | R10: =Q10*H10 -> 4511.19 | S10: =M10+Q10 -> 1 | T10: =S10/$F$8 -> 0.0056818182 | U10: =F10-S10 -> 0 | V10: =U10*H10 -> 0 | X10: =W10*H10 -> 0 | AA10: =S10+Y10 -> 1 | AB10: =AA10/$F$8 -> 0.0056818182 | AC10: =F10-AA10 -> 0 | AD10: =AC10*H10 -> 0 | AF10: =AE10*P10 -> 0 | AI10: =AA10+AG10 -> 1 | AJ10: =AI10/$F$8 -> 0.0056818182 | AK10: =F10-AI10 -> 0 | AL10: =AK10*H10 -> 0
A11: 1.5 | B11: C2832 | C11: SEINFRA | D11: FOSSA SÉPTICA E SUMIDOURO EM ALVENARIA | E11: UN | F11: 1 | G11: 3590.77 | H11: 4397.61 | I11: 4397.61 | J11: 0.0031389079 | L11: =K11*H11 -> 0 | M11: =K11 -> 0 | N11: =M11/F11 -> 0 | O11: =F11-M11 -> 1 | P11: =O11*H11 -> 4397.61 | Q11: 1 | R11: =Q11*H11 -> 4397.61 | S11: =M11+Q11 -> 1 | T11: =S11/$F$8 -> 0.0056818182 | U11: =F11-S11 -> 0 | V11: =U11*H11 -> 0 | X11: =W11*H11 -> 0 | AA11: =S11+Y11 -> 1 | AB11: =AA11/$F$8 -> 0.0056818182 | AC11: =F11-AA11 -> 0 | AD11: =AC11*H11 -> 0 | AF11: =AE11*P11 -> 0 | AI11: =AA11+AG11 -> 1 | AJ11: =AI11/$F$8 -> 0.0056818182 | AK11: =F11-AI11 -> 0 | AL11: =AK11*H11 -> 0
A12: 1.6 | B12: 93212 | C12: SINAPI | D12: EXECUÇÃO DE SANITÁRIO E VESTIÁRIO EM CANTEIRO DE OBRA EM CHAPA DE MADEIRA COMPENSADA, NÃO INCLUSO MOBILIÁRIO. AF_02/2016 | E12: m² | F12: 2.52 | G12: 679.04 | H12: 831.62 | I12: 2095.68 | J12: 0.0014958458 | L12: =K12*H12 -> 0 | M12: =K12 -> 0 | N12: =M12/F12 -> 0 | O12: =F12-M12 -> 2.52 | P12: =O12*H12 -> 2095.6824 | Q12: 2.52 | R12: =Q12*H12 -> 2095.6824 | S12: =M12+Q12 -> 2.52 | T12: =S12/$F$8 -> 0.014318182 | U12: =F12-S12 -> 0 | V12: =U12*H12 -> 0 | X12: =W12*H12 -> 0 | AA12: =S12+Y12 -> 2.52 | AB12: =AA12/$F$8 -> 0.014318182 | AC12: =F12-AA12 -> 0 | AD12: =AC12*H12 -> 0 | AF12: =AE12*P12 -> 0 | AI12: =AA12+AG12 -> 2.52 | AJ12: =AI12/$F$8 -> 0.014318182 | AK12: =F12-AI12 -> 0 | AL12: =AK12*H12 -> 0
A13: 1.7 | B13: 93207 | C13: SINAPI | D13: EXECUÇÃO DE ESCRITÓRIO EM CANTEIRO DE OBRA EM CHAPA DE MADEIRA COMPENSADA, NÃO INCLUSO MOBILIÁRIO E EQUIPAMENTOS. AF_02/2016 | E13: m² | F13: 20 | G13: 729.35 | H13: 893.23 | I13: 17864.6 | J13: 0.01275132 | K13: 20 | L13: =K13*H13 -> 17864.6 | M13: =K13 -> 20 | N13: =M13/F13 -> 1 | O13: =F13-M13 -> 0 | P13: =O13*H13 -> 0 | R13: =Q13*H13 -> 0 | S13: =M13+Q13 -> 20 | T13: =S13/$F$8 -> 0.11363636 | U13: =F13-S13 -> 0 | V13: =U13*H13 -> 0 | X13: =W13*H13 -> 0 | AA13: =S13+Y13 -> 20 | AB13: =AA13/$F$8 -> 0.11363636 | AC13: =F13-AA13 -> 0 | AD13: =AC13*H13 -> 0 | AF13: =AE13*P13 -> 0 | AI13: =AA13+AG13 -> 20 | AJ13: =AI13/$F$8 -> 0.11363636 | AK13: =F13-AI13 -> 0 | AL13: =AK13*H13 -> 0
A14: 1.8 | B14: 93584 | C14: SINAPI | D14: EXECUÇÃO DE DEPÓSITO EM CANTEIRO DE OBRA EM CHAPA DE MADEIRA COMPENSADA, NÃO INCLUSO MOBILIÁRIO. AF_04/2016 | E14: m² | F14: 20 | G14: 598.34 | H14: 732.78 | I14: 14655.6 | J14: 0.010460814 | K14: 20 | L14: =K14*H14 -> 14655.6 | M14: =K14 -> 20 | N14: =M14/F14 -> 1 | O14: =F14-M14 -> 0 | P14: =O14*H14 -> 0 | R14: =Q14*H14 -> 0 | S14: =M14+Q14 -> 20 | T14: =S14/$F$8 -> 0.11363636 | U14: =F14-S14 -> 0 | V14: =U14*H14 -> 0 | X14: =W14*H14 -> 0 | AA14: =S14+Y14 -> 20 | AB14: =AA14/$F$8 -> 0.11363636 | AC14: =F14-AA14 -> 0 | AD14: =AC14*H14 -> 0 | AF14: =AE14*P14 -> 0 | AI14: =AA14+AG14 -> 20 | AJ14: =AI14/$F$8 -> 0.11363636 | AK14: =F14-AI14 -> 0 | AL14: =AK14*H14 -> 0
A15: 1.9 | B15: C1630 | C15: SEINFRA | D15: LOCAÇÃO DA OBRA - EXECUÇÃO DE GABARITO | E15: m² | F15: 1129.64 | G15: 5.67 | H15: 6.94 | I15: 7839.7 | J15: 0.0055957887 | L15: =K15*H15 -> 0 | M15: =K15 -> 0 | N15: =M15/F15 -> 0 | O15: =F15-M15 -> 1129.64 | P15: =O15*H15 -> 7839.7016 | Q15: 742.79 | R15: =Q15*H15 -> 5154.9626 | S15: =M15+Q15 -> 742.79 | T15: =S15/$F$8 -> 4.2203977 | U15: =F15-S15 -> 386.85 | V15: =U15*H15 -> 2684.739 | X15: =W15*H15 -> 0 | AA15: =S15+Y15 -> 742.79 | AB15: =AA15/$F$8 -> 4.2203977 | AC15: =F15-AA15 -> 386.85 | AD15: =AC15*H15 -> 2684.739 | AF15: =AE15*P15 -> 0 | AI15: =AA15+AG15 -> 742.79 | AJ15: =AI15/$F$8 -> 4.2203977 | AK15: =F15-AI15 -> 386.85 | AL15: =AK15*H15 -> 2684.739
A16: 1.10 | B16: 98525 | C16: SINAPI | D16: LIMPEZA MECANIZADA DE CAMADA VEGETAL, VEGETAÇÃO E PEQUENAS ÁRVORES (DIÂMETRO DE TRONCO MENOR QUE 0,20 M), COM TRATOR DE ESTEIRAS.AF_05/2018 | E16: m² | F16: 4000 | G16: 0.25 | H16: 0.3 | I16: 1200 | J16: 0.00085653105 | K16: 4000 | L16: =K16*H16 -> 1200 | M16: =K16 -> 4000 | N16: =M16/F16 -> 1 | O16: =F16-M16 -> 0 | P16: =O16*H16 -> 0 | R16: =Q16*H16 -> 0 | S16: =M16+Q16 -> 4000 | T16: =S16/$F$8 -> 22.727273 | U16: =F16-S16 -> 0 | V16: =U16*H16 -> 0 | X16: =W16*H16 -> 0 | AA16: =S16+Y16 -> 4000 | AB16: =AA16/$F$8 -> 22.727273 | AC16: =F16-AA16 -> 0 | AD16: =AC16*H16 -> 0 | AF16: =AE16*P16 -> 0 | AI16: =AA16+AG16 -> 4000 | AJ16: =AI16/$F$8 -> 22.727273 | AK16: =F16-AI16 -> 0 | AL16: =AK16*H16 -> 0
A17: 2 | D17: MOVIMENTO DE TERRAS PARA FUNDAÇÕES | I17: 31327.78 | J17: 0.022361014 | P17: =SUM(P18:P21) -> 31327.807 | V17: =SUM(V18:V21) -> 22239.999 | AD17: =SUM(AD18:AD21) -> 22239.999 | AL17: =SUM(AL18:AL21) -> 22239.999
A18: 2.1 | B18: 94319 | C18: SINAPI | D18: ATERRO MANUAL DE VALAS COM SOLO ARGILO-ARENOSO E COMPACTAÇÃO MECANIZADA. AF_05/2016 | E18: m³ | F18: 168.5 | G18: 54 | H18: 66.13 | I18: 11142.9 | J18: 0.0079535332 | L18: =K18*H18 -> 0 | M18: =K18 -> 0 | N18: =M18/F18 -> 0 | O18: =F18-M18 -> 168.5 | P18: =O18*H18 -> 11142.905 | Q18: ='MEMORIA DE CALCULO'!H94 -> 54.3828 | R18: =Q18*H18 -> 3596.3346 | S18: =M18+Q18 -> 54.3828 | T18: =S18/$F$8 -> 0.30899318 | U18: =F18-S18 -> 114.1172 | V18: =U18*H18 -> 7546.5704 | X18: =W18*H18 -> 0 | AA18: =S18+Y18 -> 54.3828 | AB18: =AA18/$F$8 -> 0.30899318 | AC18: =F18-AA18 -> 114.1172 | AD18: =AC18*H18 -> 7546.5704 | AF18: =AE18*P18 -> 0 | AI18: =AA18+AG18 -> 54.3828 | AJ18: =AI18/$F$8 -> 0.30899318 | AK18: =F18-AI18 -> 114.1172 | AL18: =AK18*H18 -> 7546.5704
A19: 2.2 | B19: 93358 | C19: SINAPI | D19: ESCAVAÇÃO MANUAL DE VALA COM PROFUNDIDADE MENOR OU IGUAL A 1,30 M. AF_02/2021 | E19: m³ | F19: 94.33 | G19: 56.41 | H19: 69.08 | I19: 6516.31 | J19: 0.0046511849 | L19: =K19*H19 -> 0 | M19: =K19 -> 0 | N19: =M19/F19 -> 0 | O19: =F19-M19 -> 94.33 | P19: =O19*H19 -> 6516.3164 | Q19: ='MEMORIA DE CALCULO'!H103 -> 79.4944 | R19: =Q19*H19 -> 5491.4732 | S19: =M19+Q19 -> 79.4944 | T19: =S19/$F$8 -> 0.45167273 | U19: =F19-S19 -> 14.8356 | V19: =U19*H19 -> 1024.8432 | X19: =W19*H19 -> 0 | AA19: =S19+Y19 -> 79.4944 | AB19: =AA19/$F$8 -> 0.45167273 | AC19: =F19-AA19 -> 14.8356 | AD19: =AC19*H19 -> 1024.8432 | AF19: =AE19*P19 -> 0 | AI19: =AA19+AG19 -> 79.4944 | AJ19: =AI19/$F$8 -> 0.45167273 | AK19: =F19-AI19 -> 14.8356 | AL19: =AK19*H19 -> 1024.8432
A20: 2.3 | B20: 94319 | C20: SINAPI | D20: ATERRO MANUAL DE VALAS COM SOLO ARGILO-ARENOSO E COMPACTAÇÃO MECANIZADA. AF_05/2016 | E20: m³ | F20: 184.58 | G20: 54 | H20: 66.13 | I20: 12206.27 | J20: 0.008712541 | L20: =K20*H20 -> 0 | M20: =K20 -> 0 | N20: =M20/F20 -> 0 | O20: =F20-M20 -> 184.58 | P20: =O20*H20 -> 12206.275 | R20: =Q20*H20 -> 0 | S20: =M20+Q20 -> 0 | T20: =S20/$F$8 -> 0 | U20: =F20-S20 -> 184.58 | V20: =U20*H20 -> 12206.275 | X20: =W20*H20 -> 0 | AA20: =S20+Y20 -> 0 | AB20: =AA20/$F$8 -> 0 | AC20: =F20-AA20 -> 184.58 | AD20: =AC20*H20 -> 12206.275 | AF20: =AE20*P20 -> 0 | AI20: =AA20+AG20 -> 0 | AJ20: =AI20/$F$8 -> 0 | AK20: =F20-AI20 -> 184.58 | AL20: =AK20*H20 -> 12206.275
A21: 2.4 | B21: 93382 | C21: SINAPI | D21: REATERRO MANUAL DE VALAS COM COMPACTAÇÃO MECANIZADA. AF_04/2016 | E21: m³ | F21: 55.58 | G21: 21.49 | H21: 26.31 | I21: 1462.3 | J21: 0.0010437545 | L21: =K21*H21 -> 0 | M21: =K21 -> 0 | N21: =M21/F21 -> 0 | O21: =F21-M21 -> 55.58 | P21: =O21*H21 -> 1462.3098 | R21: =Q21*H21 -> 0 | S21: =M21+Q21 -> 0 | T21: =S21/$F$8 -> 0 | U21: =F21-S21 -> 55.58 | V21: =U21*H21 -> 1462.3098 | X21: =W21*H21 -> 0 | AA21: =S21+Y21 -> 0 | AB21: =AA21/$F$8 -> 0 | AC21: =F21-AA21 -> 55.58 | AD21: =AC21*H21 -> 1462.3098 | AF21: =AE21*P21 -> 0 | AI21: =AA21+AG21 -> 0 | AJ21: =AI21/$F$8 -> 0 | AK21: =F21-AI21 -> 55.58 | AL21: =AK21*H21 -> 1462.3098
A22: 3 | D22: FUNDAÇÕES | I22: 110557.96 | J22: 0.078913605
A23: 3.1 | D23: CONCRETO ARMADO PARA FUNDAÇÕES | I23: 40612.69 | J23: 0.028988358 | P23: =SUM(P24:P31) -> 40612.733 | V23: =SUM(V24:V31) -> 12783.284 | AD23: =SUM(AD24:AD31) -> 12783.284 | AL23: =SUM(AL24:AL31) -> 12783.284
A24: 3.1.1 | B24: 96619 | C24: SINAPI | D24: LASTRO DE CONCRETO MAGRO, APLICADO EM BLOCOS DE COROAMENTO OU SAPATAS, ESPESSURA DE 5 CM. AF_08/2017 | E24: m² | F24: 61.88 | G24: 22.37 | H24: 27.39 | I24: 1694.89 | J24: 0.0012097716 | L24: =K24*H24 -> 0 | M24: =K24 -> 0 | N24: =M24/F24 -> 0 | O24: =F24-M24 -> 61.88 | P24: =O24*H24 -> 1694.8932 | Q24: ='MEMORIA DE CALCULO'!H114 -> 26.434 | R24: =Q24*H24 -> 724.02726 | S24: =M24+Q24 -> 26.434 | T24: =S24/$F$8 -> 0.15019318 | U24: =F24-S24 -> 35.446 | V24: =U24*H24 -> 970.86594 | X24: =W24*H24 -> 0 | AA24: =S24+Y24 -> 26.434 | AB24: =AA24/$F$8 -> 0.15019318 | AC24: =F24-AA24 -> 35.446 | AD24: =AC24*H24 -> 970.86594 | AF24: =AE24*P24 -> 0 | AI24: =AA24+AG24 -> 26.434 | AJ24: =AI24/$F$8 -> 0.15019318 | AK24: =F24-AI24 -> 35.446 | AL24: =AK24*H24 -> 970.86594
A25: 3.1.2 | B25: 96535 | C25: SINAPI | D25: FABRICAÇÃO, MONTAGEM E DESMONTAGEM DE FÔRMA PARA SAPATA, EM MADEIRA SERRADA, E=25 MM, 4 UTILIZAÇÕES. AF_06/2017 | E25: m² | F25: 165.15 | G25: 104.74 | H25: 128.27 | I25: 21183.79 | J25: 0.015120478 | L25: =K25*H25 -> 0 | M25: =K25 -> 0 | N25: =M25/F25 -> 0 | O25: =F25-M25 -> 165.15 | P25: =O25*H25 -> 21183.791 | Q25: ='MEMORIA DE CALCULO'!H123 -> 112.3 | R25: =Q25*H25 -> 14404.721 | S25: =M25+Q25 -> 112.3 | T25: =S25/$F$8 -> 0.63806818 | U25: =F25-S25 -> 52.85 | V25: =U25*H25 -> 6779.0695 | X25: =W25*H25 -> 0 | AA25: =S25+Y25 -> 112.3 | AB25: =AA25/$F$8 -> 0.63806818 | AC25: =F25-AA25 -> 52.85 | AD25: =AC25*H25 -> 6779.0695 | AF25: =AE25*P25 -> 0 | AI25: =AA25+AG25 -> 112.3 | AJ25: =AI25/$F$8 -> 0.63806818 | AK25: =F25-AI25 -> 52.85 | AL25: =AK25*H25 -> 6779.0695
A26: 3.1.3 | B26: 92916 | C26: SINAPI | D26: ARMAÇÃO DE ESTRUTURAS DIVERSAS DE CONCRETO ARMADO, EXCETO VIGAS, PILARES, LAJES E FUNDAÇÕES, UTILIZANDO AÇO CA-50 DE 6,3 MM - MONTAGEM. AF_06/2022 | E26: KG | F26: 6.55 | G26: 11.54 | H26: 14.13 | I26: 92.55 | J26: 6.6059957e-05 | L26: =K26*H26 -> 0 | M26: =K26 -> 0 | N26: =M26/F26 -> 0 | O26: =F26-M26 -> 6.55 | P26: =O26*H26 -> 92.5515 | R26: =Q26*H26 -> 0 | S26: =M26+Q26 -> 0 | T26: =S26/$F$8 -> 0 | U26: =F26-S26 -> 6.55 | V26: =U26*H26 -> 92.5515 | X26: =W26*H26 -> 0 | AA26: =S26+Y26 -> 0 | AB26: =AA26/$F$8 -> 0 | AC26: =F26-AA26 -> 6.55 | AD26: =AC26*H26 -> 92.5515 | AF26: =AE26*P26 -> 0 | AI26: =AA26+AG26 -> 0 | AJ26: =AI26/$F$8 -> 0 | AK26: =F26-AI26 -> 6.55 | AL26: =AK26*H26 -> 92.5515
A27: 3.1.4 | B27: 92917 | C27: SINAPI | D27: ARMAÇÃO DE ESTRUTURAS DIVERSAS DE CONCRETO ARMADO, EXCETO VIGAS, PILARES, LAJES E FUNDAÇÕES, UTILIZANDO AÇO CA-50 DE 8,0 MM - MONTAGEM. AF_06/2022 | E27: KG | F27: 32.45 | G27: 10.65 | H27: 13.04 | I27: 423.14 | J27: 0.00030202712 | L27: =K27*H27 -> 0 | M27: =K27 -> 0 | N27: =M27/F27 -> 0 | O27: =F27-M27 -> 32.45 | P27: =O27*H27 -> 423.148 | R27: =Q27*H27 -> 0 | S27: =M27+Q27 -> 0 | T27: =S27/$F$8 -> 0 | U27: =F27-S27 -> 32.45 | V27: =U27*H27 -> 423.148 | X27: =W27*H27 -> 0 | AA27: =S27+Y27 -> 0 | AB27: =AA27/$F$8 -> 0 | AC27: =F27-AA27 -> 32.45 | AD27: =AC27*H27 -> 423.148 | AF27: =AE27*P27 -> 0 | AI27: =AA27+AG27 -> 0 | AJ27: =AI27/$F$8 -> 0 | AK27: =F27-AI27 -> 32.45 | AL27: =AK27*H27 -> 423.148
A28: 3.1.5 | B28: 92919 | C28: SINAPI | D28: ARMAÇÃO DE ESTRUTURAS DIVERSAS DE CONCRETO ARMADO, EXCETO VIGAS, PILARES, LAJES E FUNDAÇÕES, UTILIZANDO AÇO CA-50 DE 10,0 MM - MONTAGEM. AF_06/2022 | E28: KG | F28: 312.26 | G28: 9.39 | H28: 11.49 | I28: 3587.86 | J28: 0.0025609279 | L28: =K28*H28 -> 0 | M28: =K28 -> 0 | N28: =M28/F28 -> 0 | O28: =F28-M28 -> 312.26 | P28: =O28*H28 -> 3587.8674 | Q28: ='MEMORIA DE CALCULO'!H131 -> 312.26 | R28: =Q28*H28 -> 3587.8674 | S28: =M28+Q28 -> 312.26 | T28: =S28/$F$8 -> 1.7742045 | U28: =F28-S28 -> 0 | V28: =U28*H28 -> 0 | X28: =W28*H28 -> 0 | AA28: =S28+Y28 -> 312.26 | AB28: =AA28/$F$8 -> 1.7742045 | AC28: =F28-AA28 -> 0 | AD28: =AC28*H28 -> 0 | AF28: =AE28*P28 -> 0 | AI28: =AA28+AG28 -> 312.26 | AJ28: =AI28/$F$8 -> 1.7742045 | AK28: =F28-AI28 -> 0 | AL28: =AK28*H28 -> 0
A29: 3.1.6 | B29: 92921 | C29: SINAPI | D29: ARMAÇÃO DE ESTRUTURAS DIVERSAS DE CONCRETO ARMADO, EXCETO VIGAS, PILARES, LAJES E FUNDAÇÕES, UTILIZANDO AÇO CA-50 DE 12,5 MM - MONTAGEM. AF_06/2022 | E29: KG | F29: 32.64 | G29: 7.82 | H29: 9.57 | I29: 312.36 | J29: 0.00022295503 | L29: =K29*H29 -> 0 | M29: =K29 -> 0 | N29: =M29/F29 -> 0 | O29: =F29-M29 -> 32.64 | P29: =O29*H29 -> 312.3648 | R29: =Q29*H29 -> 0 | S29: =M29+Q29 -> 0 | T29: =S29/$F$8 -> 0 | U29: =F29-S29 -> 32.64 | V29: =U29*H29 -> 312.3648 | X29: =W29*H29 -> 0 | AA29: =S29+Y29 -> 0 | AB29: =AA29/$F$8 -> 0 | AC29: =F29-AA29 -> 32.64 | AD29: =AC29*H29 -> 312.3648 | AF29: =AE29*P29 -> 0 | AI29: =AA29+AG29 -> 0 | AJ29: =AI29/$F$8 -> 0 | AK29: =F29-AI29 -> 32.64 | AL29: =AK29*H29 -> 312.3648
A30: 3.1.7 | B30: 92915 | C30: SINAPI | D30: ARMAÇÃO DE ESTRUTURAS DIVERSAS DE CONCRETO ARMADO, EXCETO VIGAS, PILARES, LAJES E FUNDAÇÕES, UTILIZANDO AÇO CA-60 DE 5,0 MM - MONTAGEM. AF_06/2022 | E30: KG | F30: 307.55 | G30: 12.4 | H30: 15.18 | I30: 4668.6 | J30: 0.003332334 | L30: =K30*H30 -> 0 | M30: =K30 -> 0 | N30: =M30/F30 -> 0 | O30: =F30-M30 -> 307.55 | P30: =O30*H30 -> 4668.609 | Q30: ='MEMORIA DE CALCULO'!H142 -> 118.89 | R30: =Q30*H30 -> 1804.7502 | S30: =M30+Q30 -> 118.89 | T30: =S30/$F$8 -> 0.67551136 | U30: =F30-S30 -> 188.66 | V30: =U30*H30 -> 2863.8588 | X30: =W30*H30 -> 0 | AA30: =S30+Y30 -> 118.89 | AB30: =AA30/$F$8 -> 0.67551136 | AC30: =F30-AA30 -> 188.66 | AD30: =AC30*H30 -> 2863.8588 | AF30: =AE30*P30 -> 0 | AI30: =AA30+AG30 -> 118.89 | AJ30: =AI30/$F$8 -> 0.67551136 | AK30: =F30-AI30 -> 188.66 | AL30: =AK30*H30 -> 2863.8588
A31: 3.1.8 | B31: 96558 | C31: SINAPI | D31: CONCRETAGEM DE SAPATAS, FCK 30 MPA, COM USO DE BOMBA  LANÇAMENTO, ADENSAMENTO E ACABAMENTO. AF_11/2016 | E31: m³ | F31: 16.12 | G31: 438.13 | H31: 536.57 | I31: 8649.5 | J31: 0.0061738044 | L31: =K31*H31 -> 0 | M31: =K31 -> 0 | N31: =M31/F31 -> 0 | O31: =F31-M31 -> 16.12 | P31: =O31*H31 -> 8649.5084 | Q31: ='MEMORIA DE CALCULO'!H151 -> 13.62 | R31: =Q31*H31 -> 7308.0834 | S31: =M31+Q31 -> 13.62 | T31: =S31/$F$8 -> 0.077386364 | U31: =F31-S31 -> 2.5 | V31: =U31*H31 -> 1341.425 | X31: =W31*H31 -> 0 | AA31: =S31+Y31 -> 13.62 | AB31: =AA31/$F$8 -> 0.077386364 | AC31: =F31-AA31 -> 2.5 | AD31: =AC31*H31 -> 1341.425 | AF31: =AE31*P31 -> 0 | AI31: =AA31+AG31 -> 13.62 | AJ31: =AI31/$F$8 -> 0.077386364 | AK31: =F31-AI31 -> 2.5 | AL31: =AK31*H31 -> 1341.425
A32: 3.2 | D32: CONCRETO ARMADO PARA FUNDAÇÕES - VIGAS BALDRAMES | I32: 62144.6 | J32: 0.044357316 | P32: =SUM(P33:P38) -> 62144.625 | V32: =SUM(V33:V38) -> 44066.26 | AD32: =SUM(AD33:AD38) -> 44066.26 | AL32: =SUM(AL33:AL38) -> 44066.26
A33: 3.2.1 | B33: 96536 | C33: SINAPI | D33: FABRICAÇÃO, MONTAGEM E DESMONTAGEM DE FÔRMA PARA VIGA BALDRAME, EM MADEIRA SERRADA, E=25 MM, 4 UTILIZAÇÕES. AF_06/2017 | E33: m² | F33: 463.48 | G33: 52.7 | H33: 64.54 | I33: 29912.99 | J33: 0.021351171 | L33: =K33*H33 -> 0 | M33: =K33 -> 0 | N33: =M33/F33 -> 0 | O33: =F33-M33 -> 463.48 | P33: =O33*H33 -> 29912.999 | Q33: ='MEMORIA DE CALCULO'!H160 -> 57.64 | R33: =Q33*H33 -> 3720.0856 | S33: =M33+Q33 -> 57.64 | T33: =S33/$F$8 -> 0.3275 | U33: =F33-S33 -> 405.84 | V33: =U33*H33 -> 26192.914 | X33: =W33*H33 -> 0 | AA33: =S33+Y33 -> 57.64 | AB33: =AA33/$F$8 -> 0.3275 | AC33: =F33-AA33 -> 405.84 | AD33: =AC33*H33 -> 26192.914 | AF33: =AE33*P33 -> 0 | AI33: =AA33+AG33 -> 57.64 | AJ33: =AI33/$F$8 -> 0.3275 | AK33: =F33-AI33 -> 405.84 | AL33: =AK33*H33 -> 26192.914
A34: 3.2.2 | B34: 92916 | C34: SINAPI | D34: ARMAÇÃO DE ESTRUTURAS DIVERSAS DE CONCRETO ARMADO, EXCETO VIGAS, PILARES, LAJES E FUNDAÇÕES, UTILIZANDO AÇO CA-50 DE 6,3 MM - MONTAGEM. AF_06/2022 | E34: KG | F34: 0.73 | G34: 11.54 | H34: 14.13 | I34: 10.31 | J34: 7.3590293e-06 | L34: =K34*H34 -> 0 | M34: =K34 -> 0 | N34: =M34/F34 -> 0 | O34: =F34-M34 -> 0.73 | P34: =O34*H34 -> 10.3149 | R34: =Q34*H34 -> 0 | S34: =M34+Q34 -> 0 | T34: =S34/$F$8 -> 0 | U34: =F34-S34 -> 0.73 | V34: =U34*H34 -> 10.3149 | X34: =W34*H34 -> 0 | AA34: =S34+Y34 -> 0 | AB34: =AA34/$F$8 -> 0 | AC34: =F34-AA34 -> 0.73 | AD34: =AC34*H34 -> 10.3149 | AF34: =AE34*P34 -> 0 | AI34: =AA34+AG34 -> 0 | AJ34: =AI34/$F$8 -> 0 | AK34: =F34-AI34 -> 0.73 | AL34: =AK34*H34 -> 10.3149
A35: 3.2.3 | B35: 92917 | C35: SINAPI | D35: ARMAÇÃO DE ESTRUTURAS DIVERSAS DE CONCRETO ARMADO, EXCETO VIGAS, PILARES, LAJES E FUNDAÇÕES, UTILIZANDO AÇO CA-50 DE 8,0 MM - MONTAGEM. AF_06/2022 | E35: KG | F35: 829.82 | G35: 10.65 | H35: 13.04 | I35: 10820.85 | J35: 0.0077236617 | L35: =K35*H35 -> 0 | M35: =K35 -> 0 | N35: =M35/F35 -> 0 | O35: =F35-M35 -> 829.82 | P35: =O35*H35 -> 10820.853 | Q35: ='MEMORIA DE CALCULO'!H168 -> 412.32 | R35: =Q35*H35 -> 5376.6528 | S35: =M35+Q35 -> 412.32 | T35: =S35/$F$8 -> 2.3427273 | U35: =F35-S35 -> 417.5 | V35: =U35*H35 -> 5444.2 | X35: =W35*H35 -> 0 | AA35: =S35+Y35 -> 412.32 | AB35: =AA35/$F$8 -> 2.3427273 | AC35: =F35-AA35 -> 417.5 | AD35: =AC35*H35 -> 5444.2 | AF35: =AE35*P35 -> 0 | AI35: =AA35+AG35 -> 412.32 | AJ35: =AI35/$F$8 -> 2.3427273 | AK35: =F35-AI35 -> 417.5 | AL35: =AK35*H35 -> 5444.2
A36: 3.2.4 | B36: 92919 | C36: SINAPI | D36: ARMAÇÃO DE ESTRUTURAS DIVERSAS DE CONCRETO ARMADO, EXCETO VIGAS, PILARES, LAJES E FUNDAÇÕES, UTILIZANDO AÇO CA-50 DE 10,0 MM - MONTAGEM. AF_06/2022 | E36: KG | F36: 100.82 | G36: 9.39 | H36: 11.49 | I36: 1158.42 | J36: 0.00082685225 | L36: =K36*H36 -> 0 | M36: =K36 -> 0 | N36: =M36/F36 -> 0 | O36: =F36-M36 -> 100.82 | P36: =O36*H36 -> 1158.4218 | R36: =Q36*H36 -> 0 | S36: =M36+Q36 -> 0 | T36: =S36/$F$8 -> 0 | U36: =F36-S36 -> 100.82 | V36: =U36*H36 -> 1158.4218 | X36: =W36*H36 -> 0 | AA36: =S36+Y36 -> 0 | AB36: =AA36/$F$8 -> 0 | AC36: =F36-AA36 -> 100.82 | AD36: =AC36*H36 -> 1158.4218 | AF36: =AE36*P36 -> 0 | AI36: =AA36+AG36 -> 0 | AJ36: =AI36/$F$8 -> 0 | AK36: =F36-AI36 -> 100.82 | AL36: =AK36*H36 -> 1158.4218
A37: 3.2.5 | B37: 92915 | C37: SINAPI | D37: ARMAÇÃO DE ESTRUTURAS DIVERSAS DE CONCRETO ARMADO, EXCETO VIGAS, PILARES, LAJES E FUNDAÇÕES, UTILIZANDO AÇO CA-60 DE 5,0 MM - MONTAGEM. AF_06/2022 | E37: KG | F37: 395 | G37: 12.4 | H37: 15.18 | I37: 5996.1 | J37: 0.0042798715 | L37: =K37*H37 -> 0 | M37: =K37 -> 0 | N37: =M37/F37 -> 0 | O37: =F37-M37 -> 395 | P37: =O37*H37 -> 5996.1 | Q37: ='MEMORIA DE CALCULO'!H176 -> 168.02 | R37: =Q37*H37 -> 2550.5436 | S37: =M37+Q37 -> 168.02 | T37: =S37/$F$8 -> 0.95465909 | U37: =F37-S37 -> 226.98 | V37: =U37*H37 -> 3445.5564 | X37: =W37*H37 -> 0 | AA37: =S37+Y37 -> 168.02 | AB37: =AA37/$F$8 -> 0.95465909 | AC37: =F37-AA37 -> 226.98 | AD37: =AC37*H37 -> 3445.5564 | AF37: =AE37*P37 -> 0 | AI37: =AA37+AG37 -> 168.02 | AJ37: =AI37/$F$8 -> 0.95465909 | AK37: =F37-AI37 -> 226.98 | AL37: =AK37*H37 -> 3445.5564
A38: 3.2.6 | B38: 96557 | C38: SINAPI | D38: CONCRETAGEM DE BLOCOS DE COROAMENTO E VIGAS BALDRAMES, FCK 30 MPA, COM USO DE BOMBA  LANÇAMENTO, ADENSAMENTO E ACABAMENTO. AF_06/2017 | E38: m³ | F38: 26.87 | G38: 432.91 | H38: 530.18 | I38: 14245.93 | J38: 0.010168401 | L38: =K38*H38 -> 0 | M38: =K38 -> 0 | N38: =M38/F38 -> 0 | O38: =F38-M38 -> 26.87 | P38: =O38*H38 -> 14245.937 | Q38: ='MEMORIA DE CALCULO'!H184 -> 12.13 | R38: =Q38*H38 -> 6431.0834 | S38: =M38+Q38 -> 12.13 | T38: =S38/$F$8 -> 0.068920455 | U38: =F38-S38 -> 14.74 | V38: =U38*H38 -> 7814.8532 | X38: =W38*H38 -> 0 | AA38: =S38+Y38 -> 12.13 | AB38: =AA38/$F$8 -> 0.068920455 | AC38: =F38-AA38 -> 14.74 | AD38: =AC38*H38 -> 7814.8532 | AF38: =AE38*P38 -> 0 | AI38: =AA38+AG38 -> 12.13 | AJ38: =AI38/$F$8 -> 0.068920455 | AK38: =F38-AI38 -> 14.74 | AL38: =AK38*H38 -> 7814.8532
A39: 3.3 | D39: CONCRETO ARMADO PARA FUNDAÇÕES - BASE CAIXA D'ÁGUA | I39: 7800.67 | J39: 0.00556793 | P39: =SUM(P40:P43) -> 7800.6764 | V39: =SUM(V40:V43) -> 7800.6764 | AD39: =SUM(AD40:AD43) -> 7800.6764 | AL39: =SUM(AL40:AL43) -> 7800.6764
A40: 3.3.1 | B40: 96535 | C40: SINAPI | D40: FABRICAÇÃO, MONTAGEM E DESMONTAGEM DE FÔRMA PARA SAPATA, EM MADEIRA SERRADA, E=25 MM, 4 UTILIZAÇÕES. AF_06/2017 | E40: m² | F40: 5.6 | G40: 104.74 | H40: 128.27 | I40: 718.31 | J40: 0.00051271235 | L40: =K40*H40 -> 0 | M40: =K40 -> 0 | N40: =M40/F40 -> 0 | O40: =F40-M40 -> 5.6 | P40: =O40*H40 -> 718.312 | R40: =Q40*H40 -> 0 | S40: =M40+Q40 -> 0 | T40: =S40/$F$8 -> 0 | U40: =F40-S40 -> 5.6 | V40: =U40*H40 -> 718.312 | X40: =W40*H40 -> 0 | AA40: =S40+Y40 -> 0 | AB40: =AA40/$F$8 -> 0 | AC40: =F40-AA40 -> 5.6 | AD40: =AC40*H40 -> 718.312 | AF40: =AE40*P40 -> 0 | AI40: =AA40+AG40 -> 0 | AJ40: =AI40/$F$8 -> 0 | AK40: =F40-AI40 -> 5.6 | AL40: =AK40*H40 -> 718.312
...

Sheet BM 02
A2: BOLETIM DE MEDIÇÃO
A4: PROGRAMA: | B4: INTEGRA PARAIBA | C4: MODALIDADE: ESCOLA | H4: EMPREENDIMENTO: | J4: GESTOR: | L4: DATA DA MEDIÇÃO | M4: 45777
J5: ESTADO DA PARAÍBA
A7: CONTRATANTE: | D7: CNPJ: | F7: CONTRATADA: CONSTRUTORA SOUSA CAMPOS | J7: CNPJ: 19.175.657/0001-18 | L7: INICIO DA OBRA; | M7: 45579
A8: PREFEITURA MUNICIPAL DE MOGEIRO | D8: 08.866.501/0001-67
A10: OBJETO: | B10: CONTRATAÇÃO DE EMPRESA PARA CONSTRUÇÃO DE UMA ESCOLA COM 6 SALAS DE AULA. TIPO A INTEGRA PARAIBA. | F10: PROCESSO/OPERAÇÃO: | H10: CONTRATO-CPL: | J10: N° MEDIÇÃO | L10: PERÍODO DA MEDIÇÃO:
H11: 00125/2024-CPL | J11: 02 | L11: DE 01/03/2025 a 30/04/2025
A13: LOCAL: | B13: AVENIDA JOSÉ AMÉRICO, Z/N, BAIRRO MARIA PEIXOTO, MOGEIRO-PB | F13: VALOR CONTRATADO | H13: VALOR DA MEDIÇÃO | J13: VALOR ACUMULADO | L13: SALDO DO CONTRATO
F14: =F316 -> 1401000 | H14: =K324 -> 78962.1 | J14: =L324 -> 132128.8 | L14: =F14-J14 -> 1268871.2
A16: ITEM | B16: DISCRIMINAÇÃO | C16: CONTRATADO | G16: QUANTITATIVO | J16: FINANCEIRO | M16: PERCENTUAL MEDIDO
C17: UNID | D17: QUANT. | E17: UNITÁRIO | F17: TOTAL | G17: ACUMULADO ANTERIOR | H17: PERIODO | I17: ACUMULADO INCLUINDO O PERIODO | J17: ACUMULADO ANTERIOR | K17: PERIODO | L17: ACUMULADO INCLUINDO O PERIODO
A19: 1 | B19: SERVIÇOS PRELIMINARES | F19: =SUM(F20:F29) -> 73151.734 | J19: =SUM(J20:J29) -> 53166.7 | K19: =SUM(K20:K29) -> 17300.3 | L19: =J19+K19 -> 70467 | M19: =L19/F19 -> 0.96329911
A20: 1.1 | B20: Placa de obra em chapa aço galvanizado, instalada - Rev 02_01/2022 | C20: m² | D20: 10 | E20: 311.37 | F20: =E20*D20 -> 3113.7 | G20: 10 | I20: 10 | J20: =TRUNC(E20*G20,2) -> 3113.7 | K20: =TRUNC(E20*H20,2) -> 0 | L20: =J20+K20 -> 3113.7 | M20: =L20/F20 -> 1
A21: 1.2 | B21: TAPUME COM COMPENSADO DE MADEIRA. AF_05/2018 | C21: m² | D21: 176 | E21: 92.8 | F21: =E21*D21 -> 16332.8 | G21: 176 | I21: 176 | J21: =TRUNC(E21*G21,2) -> 16332.8 | K21: =TRUNC(E21*H21,2) -> 0 | L21: =J21+K21 -> 16332.8 | M21: =L21/F21 -> 1
A22: 1.3 | B22: INSTALAÇÕES PROVISÓRIAS DE LUZ , FORÇA,TELEFONE E LÓGICA | C22: UN | D22: 1 | E22: 1140.85 | F22: =E22*D22 -> 1140.85 | G22: 0 | H22: ='MEMORIA DE CALCULO'!H53 -> 1 | I22: =G22+H22 -> 1 | J22: =TRUNC(E22*G22,2) -> 0 | K22: =TRUNC(E22*H22,2) -> 1140.85 | L22: =J22+K22 -> 1140.85 | M22: =L22/F22 -> 1
A23: 1.4 | B23: EXECUÇÃO DE RESERVATÓRIO ELEVADO DE ÁGUA (1000 LITROS) EM CANTEIRO DE OBRA, APOIADO EM ESTRUTURA DE MADEIRA. AF_02/2016_PA | C23: UN | D23: 1 | E23: 4511.19 | F23: =E23*D23 -> 4511.19 | G23: 0 | H23: ='MEMORIA DE CALCULO'!H61 -> 1 | I23: =G23+H23 -> 1 | J23: =TRUNC(E23*G23,2) -> 0 | K23: =TRUNC(E23*H23,2) -> 4511.19 | L23: =J23+K23 -> 4511.19 | M23: =L23/F23 -> 1
A24: 1.5 | B24: FOSSA SÉPTICA E SUMIDOURO EM ALVENARIA | C24: UN | D24: 1 | E24: 4397.61 | F24: =E24*D24 -> 4397.61 | G24: 0 | H24: ='MEMORIA DE CALCULO'!H69 -> 1 | I24: =G24+H24 -> 1 | J24: =TRUNC(E24*G24,2) -> 0 | K24: =TRUNC(E24*H24,2) -> 4397.61 | L24: =J24+K24 -> 4397.61 | M24: =L24/F24 -> 1
A25: 1.6 | B25: EXECUÇÃO DE SANITÁRIO E VESTIÁRIO EM CANTEIRO DE OBRA EM CHAPA DE MADEIRA COMPENSADA, NÃO INCLUSO MOBILIÁRIO. AF_02/2016 | C25: m² | D25: 2.52 | E25: 831.62 | F25: =E25*D25 -> 2095.6824 | G25: 0 | H25: ='MEMORIA DE CALCULO'!H77 -> 2.52 | I25: =G25+H25 -> 2.52 | J25: =TRUNC(E25*G25,2) -> 0 | K25: =TRUNC(E25*H25,2) -> 2095.68 | L25: =J25+K25 -> 2095.68 | M25: =L25/F25 -> 0.99999885
A26: 1.7 | B26: EXECUÇÃO DE ESCRITÓRIO EM CANTEIRO DE OBRA EM CHAPA DE MADEIRA COMPENSADA, NÃO INCLUSO MOBILIÁRIO E EQUIPAMENTOS. AF_02/2016 | C26: m² | D26: 20 | E26: 893.23 | F26: =E26*D26 -> 17864.6 | G26: 20 | I26: =G26+H26 -> 20 | J26: =TRUNC(E26*G26,2) -> 17864.6 | K26: =TRUNC(E26*H26,2) -> 0 | L26: =J26+K26 -> 17864.6 | M26: =L26/F26 -> 1
A27: 1.8 | B27: EXECUÇÃO DE DEPÓSITO EM CANTEIRO DE OBRA EM CHAPA DE MADEIRA COMPENSADA, NÃO INCLUSO MOBILIÁRIO. AF_04/2016 | C27: m² | D27: 20 | E27: 732.78 | F27: =E27*D27 -> 14655.6 | G27: 20 | I27: =G27+H27 -> 20 | J27: =TRUNC(E27*G27,2) -> 14655.6 | K27: =TRUNC(E27*H27,2) -> 0 | L27: =J27+K27 -> 14655.6 | M27: =L27/F27 -> 1
A28: 1.9 | B28: LOCAÇÃO DA OBRA - EXECUÇÃO DE GABARITO | C28: m² | D28: 1129.64 | E28: 6.94 | F28: =E28*D28 -> 7839.7016 | G28: 0 | H28: ='MEMORIA DE CALCULO'!H85 -> 742.7912 | I28: =G28+H28 -> 742.7912 | J28: =TRUNC(E28*G28,2) -> 0 | K28: =TRUNC(E28*H28,2) -> 5154.97 | L28: =J28+K28 -> 5154.97 | M28: =L28/F28 -> 0.65754671
A29: 1.10 | B29: LIMPEZA MECANIZADA DE CAMADA VEGETAL, VEGETAÇÃO E PEQUENAS ÁRVORES (DIÂMETRO DE TRONCO MENOR QUE 0,20 M), COM TRATOR DE ESTEIRAS.AF_05/2018 | C29: m² | D29: 4000 | E29: 0.3 | F29: =E29*D29 -> 1200 | G29: 4000 | I29: =G29+H29 -> 4000 | J29: =TRUNC(E29*G29,2) -> 1200 | K29: =TRUNC(E29*H29,2) -> 0 | L29: =J29+K29 -> 1200 | M29: =L29/F29 -> 1
A30: 2 | B30: MOVIMENTO DE TERRAS PARA FUNDAÇÕES | F30: =SUM(F31:F34) -> 31327.78 | J30: =SUM(J31:J34) -> 0 | K30: =SUM(K31:K34) -> 9087.8 | L30: =K30 -> 9087.8 | M30: =L30/F30 -> 0.29008758
A31: 2.1 | B31: ATERRO MANUAL DE VALAS COM SOLO ARGILO-ARENOSO E COMPACTAÇÃO MECANIZADA. AF_05/2016 | C31: m³ | D31: 168.5 | E31: 66.13 | F31: 11142.9 | G31: 0 | H31: ='MEMORIA DE CALCULO'!H94 -> 54.3828 | I31: =G31+H31 -> 54.3828 | J31: =TRUNC(E31*G31,2) -> 0 | K31: =TRUNC(E31*H31,2) -> 3596.33 | L31: =J31+K31 -> 3596.33 | M31: =L31/F31 -> 0.32274632
A32: 2.2 | B32: ESCAVAÇÃO MANUAL DE VALA COM PROFUNDIDADE MENOR OU IGUAL A 1,30 M. AF_02/2021 | C32: m³ | D32: 94.33 | E32: 69.08 | F32: 6516.31 | G32: 0 | H32: ='MEMORIA DE CALCULO'!H103 -> 79.4944 | I32: =G32+H32 -> 79.4944 | J32: =TRUNC(E32*G32,2) -> 0 | K32: =TRUNC(E32*H32,2) -> 5491.47 | L32: =J32+K32 -> 5491.47 | M32: =L32/F32 -> 0.84272694
A33: 2.3 | B33: ATERRO MANUAL DE VALAS COM SOLO ARGILO-ARENOSO E COMPACTAÇÃO MECANIZADA. AF_05/2016 | C33: m³ | D33: 184.58 | E33: 66.13 | F33: 12206.27 | G33: 0 | H33: 0 | I33: =G33+H33 -> 0 | J33: =TRUNC(E33*G33,2) -> 0 | K33: =TRUNC(E33*H33,2) -> 0 | L33: =J33+K33 -> 0 | M33: =L33/F33 -> 0
A34: 2.4 | B34: REATERRO MANUAL DE VALAS COM COMPACTAÇÃO MECANIZADA. AF_04/2016 | C34: m³ | D34: 55.58 | E34: 26.31 | F34: 1462.3 | G34: 0 | H34: 0 | I34: =G34+H34 -> 0 | J34: =TRUNC(E34*G34,2) -> 0 | K34: =TRUNC(E34*H34,2) -> 0 | L34: =J34+K34 -> 0 | M34: =L34/F34 -> 0
A35: 3 | B35: INFRAESTRUTURA: FUNDAÇÕES | F35: =F36+F45+F52 -> 110557.96 | J35: =J36+J45+J52 -> 0 | L35: =K35 -> 0 | M35: =L35/F35 -> 0
A36: 3.1 | B36: CONCRETO ARMADO PARA FUNDAÇÕES - SAPATAS | F36: =SUM(F37:F44) -> 40612.69 | J36: =SUM(J37:J44) -> 0 | K36: =SUM(K37:K44) -> 27829.43 | L36: =K36 -> 27829.43 | M36: =L36/F36 -> 0.68523976
A37: 3.1.1 | B37: LASTRO DE CONCRETO MAGRO, APLICADO EM BLOCOS DE COROAMENTO OU SAPATAS, ESPESSURA DE 5 CM. AF_08/2017 | C37: m² | D37: 61.88 | E37: 27.39 | F37: 1694.89 | G37: 0 | H37: ='MEMORIA DE CALCULO'!H114 -> 26.434 | I37: =G37+H37 -> 26.434 | J37: =TRUNC(E37*G37,2) -> 0 | K37: =TRUNC(E37*H37,2) -> 724.02 | L37: =J37+K37 -> 724.02 | M37: =L37/F37 -> 0.42717816
A38: 3.1.2 | B38: FABRICAÇÃO, MONTAGEM E DESMONTAGEM DE FÔRMA PARA SAPATA, EM MADEIRA SERRADA, E=25 MM, 4 UTILIZAÇÕES. AF_06/2017 | C38: m² | D38: 165.15 | E38: 128.27 | F38: 21183.79 | G38: 0 | H38: ='MEMORIA DE CALCULO'!H123 -> 112.3 | I38: =G38+H38 -> 112.3 | J38: =TRUNC(E38*G38,2) -> 0 | K38: =TRUNC(E38*H38,2) -> 14404.72 | L38: =J38+K38 -> 14404.72 | M38: =L38/F38 -> 0.67998786
A39: 3.1.3 | B39: ARMAÇÃO DE ESTRUTURAS DIVERSAS DE CONCRETO ARMADO, EXCETO VIGAS, PILARES, LAJES E FUNDAÇÕES, UTILIZANDO AÇO CA-50 DE 6,3 MM - MONTAGEM. AF_06/2022 | C39: KG | D39: 6.55 | E39: 14.13 | F39: 92.55 | G39: 0 | H39: 0 | I39: =G39+H39 -> 0 | J39: =TRUNC(E39*G39,2) -> 0 | K39: =TRUNC(E39*H39,2) -> 0 | L39: =J39+K39 -> 0 | M39: =L39/F39 -> 0
A40: 3.1.4 | B40: ARMAÇÃO DE ESTRUTURAS DIVERSAS DE CONCRETO ARMADO, EXCETO VIGAS, PILARES, LAJES E FUNDAÇÕES, UTILIZANDO AÇO CA-50 DE 8,0 MM - MONTAGEM. AF_06/2022 | C40: KG | D40: 32.45 | E40: 13.04 | F40: 423.14 | G40: 0 | H40: 0 | I40: =G40+H40 -> 0 | J40: =TRUNC(E40*G40,2) -> 0 | K40: =TRUNC(E40*H40,2) -> 0 | L40: =J40+K40 -> 0 | M40: =L40/F40 -> 0
A41: 3.1.5 | B41: ARMAÇÃO DE ESTRUTURAS DIVERSAS DE CONCRETO ARMADO, EXCETO VIGAS, PILARES, LAJES E FUNDAÇÕES, UTILIZANDO AÇO CA-50 DE 10,0 MM - MONTAGEM. AF_06/2022 | C41: KG | D41: 312.26 | E41: 11.49 | F41: 3587.86 | G41: 0 | H41: ='MEMORIA DE CALCULO'!H131 -> 312.26 | I41: =G41+H41 -> 312.26 | J41: =TRUNC(E41*G41,2) -> 0 | K41: =TRUNC(E41*H41,2) -> 3587.86 | L41: =J41+K41 -> 3587.86 | M41: =L41/F41 -> 1 | N41: 195.8
A42: 3.1.6 | B42: ARMAÇÃO DE ESTRUTURAS DIVERSAS DE CONCRETO ARMADO, EXCETO VIGAS, PILARES, LAJES E FUNDAÇÕES, UTILIZANDO AÇO CA-50 DE 12,5 MM - MONTAGEM. AF_06/2022 | C42: KG | D42: 32.64 | E42: 9.57 | F42: 312.36 | G42: 0 | I42: =G42+H42 -> 0 | J42: =TRUNC(E42*G42,2) -> 0 | K42: =TRUNC(E42*H42,2) -> 0 | L42: =J42+K42 -> 0 | M42: =L42/F42 -> 0
A43: 3.1.7 | B43: ARMAÇÃO DE ESTRUTURAS DIVERSAS DE CONCRETO ARMADO, EXCETO VIGAS, PILARES, LAJES E FUNDAÇÕES, UTILIZANDO AÇO CA-60 DE 5,0 MM - MONTAGEM. AF_06/2022 | C43: KG | D43: 307.55 | E43: 15.18 | F43: 4668.6 | G43: 0 | H43: ='MEMORIA DE CALCULO'!H142 -> 118.89 | I43: =G43+H43 -> 118.89 | J43: =TRUNC(E43*G43,2) -> 0 | K43: =TRUNC(E43*H43,2) -> 1804.75 | L43: =J43+K43 -> 1804.75 | M43: =L43/F43 -> 0.38657199
A44: 3.1.8 | B44: CONCRETAGEM DE SAPATAS, FCK 30 MPA, COM USO DE BOMBA  LANÇAMENTO, ADENSAMENTO E ACABAMENTO. AF_11/2016 | C44: m³ | D44: 16.12 | E44: 536.57 | F44: 8649.5 | G44: 0 | H44: ='MEMORIA DE CALCULO'!H151 -> 13.62 | I44: =G44+H44 -> 13.62 | J44: =TRUNC(E44*G44,2) -> 0 | K44: =TRUNC(E44*H44,2) -> 7308.08 | L44: =J44+K44 -> 7308.08 | M44: =L44/F44 -> 0.84491358
A45: 3.2 | B45: CONCRETO ARMADO PARA FUNDAÇÕES - VIGAS BALDRAMES | F45: =SUM(F46:F51) -> 62144.6 | J45: =SUM(J46:J51) -> 0 | K45: =K46+K47+K48+K49+K50+K51 -> 18078.35 | L45: =J45+K45 -> 18078.35 | M45: =L45/F45 -> 0.29090782
A46: 3.2.1 | B46: FABRICAÇÃO, MONTAGEM E DESMONTAGEM DE FÔRMA PARA VIGA BALDRAME, EM MADEIRA SERRADA, E=25 MM, 4 UTILIZAÇÕES. AF_06/2017 | C46: m² | D46: 463.48 | E46: 64.54 | F46: 29912.99 | G46: 0 | H46: ='MEMORIA DE CALCULO'!H160 -> 57.64 | I46: =G46+H46 -> 57.64 | J46: =TRUNC(E46*G46,2) -> 0 | K46: =TRUNC(E46*H46,2) -> 3720.08 | L46: =J46+K46 -> 3720.08 | M46: =L46/F46 -> 0.12436336
A47: 3.2.2 | B47: ARMAÇÃO DE ESTRUTURAS DIVERSAS DE CONCRETO ARMADO, EXCETO VIGAS, PILARES, LAJES E FUNDAÇÕES, UTILIZANDO AÇO CA-50 DE 6,3 MM - MONTAGEM. AF_06/2022 | C47: KG | D47: 0.73 | E47: 14.13 | F47: 10.31 | G47: 0 | H47: 0 | I47: =G47+H47 -> 0 | J47: =TRUNC(E47*G47,2) -> 0 | K47: =TRUNC(E47*H47,2) -> 0 | L47: =J47+K47 -> 0 | M47: =L47/F47 -> 0
...

Sheet MEMORIA DE CALCULO
A3: OBRA: | C3: CONTRATAÇÃO DE EMPRESA PARA CONSTRUÇÃO DE UMA ESCOLA COM 6 SALAS DE AULA.
A4: MUNICÍPIO: | C4: MOGEIRO - PB
A5: LICITAÇÃO Nº: | C5: PROCESSO LICITATÓRIO Nº 004/2024 - CONCORRÊNCIA Nº 004/2024
A6: MODALIDADE: | C6: ESCOLA | G6: DATA: | H6: 45777
A8: MEMÓRIA DE CÁLCULO - CONSTRUÇÃO - BM 02 - PERÍODO: 01/03/2025 A 30/04/2025
A10: 1.1 | C10: =VLOOKUP(A10,'Orçamento Sintético'!A4:D301,4,0) -> Placa de obra em chapa aço galvanizado, instalada - Rev 02_01/2022 | F10: TOTAL MED 01 | H10: =H16 -> 10
F11: Acum. Med. Anteriores
F12: total planilha | H12: ='Orçamento Sintético'!F7 -> 10
F13: MEDIDO NA BM | H13: =H16 -> 10
F14: saldo | H14: =H12-H13 -> 0
D15: COMP | E15: ALTURA | F15: LARG | G15: QUANT
B16: MED 01 | C16: obra da escola | E16: 2 | F16: 5 | H16: =E16*F16 -> 10
A21: 1.2 | C21: =VLOOKUP(A21,'Orçamento Sintético'!A:J,4,0) -> TAPUME COM COMPENSADO DE MADEIRA. AF_05/2018 | F21: TOTAL MED 01 | H21: =H27 -> 176
F22: Acum. Med. Anteriores
F23: total planilha | H23: 176
F24: MEDIDO NA BM | H24: =H27 -> 176
F25: saldo | H25: =H23-H24 -> 0
D26: COMP | E26: ALTURA | F26: LARG | G26: QUANT
B27: MED 01 | C27: obra da escola | G27: 176 | H27: =G27 -> 176
A29: 1.7 | C29: =VLOOKUP(A29,'Orçamento Sintético'!A:J,4,0) -> EXECUÇÃO DE ESCRITÓRIO EM CANTEIRO DE OBRA EM CHAPA DE MADEIRA COMPENSADA, NÃO INCLUSO MOBILIÁRIO E EQUIPAMENTOS. AF_02/2016 | F29: TOTAL MED 01 | H29: =H35 -> 20
F30: Acum. Med. Anteriores
F31: total planilha | H31: 20
F32: MEDIDO NA BM | H32: =H35 -> 20
F33: saldo | H33: =H31-H32 -> 0
D34: COMP | E34: ALTURA | F34: LARG | G34: QUANT
B35: MED 01 | C35: escritório | G35: 20 | H35: =G35 -> 20
A37: 1.8 | C37: =VLOOKUP(A37,'Orçamento Sintético'!A:J,4,0) -> EXECUÇÃO DE DEPÓSITO EM CANTEIRO DE OBRA EM CHAPA DE MADEIRA COMPENSADA, NÃO INCLUSO MOBILIÁRIO. AF_04/2016 | F37: TOTAL MED 01 | H37: =H43 -> 20
F38: Acum. Med. Anteriores
F39: total planilha | H39: 20
F40: MEDIDO NA BM | H40: =H43 -> 20
F41: saldo | H41: =H39-H40 -> 0
D42: COMP | E42: ALTURA | F42: LARG | G42: QUANT
B43: MED 01 | C43: depósito | G43: 20 | H43: =G43 -> 20
A45: 1.10 | C45: =VLOOKUP(A45,'Orçamento Sintético'!A:J,4,0) -> LIMPEZA MECANIZADA DE CAMADA VEGETAL, VEGETAÇÃO E PEQUENAS ÁRVORES (DIÂMETRO DE TRONCO MENOR QUE 0,20 M), COM TRATOR DE ESTEIRAS.AF_05/2018 | F45: TOTAL MED 01 | H45: =H51 -> 4000
F46: Acum. Med. Anteriores
F47: total planilha | H47: 4000
F48: MEDIDO NA BM | H48: =H51 -> 4000
F49: saldo | H49: =H47-H48 -> 0
D50: COMP | E50: ALTURA | F50: LARG | G50: QUANT
B51: MED 01 | C51: Limpeza de obra | G51: 4000 | H51: =G51 -> 4000
...

Sheet FOTOGRÁFICO
A1: MEMÓRIA FOTOGRÁFICA
B14: 1.3 | C14: =VLOOKUP(B14,'Orçamento Sintético'!A:J,4,0) -> INSTALAÇÕES PROVISÓRIAS DE LUZ , FORÇA,TELEFONE E LÓGICA | J14: 1.4 | K14: =VLOOKUP(J14,'Orçamento Sintético'!A:J,4,0) -> EXECUÇÃO DE RESERVATÓRIO ELEVADO DE ÁGUA (1000 LITROS) EM CANTEIRO DE OBRA, APOIADO EM ESTRUTURA DE MADEIRA. AF_02/2016_PA
B27: 1.5 | C27: =VLOOKUP(B27,'Orçamento Sintético'!A:J,4,0) -> FOSSA SÉPTICA E SUMIDOURO EM ALVENARIA | J27: 1.6 | K27: =VLOOKUP(J27,'Orçamento Sintético'!A:J,4,0) -> EXECUÇÃO DE SANITÁRIO E VESTIÁRIO EM CANTEIRO DE OBRA EM CHAPA DE MADEIRA COMPENSADA, NÃO INCLUSO MOBILIÁRIO. AF_02/2016
B40: 1.9 | C40: =VLOOKUP(B40,'Orçamento Sintético'!A:J,4,0) -> LOCAÇÃO DA OBRA - EXECUÇÃO DE GABARITO | J40: 2.1 | K40: =VLOOKUP(J40,'Orçamento Sintético'!A:J,4,0) -> ATERRO MANUAL DE VALAS COM SOLO ARGILO-ARENOSO E COMPACTAÇÃO MECANIZADA. AF_05/2016
B53: 2.2 | C53: =VLOOKUP(B53,'Orçamento Sintético'!A:J,4,0) -> ESCAVAÇÃO MANUAL DE VALA COM PROFUNDIDADE MENOR OU IGUAL A 1,30 M. AF_02/2021 | J53: 3.1.1 | K53: =VLOOKUP(J53,'Orçamento Sintético'!A:J,4,0) -> LASTRO DE CONCRETO MAGRO, APLICADO EM BLOCOS DE COROAMENTO OU SAPATAS, ESPESSURA DE 5 CM. AF_08/2017
B66: 3.1.2 | C66: =VLOOKUP(B66,'Orçamento Sintético'!A:J,4,0) -> FABRICAÇÃO, MONTAGEM E DESMONTAGEM DE FÔRMA PARA SAPATA, EM MADEIRA SERRADA, E=25 MM, 4 UTILIZAÇÕES. AF_06/2017 | J66: 3.1.5 | K66: =VLOOKUP(J66,'Orçamento Sintético'!A:J,4,0) -> ARMAÇÃO DE ESTRUTURAS DIVERSAS DE CONCRETO ARMADO, EXCETO VIGAS, PILARES, LAJES E FUNDAÇÕES, UTILIZANDO AÇO CA-50 DE 10,0 MM - MONTAGEM. AF_06/2022
B79: 3.1.7 | C79: =VLOOKUP(B79,'Orçamento Sintético'!A:J,4,0) -> ARMAÇÃO DE ESTRUTURAS DIVERSAS DE CONCRETO ARMADO, EXCETO VIGAS, PILARES, LAJES E FUNDAÇÕES, UTILIZANDO AÇO CA-60 DE 5,0 MM - MONTAGEM. AF_06/2022 | J79: 3.1.8 | K79: =VLOOKUP(J79,'Orçamento Sintético'!A:J,4,0) -> CONCRETAGEM DE SAPATAS, FCK 30 MPA, COM USO DE BOMBA  LANÇAMENTO, ADENSAMENTO E ACABAMENTO. AF_11/2016
B92: 3.2.1 | C92: =VLOOKUP(B92,'Orçamento Sintético'!A:J,4,0) -> FABRICAÇÃO, MONTAGEM E DESMONTAGEM DE FÔRMA PARA VIGA BALDRAME, EM MADEIRA SERRADA, E=25 MM, 4 UTILIZAÇÕES. AF_06/2017 | J92: 3.2.3 | K92: =VLOOKUP(J92,'Orçamento Sintético'!A:J,4,0) -> ARMAÇÃO DE ESTRUTURAS DIVERSAS DE CONCRETO ARMADO, EXCETO VIGAS, PILARES, LAJES E FUNDAÇÕES, UTILIZANDO AÇO CA-50 DE 8,0 MM - MONTAGEM. AF_06/2022
B105: 3.2.5 | C105: =VLOOKUP(B105,'Orçamento Sintético'!A:J,4,0) -> ARMAÇÃO DE ESTRUTURAS DIVERSAS DE CONCRETO ARMADO, EXCETO VIGAS, PILARES, LAJES E FUNDAÇÕES, UTILIZANDO AÇO CA-60 DE 5,0 MM - MONTAGEM. AF_06/2022 | J105: 3.2.6 | K105: =VLOOKUP(J105,'Orçamento Sintético'!A:J,4,0) -> CONCRETAGEM DE BLOCOS DE COROAMENTO E VIGAS BALDRAMES, FCK 30 MPA, COM USO DE BOMBA  LANÇAMENTO, ADENSAMENTO E ACABAMENTO. AF_06/2017
B118: 5.1 | C118: =VLOOKUP(B118,'Orçamento Sintético'!A:J,4,0) -> ALVENARIA DE VEDAÇÃO DE BLOCOS CERÂMICOS FURADOS NA VERTICAL DE 9X19X39 CM (ESPESSURA 9 CM) E ARGAMASSA DE ASSENTAMENTO COM PREPARO EM BETONEIRA. AF_12/2021 | J118: 8.1 | K118: =VLOOKUP(J118,'Orçamento Sintético'!A:J,4,0) -> TINTA DE BASE ASFÁLTICA 2 DEMÃOS C/BROXA
