Workbook

Sheet Orçamento Sintético
D1: CONSTRUTORA SOUSA CAMPOS: 19.175.657/0001-18 | E1: Bancos | G1: B.D.I. | I1: Encargos Sociais
D2: OBRA: CONTRATAÇÃO DE EMPRESA PARA CONSTRUÇÃO DE UMA ESCOLA COM 06 (SEIS) SALAS DE AULA NO MUNICÍPIO DE MOGEIRO–PB | E2: SINAPI - 04/2023 SBC - 05/2023 ORSE - 05/2023 SEINFRA - 05/2021 | G2: 22,47% | I2: ORSE 111,93 / 71,07 SBC 113,45 / - SEINFRA 112,76 / 71,07 SINAPI 113,42 / 69,75 PROPRIA
A3: PLANILHA ORÇAMENTÁRIA | O3: FEVEREIRO - MEDIÇÃO 01 | U3: MARÇO/ABRIL - MEDIÇÃO 02 | AA3: MAIO - MEDIÇÃO 03 | AI3: JUNHO - MEDIÇÃO 03
A4: Item | B4: Código | C4: Banco | D4: Descrição | E4: Und | F4: Quant. | G4: Valor Unit | H4: Valor Unit com BDI | I4: Total | J4: Peso (%) | K4: Preço Contratado | L4: Ajuste INCC MAI/25 10,99% | M4: Preço Ajustado | N4: Valor total | O4: MEDIÇÃO | Q4: ACUMULADO | S4: SALDO | U4: MEDIÇÃO | W4: ACUMULADO | Y4: SALDO | AA4: META | AC4: MEDIÇÃO | AE4: ACUMULADO | AG4: SALDO | AI4: META | AK4: MEDIÇÃO | AM4: ACUMULADO | AO4: SALDO
O5: QUANT. | P5: VALOR | Q5: UNIDADE | R5: % | S5: UNIDADE | T5: VALOR | U5: QUANT. | V5: VALOR | W5: UNIDADE | X5: % | Y5: UNIDADE | Z5: VALOR | AA5: QUANT. | AB5: VALOR | AC5: QUANT. | AD5: VALOR | AE5: UNIDADE | AF5: % | AG5: UNIDADE | AH5: VALOR | AI5: QUANT. | AJ5: VALOR | AK5: QUANT. | AL5: VALOR | AM5: UNIDADE | AN5: % | AO5: UNIDADE | AP5: VALOR
A6: 1 | D6: SERVIÇOS PRELIMINARES | I6: 73151.73 | J6: 0.05221394 | P6: =SUM(P7:P16) -> 53166.7 | T6: =SUM(T7:T16) -> 19985.034 | Z6: =SUM(Z7:Z16) -> 2684.739 | AH6: =SUM(AH7:AH16) -> 2684.739 | AP6: =SUM(AP7:AP16) -> -28325.691
A7: 1.1 | B7: 51 | C7: ORSE | D7: Placa de obra em chapa aço galvanizado, instalada - Rev 02_01/2022 | E7: m² | F7: 10 | G7: 254.25 | H7: 311.37 | I7: 3113.7 | J7: 0.0022224839 | O7: 10 | P7: =O7*H7 -> 3113.7 | Q7: =O7 -> 10 | R7: =Q7/F7 -> 1 | S7: =F7-Q7 -> 0 | T7: =S7*H7 -> 0 | V7: =U7*H7 -> 0 | W7: =Q7+U7 -> 10 | X7: =W7/$F$8 -> 0.056818182 | Y7: =F7-W7 -> 0 | Z7: =Y7*H7 -> 0 | AB7: =AA7*H7 -> 0 | AE7: =W7+AC7 -> 10 | AF7: =AE7/$F$8 -> 0.056818182 | AG7: =F7-AE7 -> 0 | AH7: =AG7*H7 -> 0 | AJ7: =AI7*T7 -> 0 | AM7: =AE7+AK7 -> 10 | AN7: =AM7/$F$8 -> 0.056818182 | AO7: =F7-AM7 -> 0 | AP7: =AO7*H7 -> 0
A8: 1.2 | B8: 98458 | C8: SINAPI | D8: TAPUME COM COMPENSADO DE MADEIRA. AF_05/2018 | E8: m² | F8: 176 | G8: 75.78 | H8: 92.8 | I8: 16332.8 | J8: 0.011657959 | O8: 176 | P8: =O8*H8 -> 16332.8 | Q8: =O8 -> 176 | R8: =Q8/F8 -> 1 | S8: =F8-Q8 -> 0 | T8: =S8*H8 -> 0 | V8: =U8*H8 -> 0 | W8: =Q8+U8 -> 176 | X8: =W8/$F$8 -> 1 | Y8: =F8-W8 -> 0 | Z8: =Y8*H8 -> 0 | AB8: =AA8*H8 -> 0 | AE8: =W8+AC8 -> 176 | AF8: =AE8/$F$8 -> 1 | AG8: =F8-AE8 -> 0 | AH8: =AG8*H8 -> 0 | AJ8: =AI8*T8 -> 0 | AM8: =AE8+AK8 -> 176 | AN8: =AM8/$F$8 -> 1 | AO8: =F8-AM8 -> 0 | AP8: =AO8*H8 -> 0
A9: 1.3 | B9: C2850 | C9: SEINFRA | D9: INSTALAÇÕES PROVISÓRIAS DE LUZ , FORÇA,TELEFONE E LÓGICA | E9: UN | F9: 1 | G9: 931.54 | H9: 1140.85 | I9: 1140.85 | J9: 0.00081431121 | P9: =O9*H9 -> 0 | Q9: =O9 -> 0 | R9: =Q9/F9 -> 0 | S9: =F9-Q9 -> 1 | T9: =S9*H9 -> 1140.85 | U9: 1 | V9: =U9*H9 -> 1140.85 | W9: =Q9+U9 -> 1 | X9: =W9/$F$8 -> 0.0056818182 | Y9: =F9-W9 -> 0 | Z9: =Y9*H9 -> 0 | AB9: =AA9*H9 -> 0 | AE9: =W9+AC9 -> 1 | AF9: =AE9/$F$8 -> 0.0056818182 | AG9: =F9-AE9 -> 0 | AH9: =AG9*H9 -> 0 | AJ9: =AI9*T9 -> 0 | AM9: =AE9+AK9 -> 1 | AN9: =AM9/$F$8 -> 0.0056818182 | AO9: =F9-AM9 -> 0 | AP9: =AO9*H9 -> 0
A10: 1.4 | B10: 93214 | C10: SINAPI | D10: EXECUÇÃO DE RESERVATÓRIO ELEVADO DE ÁGUA (1000 LITROS) EM CANTEIRO DE OBRA, APOIADO EM ESTRUTURA DE MADEIRA. AF_02/2016_PA | E10: UN | F10: 1 | G10: 3683.51 | H10: 4511.19 | I10: 4511.19 | J10: 0.0032199786 | P10: =O10*H10 -> 0 | Q10: =O10 -> 0 | R10: =Q10/F10 -> 0 | S10: =F10-Q10 -> 1 | T10: =S10*H10 -> 4511.19 | U10: 1 | V10: =U10*H10 -> 4511.19 | W10: =Q10+U10 -> 1 | X10: =W10/$F$8 -> 0.0056818182 | Y10: =F10-W10 -> 0 | Z10: =Y10*H10 -> 0 | AB10: =AA10*H10 -> 0 | AE10: =W10+AC10 -> 1 | AF10: =AE10/$F$8 -> 0.0056818182 | AG10: =F10-AE10 -> 0 | AH10: =AG10*H10 -> 0 | AJ10: =AI10*T10 -> 0 | AK10: 2 | AM10: =AE10+AK10 -> 3 | AN10: =AM10/$F$8 -> 0.017045455 | AO10: =F10-AM10 -> -2 | AP10: =AO10*H10 -> -9022.38
A11: 1.5 | B11: C2832 | C11: SEINFRA | D11: FOSSA SÉPTICA E SUMIDOURO EM ALVENARIA | E11: UN | F11: 1 | G11: 3590.77 | H11: 4397.61 | I11: 4397.61 | J11: 0.0031389079 | P11: =O11*H11 -> 0 | Q11: =O11 -> 0 | R11: =Q11/F11 -> 0 | S11: =F11-Q11 -> 1 | T11: =S11*H11 -> 4397.61 | U11: 1 | V11: =U11*H11 -> 4397.61 | W11: =Q11+U11 -> 1 | X11: =W11/$F$8 -> 0.0056818182 | Y11: =F11-W11 -> 0 | Z11: =Y11*H11 -> 0 | AB11: =AA11*H11 -> 0 | AE11: =W11+AC11 -> 1 | AF11: =AE11/$F$8 -> 0.0056818182 | AG11: =F11-AE11 -> 0 | AH11: =AG11*H11 -> 0 | AJ11: =AI11*T11 -> 0 | AK11: 5 | AM11: =AE11+AK11 -> 6 | AN11: =AM11/$F$8 -> 0.034090909 | AO11: =F11-AM11 -> -5 | AP11: =AO11*H11 -> -21988.05
A12: 1.6 | B12: 93212 | C12: SINAPI | D12: EXECUÇÃO DE SANITÁRIO E VESTIÁRIO EM CANTEIRO DE OBRA EM CHAPA DE MADEIRA COMPENSADA, NÃO INCLUSO MOBILIÁRIO. AF_02/2016 | E12: m² | F12: 2.52 | G12: 679.04 | H12: 831.62 | I12: 2095.68 | J12: 0.0014958458 | P12: =O12*H12 -> 0 | Q12: =O12 -> 0 | R12: =Q12/F12 -> 0 | S12: =F12-Q12 -> 2.52 | T12: =S12*H12 -> 2095.6824 | U12: 2.52 | V12: =U12*H12 -> 2095.6824 | W12: =Q12+U12 -> 2.52 | X12: =W12/$F$8 -> 0.014318182 | Y12: =F12-W12 -> 0 | Z12: =Y12*H12 -> 0 | AB12: =AA12*H12 -> 0 | AE12: =W12+AC12 -> 2.52 | AF12: =AE12/$F$8 -> 0.014318182 | AG12: =F12-AE12 -> 0 | AH12: =AG12*H12 -> 0 | AJ12: =AI12*T12 -> 0 | AM12: =AE12+AK12 -> 2.52 | AN12: =AM12/$F$8 -> 0.014318182 | AO12: =F12-AM12 -> 0 | AP12: =AO12*H12 -> 0
A13: 1.7 | B13: 93207 | C13: SINAPI | D13: EXECUÇÃO DE ESCRITÓRIO EM CANTEIRO DE OBRA EM CHAPA DE MADEIRA COMPENSADA, NÃO INCLUSO MOBILIÁRIO E EQUIPAMENTOS. AF_02/2016 | E13: m² | F13: 20 | G13: 729.35 | H13: 893.23 | I13: 17864.6 | J13: 0.01275132 | O13: 20 | P13: =O13*H13 -> 17864.6 | Q13: =O13 -> 20 | R13: =Q13/F13 -> 1 | S13: =F13-Q13 -> 0 | T13: =S13*H13 -> 0 | V13: =U13*H13 -> 0 | W13: =Q13+U13 -> 20 | X13: =W13/$F$8 -> 0.11363636 | Y13: =F13-W13 -> 0 | Z13: =Y13*H13 -> 0 | AB13: =AA13*H13 -> 0 | AE13: =W13+AC13 -> 20 | AF13: =AE13/$F$8 -> 0.11363636 | AG13: =F13-AE13 -> 0 | AH13: =AG13*H13 -> 0 | AJ13: =AI13*T13 -> 0 | AM13: =AE13+AK13 -> 20 | AN13: =AM13/$F$8 -> 0.11363636 | AO13: =F13-AM13 -> 0 | AP13: =AO13*H13 -> 0
A14: 1.8 | B14: 93584 | C14: SINAPI | D14: EXECUÇÃO DE DEPÓSITO EM CANTEIRO DE OBRA EM CHAPA DE MADEIRA COMPENSADA, NÃO INCLUSO MOBILIÁRIO. AF_04/2016 | E14: m² | F14: 20 | G14: 598.34 | H14: 732.78 | I14: 14655.6 | J14: 0.010460814 | O14: 20 | P14: =O14*H14 -> 14655.6 | Q14: =O14 -> 20 | R14: =Q14/F14 -> 1 | S14: =F14-Q14 -> 0 | T14: =S14*H14 -> 0 | V14: =U14*H14 -> 0 | W14: =Q14+U14 -> 20 | X14: =W14/$F$8 -> 0.11363636 | Y14: =F14-W14 -> 0 | Z14: =Y14*H14 -> 0 | AB14: =AA14*H14 -> 0 | AE14: =W14+AC14 -> 20 | AF14: =AE14/$F$8 -> 0.11363636 | AG14: =F14-AE14 -> 0 | AH14: =AG14*H14 -> 0 | AJ14: =AI14*T14 -> 0 | AM14: =AE14+AK14 -> 20 | AN14: =AM14/$F$8 -> 0.11363636 | AO14: =F14-AM14 -> 0 | AP14: =AO14*H14 -> 0
A15: 1.9 | B15: C1630 | C15: SEINFRA | D15: LOCAÇÃO DA OBRA - EXECUÇÃO DE GABARITO | E15: m² | F15: 1129.64 | G15: 5.67 | H15: 6.94 | I15: 7839.7 | J15: 0.0055957887 | P15: =O15*H15 -> 0 | Q15: =O15 -> 0 | R15: =Q15/F15 -> 0 | S15: =F15-Q15 -> 1129.64 | T15: =S15*H15 -> 7839.7016 | U15: 742.79 | V15: =U15*H15 -> 5154.9626 | W15: =Q15+U15 -> 742.79 | X15: =W15/$F$8 -> 4.2203977 | Y15: =F15-W15 -> 386.85 | Z15: =Y15*H15 -> 2684.739 | AB15: =AA15*H15 -> 0 | AE15: =W15+AC15 -> 742.79 | AF15: =AE15/$F$8 -> 4.2203977 | AG15: =F15-AE15 -> 386.85 | AH15: =AG15*H15 -> 2684.739 | AJ15: =AI15*T15 -> 0 | AM15: =AE15+AK15 -> 742.79 | AN15: =AM15/$F$8 -> 4.2203977 | AO15: =F15-AM15 -> 386.85 | AP15: =AO15*H15 -> 2684.739
A16: 1.10 | B16: 98525 | C16: SINAPI | D16: LIMPEZA MECANIZADA DE CAMADA VEGETAL, VEGETAÇÃO E PEQUENAS ÁRVORES (DIÂMETRO DE TRONCO MENOR QUE 0,20 M), COM TRATOR DE ESTEIRAS.AF_05/2018 | E16: m² | F16: 4000 | G16: 0.25 | H16: 0.3 | I16: 1200 | J16: 0.00085653105 | O16: 4000 | P16: =O16*H16 -> 1200 | Q16: =O16 -> 4000 | R16: =Q16/F16 -> 1 | S16: =F16-Q16 -> 0 | T16: =S16*H16 -> 0 | V16: =U16*H16 -> 0 | W16: =Q16+U16 -> 4000 | X16: =W16/$F$8 -> 22.727273 | Y16: =F16-W16 -> 0 | Z16: =Y16*H16 -> 0 | AB16: =AA16*H16 -> 0 | AE16: =W16+AC16 -> 4000 | AF16: =AE16/$F$8 -> 22.727273 | AG16: =F16-AE16 -> 0 | AH16: =AG16*H16 -> 0 | AJ16: =AI16*T16 -> 0 | AM16: =AE16+AK16 -> 4000 | AN16: =AM16/$F$8 -> 22.727273 | AO16: =F16-AM16 -> 0 | AP16: =AO16*H16 -> 0
A17: 2 | D17: MOVIMENTO DE TERRAS PARA FUNDAÇÕES | I17: 31327.78 | J17: 0.022361014 | T17: =SUM(T18:T21) -> 31327.807 | Z17: =SUM(Z18:Z21) -> 22755.954 | AH17: =SUM(AH18:AH21) -> 22755.954 | AP17: =SUM(AP18:AP21) -> 22755.954
A18: 2.1 | B18: 94319 | C18: SINAPI | D18: ATERRO MANUAL DE VALAS COM SOLO ARGILO-ARENOSO E COMPACTAÇÃO MECANIZADA. AF_05/2016 | E18: m³ | F18: 168.5 | G18: 54 | H18: 66.13 | I18: 11142.9 | J18: 0.0079535332 | P18: =O18*H18 -> 0 | Q18: =O18 -> 0 | R18: =Q18/F18 -> 0 | S18: =F18-Q18 -> 168.5 | T18: =S18*H18 -> 11142.905 | U18: ='MEMORIA DE CALCULO'!H100 -> 114.1205 | V18: =U18*H18 -> 7546.7887 | W18: =Q18+U18 -> 114.1205 | X18: =W18/$F$8 -> 0.64841193 | Y18: =F18-W18 -> 54.3795 | Z18: =Y18*H18 -> 3596.1163 | AB18: =AA18*H18 -> 0 | AE18: =W18+AC18 -> 114.1205 | AF18: =AE18/$F$8 -> 0.64841193 | AG18: =F18-AE18 -> 54.3795 | AH18: =AG18*H18 -> 3596.1163 | AJ18: =AI18*T18 -> 0 | AM18: =AE18+AK18 -> 114.1205 | AN18: =AM18/$F$8 -> 0.64841193 | AO18: =F18-AM18 -> 54.3795 | AP18: =AO18*H18 -> 3596.1163
A19: 2.2 | B19: 93358 | C19: SINAPI | D19: ESCAVAÇÃO MANUAL DE VALA COM PROFUNDIDADE MENOR OU IGUAL A 1,30 M. AF_02/2021 | E19: m³ | F19: 94.33 | G19: 56.41 | H19: 69.08 | I19: 6516.31 | J19: 0.0046511849 | P19: =O19*H19 -> 0 | Q19: =O19 -> 0 | R19: =Q19/F19 -> 0 | S19: =F19-Q19 -> 94.33 | T19: =S19*H19 -> 6516.3164 | U19: ='MEMORIA DE CALCULO'!H116 -> 14.8388 | V19: =U19*H19 -> 1025.0643 | W19: =Q19+U19 -> 14.8388 | X19: =W19/$F$8 -> 0.084311364 | Y19: =F19-W19 -> 79.4912 | Z19: =Y19*H19 -> 5491.2521 | AB19: =AA19*H19 -> 0 | AE19: =W19+AC19 -> 14.8388 | AF19: =AE19/$F$8 -> 0.084311364 | AG19: =F19-AE19 -> 79.4912 | AH19: =AG19*H19 -> 5491.2521 | AJ19: =AI19*T19 -> 0 | AM19: =AE19+AK19 -> 14.8388 | AN19: =AM19/$F$8 -> 0.084311364 | AO19: =F19-AM19 -> 79.4912 | AP19: =AO19*H19 -> 5491.2521
A20: 2.3 | B20: 94319 | C20: SINAPI | D20: ATERRO MANUAL DE VALAS COM SOLO ARGILO-ARENOSO E COMPACTAÇÃO MECANIZADA. AF_05/2016 | E20: m³ | F20: 184.58 | G20: 54 | H20: 66.13 | I20: 12206.27 | J20: 0.008712541 | P20: =O20*H20 -> 0 | Q20: =O20 -> 0 | R20: =Q20/F20 -> 0 | S20: =F20-Q20 -> 184.58 | T20: =S20*H20 -> 12206.275 | V20: =U20*H20 -> 0 | W20: =Q20+U20 -> 0 | X20: =W20/$F$8 -> 0 | Y20: =F20-W20 -> 184.58 | Z20: =Y20*H20 -> 12206.275 | AB20: =AA20*H20 -> 0 | AE20: =W20+AC20 -> 0 | AF20: =AE20/$F$8 -> 0 | AG20: =F20-AE20 -> 184.58 | AH20: =AG20*H20 -> 12206.275 | AJ20: =AI20*T20 -> 0 | AM20: =AE20+AK20 -> 0 | AN20: =AM20/$F$8 -> 0 | AO20: =F20-AM20 -> 184.58 | AP20: =AO20*H20 -> 12206.275
A21: 2.4 | B21: 93382 | C21: SINAPI | D21: REATERRO MANUAL DE VALAS COM COMPACTAÇÃO MECANIZADA. AF_04/2016 | E21: m³ | F21: 55.58 | G21: 21.49 | H21: 26.31 | I21: 1462.3 | J21: 0.0010437545 | P21: =O21*H21 -> 0 | Q21: =O21 -> 0 | R21: =Q21/F21 -> 0 | S21: =F21-Q21 -> 55.58 | T21: =S21*H21 -> 1462.3098 | V21: =U21*H21 -> 0 | W21: =Q21+U21 -> 0 | X21: =W21/$F$8 -> 0 | Y21: =F21-W21 -> 55.58 | Z21: =Y21*H21 -> 1462.3098 | AB21: =AA21*H21 -> 0 | AE21: =W21+AC21 -> 0 | AF21: =AE21/$F$8 -> 0 | AG21: =F21-AE21 -> 55.58 | AH21: =AG21*H21 -> 1462.3098 | AJ21: =AI21*T21 -> 0 | AM21: =AE21+AK21 -> 0 | AN21: =AM21/$F$8 -> 0 | AO21: =F21-AM21 -> 55.58 | AP21: =AO21*H21 -> 1462.3098
A22: 3 | D22: FUNDAÇÕES | I22: 110557.96 | J22: 0.078913605
A23: 3.1 | D23: CONCRETO ARMADO PARA FUNDAÇÕES | I23: 40612.69 | J23: 0.028988358 | T23: =SUM(T24:T31) -> 40612.733 | Z23: =SUM(Z24:Z31) -> 25069.544 | AH23: =SUM(AH24:AH31) -> 25069.544 | AP23: =SUM(AP24:AP31) -> 25069.544
A24: 3.1.1 | B24: 96619 | C24: SINAPI | D24: LASTRO DE CONCRETO MAGRO, APLICADO EM BLOCOS DE COROAMENTO OU SAPATAS, ESPESSURA DE 5 CM. AF_08/2017 | E24: m² | F24: 61.88 | G24: 22.37 | H24: 27.39 | I24: 1694.89 | J24: 0.0012097716 | P24: =O24*H24 -> 0 | Q24: =O24 -> 0 | R24: =Q24/F24 -> 0 | S24: =F24-Q24 -> 61.88 | T24: =S24*H24 -> 1694.8932 | U24: ='MEMORIA DE CALCULO'!H160 -> 35.45 | V24: =U24*H24 -> 970.9755 | W24: =Q24+U24 -> 35.45 | X24: =W24/$F$8 -> 0.20142045 | Y24: =F24-W24 -> 26.43 | Z24: =Y24*H24 -> 723.9177 | AB24: =AA24*H24 -> 0 | AE24: =W24+AC24 -> 35.45 | AF24: =AE24/$F$8 -> 0.20142045 | AG24: =F24-AE24 -> 26.43 | AH24: =AG24*H24 -> 723.9177 | AJ24: =AI24*T24 -> 0 | AM24: =AE24+AK24 -> 35.45 | AN24: =AM24/$F$8 -> 0.20142045 | AO24: =F24-AM24 -> 26.43 | AP24: =AO24*H24 -> 723.9177
A25: 3.1.2 | B25: 96535 | C25: SINAPI | D25: FABRICAÇÃO, MONTAGEM E DESMONTAGEM DE FÔRMA PARA SAPATA, EM MADEIRA SERRADA, E=25 MM, 4 UTILIZAÇÕES. AF_06/2017 | E25: m² | F25: 165.15 | G25: 104.74 | H25: 128.27 | I25: 21183.79 | J25: 0.015120478 | P25: =O25*H25 -> 0 | Q25: =O25 -> 0 | R25: =Q25/F25 -> 0 | S25: =F25-Q25 -> 165.15 | T25: =S25*H25 -> 21183.791 | U25: ='MEMORIA DE CALCULO'!H190 -> 52.85 | V25: =U25*H25 -> 6779.0695 | W25: =Q25+U25 -> 52.85 | X25: =W25/$F$8 -> 0.30028409 | Y25: =F25-W25 -> 112.3 | Z25: =Y25*H25 -> 14404.721 | AB25: =AA25*H25 -> 0 | AE25: =W25+AC25 -> 52.85 | AF25: =AE25/$F$8 -> 0.30028409 | AG25: =F25-AE25 -> 112.3 | AH25: =AG25*H25 -> 14404.721 | AJ25: =AI25*T25 -> 0 | AM25: =AE25+AK25 -> 52.85 | AN25: =AM25/$F$8 -> 0.30028409 | AO25: =F25-AM25 -> 112.3 | AP25: =AO25*H25 -> 14404.721
A26: 3.1.3 | B26: 92916 | C26: SINAPI | D26: ARMAÇÃO DE ESTRUTURAS DIVERSAS DE CONCRETO ARMADO, EXCETO VIGAS, PILARES, LAJES E FUNDAÇÕES, UTILIZANDO AÇO CA-50 DE 6,3 MM - MONTAGEM. AF_06/2022 | E26: KG | F26: 6.55 | G26: 11.54 | H26: 14.13 | I26: 92.55 | J26: 6.6059957e-05 | P26: =O26*H26 -> 0 | Q26: =O26 -> 0 | R26: =Q26/F26 -> 0 | S26: =F26-Q26 -> 6.55 | T26: =S26*H26 -> 92.5515 | V26: =U26*H26 -> 0 | W26: =Q26+U26 -> 0 | X26: =W26/$F$8 -> 0 | Y26: =F26-W26 -> 6.55 | Z26: =Y26*H26 -> 92.5515 | AB26: =AA26*H26 -> 0 | AE26: =W26+AC26 -> 0 | AF26: =AE26/$F$8 -> 0 | AG26: =F26-AE26 -> 6.55 | AH26: =AG26*H26 -> 92.5515 | AJ26: =AI26*T26 -> 0 | AM26: =AE26+AK26 -> 0 | AN26: =AM26/$F$8 -> 0 | AO26: =F26-AM26 -> 6.55 | AP26: =AO26*H26 -> 92.5515
A27: 3.1.4 | B27: 92917 | C27: SINAPI | D27: ARMAÇÃO DE ESTRUTURAS DIVERSAS DE CONCRETO ARMADO, EXCETO VIGAS, PILARES, LAJES E FUNDAÇÕES, UTILIZANDO AÇO CA-50 DE 8,0 MM - MONTAGEM. AF_06/2022 | E27: KG | F27: 32.45 | G27: 10.65 | H27: 13.04 | I27: 423.14 | J27: 0.00030202712 | P27: =O27*H27 -> 0 | Q27: =O27 -> 0 | R27: =Q27/F27 -> 0 | S27: =F27-Q27 -> 32.45 | T27: =S27*H27 -> 423.148 | V27: =U27*H27 -> 0 | W27: =Q27+U27 -> 0 | X27: =W27/$F$8 -> 0 | Y27: =F27-W27 -> 32.45 | Z27: =Y27*H27 -> 423.148 | AB27: =AA27*H27 -> 0 | AE27: =W27+AC27 -> 0 | AF27: =AE27/$F$8 -> 0 | AG27: =F27-AE27 -> 32.45 | AH27: =AG27*H27 -> 423.148 | AJ27: =AI27*T27 -> 0 | AM27: =AE27+AK27 -> 0 | AN27: =AM27/$F$8 -> 0 | AO27: =F27-AM27 -> 32.45 | AP27: =AO27*H27 -> 423.148
A28: 3.1.5 | B28: 92919 | C28: SINAPI | D28: ARMAÇÃO DE ESTRUTURAS DIVERSAS DE CONCRETO ARMADO, EXCETO VIGAS, PILARES, LAJES E FUNDAÇÕES, UTILIZANDO AÇO CA-50 DE 10,0 MM - MONTAGEM. AF_06/2022 | E28: KG | F28: 312.26 | G28: 9.39 | H28: 11.49 | I28: 3587.86 | J28: 0.0025609279 | P28: =O28*H28 -> 0 | Q28: =O28 -> 0 | R28: =Q28/F28 -> 0 | S28: =F28-Q28 -> 312.26 | T28: =S28*H28 -> 3587.8674 | U28: ='MEMORIA DE CALCULO'!H210 -> 312.26 | V28: =U28*H28 -> 3587.8674 | W28: =Q28+U28 -> 312.26 | X28: =W28/$F$8 -> 1.7742045 | Y28: =F28-W28 -> 0 | Z28: =Y28*H28 -> 0 | AB28: =AA28*H28 -> 0 | AE28: =W28+AC28 -> 312.26 | AF28: =AE28/$F$8 -> 1.7742045 | AG28: =F28-AE28 -> 0 | AH28: =AG28*H28 -> 0 | AJ28: =AI28*T28 -> 0 | AM28: =AE28+AK28 -> 312.26 | AN28: =AM28/$F$8 -> 1.7742045 | AO28: =F28-AM28 -> 0 | AP28: =AO28*H28 -> 0
A29: 3.1.6 | B29: 92921 | C29: SINAPI | D29: ARMAÇÃO DE ESTRUTURAS DIVERSAS DE CONCRETO ARMADO, EXCETO VIGAS, PILARES, LAJES E FUNDAÇÕES, UTILIZANDO AÇO CA-50 DE 12,5 MM - MONTAGEM. AF_06/2022 | E29: KG | F29: 32.64 | G29: 7.82 | H29: 9.57 | I29: 312.36 | J29: 0.00022295503 | P29: =O29*H29 -> 0 | Q29: =O29 -> 0 | R29: =Q29/F29 -> 0 | S29: =F29-Q29 -> 32.64 | T29: =S29*H29 -> 312.3648 | V29: =U29*H29 -> 0 | W29: =Q29+U29 -> 0 | X29: =W29/$F$8 -> 0 | Y29: =F29-W29 -> 32.64 | Z29: =Y29*H29 -> 312.3648 | AB29: =AA29*H29 -> 0 | AE29: =W29+AC29 -> 0 | AF29: =AE29/$F$8 -> 0 | AG29: =F29-AE29 -> 32.64 | AH29: =AG29*H29 -> 312.3648 | AJ29: =AI29*T29 -> 0 | AM29: =AE29+AK29 -> 0 | AN29: =AM29/$F$8 -> 0 | AO29: =F29-AM29 -> 32.64 | AP29: =AO29*H29 -> 312.3648
A30: 3.1.7 | B30: 92915 | C30: SINAPI | D30: ARMAÇÃO DE ESTRUTURAS DIVERSAS DE CONCRETO ARMADO, EXCETO VIGAS, PILARES, LAJES E FUNDAÇÕES, UTILIZANDO AÇO CA-60 DE 5,0 MM - MONTAGEM. AF_06/2022 | E30: KG | F30: 307.55 | G30: 12.4 | H30: 15.18 | I30: 4668.6 | J30: 0.003332334 | P30: =O30*H30 -> 0 | Q30: =O30 -> 0 | R30: =Q30/F30 -> 0 | S30: =F30-Q30 -> 307.55 | T30: =S30*H30 -> 4668.609 | U30: ='MEMORIA DE CALCULO'!H234 -> 188.65951 | V30: =U30*H30 -> 2863.8513 | W30: =Q30+U30 -> 188.65951 | X30: =W30/$F$8 -> 1.071929 | Y30: =F30-W30 -> 118.89049 | Z30: =Y30*H30 -> 1804.7577 | AB30: =AA30*H30 -> 0 | AE30: =W30+AC30 -> 188.65951 | AF30: =AE30/$F$8 -> 1.071929 | AG30: =F30-AE30 -> 118.89049 | AH30: =AG30*H30 -> 1804.7577 | AJ30: =AI30*T30 -> 0 | AM30: =AE30+AK30 -> 188.65951 | AN30: =AM30/$F$8 -> 1.071929 | AO30: =F30-AM30 -> 118.89049 | AP30: =AO30*H30 -> 1804.7577
A31: 3.1.8 | B31: 96558 | C31: SINAPI | D31: CONCRETAGEM DE SAPATAS, FCK 30 MPA, COM USO DE BOMBA  LANÇAMENTO, ADENSAMENTO E ACABAMENTO. AF_11/2016 | E31: m³ | F31: 16.12 | G31: 438.13 | H31: 536.57 | I31: 8649.5 | J31: 0.0061738044 | P31: =O31*H31 -> 0 | Q31: =O31 -> 0 | R31: =Q31/F31 -> 0 | S31: =F31-Q31 -> 16.12 | T31: =S31*H31 -> 8649.5084 | U31: ='MEMORIA DE CALCULO'!H256 -> 2.5 | V31: =U31*H31 -> 1341.425 | W31: =Q31+U31 -> 2.5 | X31: =W31/$F$8 -> 0.014204545 | Y31: =F31-W31 -> 13.62 | Z31: =Y31*H31 -> 7308.0834 | AB31: =AA31*H31 -> 0 | AE31: =W31+AC31 -> 2.5 | AF31: =AE31/$F$8 -> 0.014204545 | AG31: =F31-AE31 -> 13.62 | AH31: =AG31*H31 -> 7308.0834 | AJ31: =AI31*T31 -> 0 | AM31: =AE31+AK31 -> 2.5 | AN31: =AM31/$F$8 -> 0.014204545 | AO31: =F31-AM31 -> 13.62 | AP31: =AO31*H31 -> 7308.0834
A32: 3.2 | D32: CONCRETO ARMADO PARA FUNDAÇÕES - VIGAS BALDRAMES | I32: 62144.6 | J32: 0.044357316 | T32: =SUM(T33:T38) -> 62144.625 | Z32: =SUM(Z33:Z38) -> 19247.102 | AH32: =SUM(AH33:AH38) -> 19247.102 | AP32: =SUM(AP33:AP38) -> 19247.102
A33: 3.2.1 | B33: 96536 | C33: SINAPI | D33: FABRICAÇÃO, MONTAGEM E DESMONTAGEM DE FÔRMA PARA VIGA BALDRAME, EM MADEIRA SERRADA, E=25 MM, 4 UTILIZAÇÕES. AF_06/2017 | E33: m² | F33: 463.48 | G33: 52.7 | H33: 64.54 | I33: 29912.99 | J33: 0.021351171 | P33: =O33*H33 -> 0 | Q33: =O33 -> 0 | R33: =Q33/F33 -> 0 | S33: =F33-Q33 -> 463.48 | T33: =S33*H33 -> 29912.999 | U33: ='MEMORIA DE CALCULO'!H271 -> 405.84 | V33: =U33*H33 -> 26192.914 | W33: =Q33+U33 -> 405.84 | X33: =W33/$F$8 -> 2.3059091 | Y33: =F33-W33 -> 57.64 | Z33: =Y33*H33 -> 3720.0856 | AB33: =AA33*H33 -> 0 | AE33: =W33+AC33 -> 405.84 | AF33: =AE33/$F$8 -> 2.3059091 | AG33: =F33-AE33 -> 57.64 | AH33: =AG33*H33 -> 3720.0856 | AJ33: =AI33*T33 -> 0 | AM33: =AE33+AK33 -> 405.84 | AN33: =AM33/$F$8 -> 2.3059091 | AO33: =F33-AM33 -> 57.64 | AP33: =AO33*H33 -> 3720.0856
A34: 3.2.2 | B34: 92916 | C34: SINAPI | D34: ARMAÇÃO DE ESTRUTURAS DIVERSAS DE CONCRETO ARMADO, EXCETO VIGAS, PILARES, LAJES E FUNDAÇÕES, UTILIZANDO AÇO CA-50 DE 6,3 MM - MONTAGEM. AF_06/2022 | E34: KG | F34: 0.73 | G34: 11.54 | H34: 14.13 | I34: 10.31 | J34: 7.3590293e-06 | P34: =O34*H34 -> 0 | Q34: =O34 -> 0 | R34: =Q34/F34 -> 0 | S34: =F34-Q34 -> 0.73 | T34: =S34*H34 -> 10.3149 | V34: =U34*H34 -> 0 | W34: =Q34+U34 -> 0 | X34: =W34/$F$8 -> 0 | Y34: =F34-W34 -> 0.73 | Z34: =Y34*H34 -> 10.3149 | AB34: =AA34*H34 -> 0 | AE34: =W34+AC34 -> 0 | AF34: =AE34/$F$8 -> 0 | AG34: =F34-AE34 -> 0.73 | AH34: =AG34*H34 -> 10.3149 | AJ34: =AI34*T34 -> 0 | AM34: =AE34+AK34 -> 0 | AN34: =AM34/$F$8 -> 0 | AO34: =F34-AM34 -> 0.73 | AP34: =AO34*H34 -> 10.3149
A35: 3.2.3 | B35: 92917 | C35: SINAPI | D35: ARMAÇÃO DE ESTRUTURAS DIVERSAS DE CONCRETO ARMADO, EXCETO VIGAS, PILARES, LAJES E FUNDAÇÕES, UTILIZANDO AÇO CA-50 DE 8,0 MM - MONTAGEM. AF_06/2022 | E35: KG | F35: 829.82 | G35: 10.65 | H35: 13.04 | I35: 10820.85 | J35: 0.0077236617 | P35: =O35*H35 -> 0 | Q35: =O35 -> 0 | R35: =Q35/F35 -> 0 | S35: =F35-Q35 -> 829.82 | T35: =S35*H35 -> 10820.853 | U35: ='MEMORIA DE CALCULO'!H287 -> 417.5 | V35: =U35*H35 -> 5444.2 | W35: =Q35+U35 -> 417.5 | X35: =W35/$F$8 -> 2.3721591 | Y35: =F35-W35 -> 412.32 | Z35: =Y35*H35 -> 5376.6528 | AB35: =AA35*H35 -> 0 | AE35: =W35+AC35 -> 417.5 | AF35: =AE35/$F$8 -> 2.3721591 | AG35: =F35-AE35 -> 412.32 | AH35: =AG35*H35 -> 5376.6528 | AJ35: =AI35*T35 -> 0 | AM35: =AE35+AK35 -> 417.5 | AN35: =AM35/$F$8 -> 2.3721591 | AO35: =F35-AM35 -> 412.32 | AP35: =AO35*H35 -> 5376.6528
A36: 3.2.4 | B36: 92919 | C36: SINAPI | D36: ARMAÇÃO DE ESTRUTURAS DIVERSAS DE CONCRETO ARMADO, EXCETO VIGAS, PILARES, LAJES E FUNDAÇÕES, UTILIZANDO AÇO CA-50 DE 10,0 MM - MONTAGEM. AF_06/2022 | E36: KG | F36: 100.82 | G36: 9.39 | H36: 11.49 | I36: 1158.42 | J36: 0.00082685225 | P36: =O36*H36 -> 0 | Q36: =O36 -> 0 | R36: =Q36/F36 -> 0 | S36: =F36-Q36 -> 100.82 | T36: =S36*H36 -> 1158.4218 | V36: =U36*H36 -> 0 | W36: =Q36+U36 -> 0 | X36: =W36/$F$8 -> 0 | Y36: =F36-W36 -> 100.82 | Z36: =Y36*H36 -> 1158.4218 | AB36: =AA36*H36 -> 0 | AE36: =W36+AC36 -> 0 | AF36: =AE36/$F$8 -> 0 | AG36: =F36-AE36 -> 100.82 | AH36: =AG36*H36 -> 1158.4218 | AJ36: =AI36*T36 -> 0 | AM36: =AE36+AK36 -> 0 | AN36: =AM36/$F$8 -> 0 | AO36: =F36-AM36 -> 100.82 | AP36: =AO36*H36 -> 1158.4218
A37: 3.2.5 | B37: 92915 | C37: SINAPI | D37: ARMAÇÃO DE ESTRUTURAS DIVERSAS DE CONCRETO ARMADO, EXCETO VIGAS, PILARES, LAJES E FUNDAÇÕES, UTILIZANDO AÇO CA-60 DE 5,0 MM - MONTAGEM. AF_06/2022 | E37: KG | F37: 395 | G37: 12.4 | H37: 15.18 | I37: 5996.1 | J37: 0.0042798715 | P37: =O37*H37 -> 0 | Q37: =O37 -> 0 | R37: =Q37/F37 -> 0 | S37: =F37-Q37 -> 395 | T37: =S37*H37 -> 5996.1 | U37: ='MEMORIA DE CALCULO'!H313 -> 226.98 | V37: =U37*H37 -> 3445.5564 | W37: =Q37+U37 -> 226.98 | X37: =W37/$F$8 -> 1.2896591 | Y37: =F37-W37 -> 168.02 | Z37: =Y37*H37 -> 2550.5436 | AB37: =AA37*H37 -> 0 | AE37: =W37+AC37 -> 226.98 | AF37: =AE37/$F$8 -> 1.2896591 | AG37: =F37-AE37 -> 168.02 | AH37: =AG37*H37 -> 2550.5436 | AJ37: =AI37*T37 -> 0 | AM37: =AE37+AK37 -> 226.98 | AN37: =AM37/$F$8 -> 1.2896591 | AO37: =F37-AM37 -> 168.02 | AP37: =AO37*H37 -> 2550.5436
A38: 3.2.6 | B38: 96557 | C38: SINAPI | D38: CONCRETAGEM DE BLOCOS DE COROAMENTO E VIGAS BALDRAMES, FCK 30 MPA, COM USO DE BOMBA  LANÇAMENTO, ADENSAMENTO E ACABAMENTO. AF_06/2017 | E38: m³ | F38: 26.87 | G38: 432.91 | H38: 530.18 | I38: 14245.93 | J38: 0.010168401 | P38: =O38*H38 -> 0 | Q38: =O38 -> 0 | R38: =Q38/F38 -> 0 | S38: =F38-Q38 -> 26.87 | T38: =S38*H38 -> 14245.937 | U38: ='MEMORIA DE CALCULO'!H329 -> 14.74 | V38: =U38*H38 -> 7814.8532 | W38: =Q38+U38 -> 14.74 | X38: =W38/$F$8 -> 0.08375 | Y38: =F38-W38 -> 12.13 | Z38: =Y38*H38 -> 6431.0834 | AB38: =AA38*H38 -> 0 | AE38: =W38+AC38 -> 14.74 | AF38: =AE38/$F$8 -> 0.08375 | AG38: =F38-AE38 -> 12.13 | AH38: =AG38*H38 -> 6431.0834 | AJ38: =AI38*T38 -> 0 | AM38: =AE38+AK38 -> 14.74 | AN38: =AM38/$F$8 -> 0.08375 | AO38: =F38-AM38 -> 12.13 | AP38: =AO38*H38 -> 6431.0834
A39: 3.3 | D39: CONCRETO ARMADO PARA FUNDAÇÕES - BASE CAIXA D'ÁGUA | I39: 7800.67 | J39: 0.00556793 | T39: =SUM(T40:T43) -> 7800.6764 | Z39: =SUM(Z40:Z43) -> 7800.6764 | AH39: =SUM(AH40:AH43) -> 7800.6764 | AP39: =SUM(AP40:AP43) -> 7800.6764
A40: 3.3.1 | B40: 96535 | C40: SINAPI | D40: FABRICAÇÃO, MONTAGEM E DESMONTAGEM DE FÔRMA PARA SAPATA, EM MADEIRA SERRADA, E=25 MM, 4 UTILIZAÇÕES. AF_06/2017 | E40: m² | F40: 5.6 | G40: 104.74 | H40: 128.27 | I40: 718.31 | J40: 0.00051271235 | P40: =O40*H40 -> 0 | Q40: =O40 -> 0 | R40: =Q40/F40 -> 0 | S40: =F40-Q40 -> 5.6 | T40: =S40*H40 -> 718.312 | V40: =U40*H40 -> 0 | W40: =Q40+U40 -> 0 | X40: =W40/$F$8 -> 0 | Y40: =F40-W40 -> 5.6 | Z40: =Y40*H40 -> 718.312 | AB40: =AA40*H40 -> 0 | AE40: =W40+AC40 -> 0 | AF40: =AE40/$F$8 -> 0 | AG40: =F40-AE40 -> 5.6 | AH40: =AG40*H40 -> 718.312 | AJ40: =AI40*T40 -> 0 | AM40: =AE40+AK40 -> 0 | AN40: =AM40/$F$8 -> 0 | AO40: =F40-AM40 -> 5.6 | AP40: =AO40*H40 -> 718.312
...

Sheet BM 03
A2: BOLETIM DE MEDIÇÃO
A4: PROGRAMA: | B4: INTEGRA PARAIBA | C4: MODALIDADE: ESCOLA | H4: EMPREENDIMENTO: | J4: GESTOR: | L4: DATA DA MEDIÇÃO | M4: 45838
J5: ESTADO DA PARAÍBA
A7: CONTRATANTE: | D7: CNPJ: | F7: CONTRATADA: CONSTRUTORA SOUSA CAMPOS | J7: CNPJ: 19.175.657/0001-18 | L7: INICIO DA OBRA; | M7: 45579
A8: PREFEITURA MUNICIPAL DE MOGEIRO | D8: 08.866.501/0001-67
A10: OBJETO: | B10: CONTRATAÇÃO DE EMPRESA PARA CONSTRUÇÃO DE UMA ESCOLA COM 6 SALAS DE AULA. TIPO A INTEGRA PARAIBA. | F10: PROCESSO/OPERAÇÃO: | H10: CONTRATO-CPL: | J10: N° MEDIÇÃO | L10: PERÍODO DA MEDIÇÃO:
H11: 00125/2024-CPL | J11: 03 | L11: DE 01/04/2025 a 30/05/2025
A13: LOCAL: | B13: AVENIDA JOSÉ AMÉRICO, Z/N, BAIRRO MARIA PEIXOTO, MOGEIRO-PB | F13: VALOR CONTRATADO | H13: VALOR DA MEDIÇÃO | J13: VALOR ACUMULADO | L13: SALDO DO CONTRATO
F14: =F316 -> 1401000 | H14: =K324 -> 108696.72 | J14: =L324 -> 240825.52 | L14: =F14-J14 -> 1160174.5
A16: ITEM | B16: DISCRIMINAÇÃO | C16: CONTRATADO | G16: QUANTITATIVO | J16: FINANCEIRO | M16: PERCENTUAL MEDIDO
C17: UNID | D17: QUANT. | E17: UNITÁRIO | F17: TOTAL | G17: ACUMULADO ANTERIOR | H17: PERIODO | I17: ACUMULADO INCLUINDO O PERIODO | J17: ACUMULADO ANTERIOR | K17: PERIODO | L17: ACUMULADO INCLUINDO O PERIODO
A19: 1 | B19: SERVIÇOS PRELIMINARES | F19: =SUM(F20:F29) -> 73151.734 | J19: =SUM(J20:J29)+0.01 -> 70467 | K19: =SUM(K20:K29) -> 2684.73 | L19: =J19+K19 -> 73151.73 | M19: =L19/F19 -> 0.99999995
A20: 1.1 | B20: Placa de obra em chapa aço galvanizado, instalada - Rev 02_01/2022 | C20: m² | D20: 10 | E20: 311.37 | F20: =E20*D20 -> 3113.7 | G20: 10 | I20: 10 | J20: =TRUNC(E20*G20,2) -> 3113.7 | K20: =TRUNC(E20*H20,2) -> 0 | L20: =J20+K20 -> 3113.7 | M20: =L20/F20 -> 1 | N20: =D20-I20 -> 0
A21: 1.2 | B21: TAPUME COM COMPENSADO DE MADEIRA. AF_05/2018 | C21: m² | D21: 176 | E21: 92.8 | F21: =E21*D21 -> 16332.8 | G21: 176 | I21: 176 | J21: =TRUNC(E21*G21,2) -> 16332.8 | K21: =TRUNC(E21*H21,2) -> 0 | L21: =J21+K21 -> 16332.8 | M21: =L21/F21 -> 1 | N21: =D21-I21 -> 0
A22: 1.3 | B22: INSTALAÇÕES PROVISÓRIAS DE LUZ , FORÇA,TELEFONE E LÓGICA | C22: UN | D22: 1 | E22: 1140.85 | F22: =E22*D22 -> 1140.85 | G22: 1 | I22: =G22+H22 -> 1 | J22: =TRUNC(E22*G22,2) -> 1140.85 | K22: =TRUNC(E22*H22,2) -> 0 | L22: =J22+K22 -> 1140.85 | M22: =L22/F22 -> 1 | N22: =D22-I22 -> 0
A23: 1.4 | B23: EXECUÇÃO DE RESERVATÓRIO ELEVADO DE ÁGUA (1000 LITROS) EM CANTEIRO DE OBRA, APOIADO EM ESTRUTURA DE MADEIRA. AF_02/2016_PA | C23: UN | D23: 1 | E23: 4511.19 | F23: =E23*D23 -> 4511.19 | G23: 1 | I23: =G23+H23 -> 1 | J23: =TRUNC(E23*G23,2) -> 4511.19 | K23: =TRUNC(E23*H23,2) -> 0 | L23: =J23+K23 -> 4511.19 | M23: =L23/F23 -> 1 | N23: =D23-I23 -> 0
A24: 1.5 | B24: FOSSA SÉPTICA E SUMIDOURO EM ALVENARIA | C24: UN | D24: 1 | E24: 4397.61 | F24: =E24*D24 -> 4397.61 | G24: 1 | I24: =G24+H24 -> 1 | J24: =TRUNC(E24*G24,2) -> 4397.61 | K24: =TRUNC(E24*H24,2) -> 0 | L24: =J24+K24 -> 4397.61 | M24: =L24/F24 -> 1 | N24: =D24-I24 -> 0
A25: 1.6 | B25: EXECUÇÃO DE SANITÁRIO E VESTIÁRIO EM CANTEIRO DE OBRA EM CHAPA DE MADEIRA COMPENSADA, NÃO INCLUSO MOBILIÁRIO. AF_02/2016 | C25: m² | D25: 2.52 | E25: 831.62 | F25: =E25*D25 -> 2095.6824 | G25: 2.52 | I25: =G25+H25 -> 2.52 | J25: =TRUNC(E25*G25,2) -> 2095.68 | K25: =TRUNC(E25*H25,2) -> 0 | L25: =J25+K25 -> 2095.68 | M25: =L25/F25 -> 0.99999885 | N25: =D25-I25 -> 0
A26: 1.7 | B26: EXECUÇÃO DE ESCRITÓRIO EM CANTEIRO DE OBRA EM CHAPA DE MADEIRA COMPENSADA, NÃO INCLUSO MOBILIÁRIO E EQUIPAMENTOS. AF_02/2016 | C26: m² | D26: 20 | E26: 893.23 | F26: =E26*D26 -> 17864.6 | G26: 20 | I26: =G26+H26 -> 20 | J26: =TRUNC(E26*G26,2) -> 17864.6 | K26: =TRUNC(E26*H26,2) -> 0 | L26: =J26+K26 -> 17864.6 | M26: =L26/F26 -> 1 | N26: =D26-I26 -> 0
A27: 1.8 | B27: EXECUÇÃO DE DEPÓSITO EM CANTEIRO DE OBRA EM CHAPA DE MADEIRA COMPENSADA, NÃO INCLUSO MOBILIÁRIO. AF_04/2016 | C27: m² | D27: 20 | E27: 732.78 | F27: =E27*D27 -> 14655.6 | G27: 20 | I27: =G27+H27 -> 20 | J27: =TRUNC(E27*G27,2) -> 14655.6 | K27: =TRUNC(E27*H27,2) -> 0 | L27: =J27+K27 -> 14655.6 | M27: =L27/F27 -> 1 | N27: =D27-I27 -> 0
A28: 1.9 | B28: LOCAÇÃO DA OBRA - EXECUÇÃO DE GABARITO | C28: m² | D28: 1129.64 | E28: 6.94 | F28: =E28*D28 -> 7839.7016 | G28: 742.79 | H28: =D28-G28 -> 386.85 | I28: =G28+H28 -> 1129.64 | J28: =TRUNC(E28*G28,2) -> 5154.96 | K28: =TRUNC(E28*H28,2) -> 2684.73 | L28: =(J28+K28)+0.01 -> 7839.7 | M28: =L28/F28 -> 0.9999998 | N28: =D28-I28 -> 0 | P28: ERROS DE 1 CENTAVO
A29: 1.10 | B29: LIMPEZA MECANIZADA DE CAMADA VEGETAL, VEGETAÇÃO E PEQUENAS ÁRVORES (DIÂMETRO DE TRONCO MENOR QUE 0,20 M), COM TRATOR DE ESTEIRAS.AF_05/2018 | C29: m² | D29: 4000 | E29: 0.3 | F29: =E29*D29 -> 1200 | G29: 4000 | I29: =G29+H29 -> 4000 | J29: =TRUNC(E29*G29,2) -> 1200 | K29: =TRUNC(E29*H29,2) -> 0 | L29: =J29+K29 -> 1200 | M29: =L29/F29 -> 1 | N29: =D29-I29 -> 0
A30: 2 | B30: MOVIMENTO DE TERRAS PARA FUNDAÇÕES | F30: =SUM(F31:F34) -> 31327.78 | J30: =SUM(J31:J34) -> 9087.8 | K30: =SUM(K31:K34) -> 22239.98 | L30: =J30+K30 -> 31327.78 | M30: =L30/F30 -> 1
A31: 2.1 | B31: ATERRO MANUAL DE VALAS COM SOLO ARGILO-ARENOSO E COMPACTAÇÃO MECANIZADA. AF_05/2016 | C31: m³ | D31: 168.5 | E31: 66.13 | F31: 11142.9 | G31: 54.3828 | H31: =D31-G31 -> 114.1172 | I31: =G31+H31 -> 168.5 | J31: =TRUNC(E31*G31,2) -> 3596.33 | K31: =TRUNC(E31*H31,2) -> 7546.57 | L31: =J31+K31 -> 11142.9 | M31: =L31/F31 -> 1 | N31: =D31-I31 -> 0
A32: 2.2 | B32: ESCAVAÇÃO MANUAL DE VALA COM PROFUNDIDADE MENOR OU IGUAL A 1,30 M. AF_02/2021 | C32: m³ | D32: 94.33 | E32: 69.08 | F32: 6516.31 | G32: 79.4944 | H32: =D32-G32 -> 14.8356 | I32: =G32+H32 -> 94.33 | J32: =TRUNC(E32*G32,2) -> 5491.47 | K32: =TRUNC(E32*H32,2) -> 1024.84 | L32: =J32+K32 -> 6516.31 | M32: =L32/F32 -> 1 | N32: =D32-I32 -> 0
A33: 2.3 | B33: ATERRO MANUAL DE VALAS COM SOLO ARGILO-ARENOSO E COMPACTAÇÃO MECANIZADA. AF_05/2016 | C33: m³ | D33: 184.58 | E33: 66.13 | F33: 12206.27 | G33: 0 | H33: =D33-G33 -> 184.58 | I33: =G33+H33 -> 184.58 | J33: =TRUNC(E33*G33,2) -> 0 | K33: =TRUNC(E33*H33,2) -> 12206.27 | L33: =J33+K33 -> 12206.27 | M33: =L33/F33 -> 1 | N33: =D33-I33 -> 0
A34: 2.4 | B34: REATERRO MANUAL DE VALAS COM COMPACTAÇÃO MECANIZADA. AF_04/2016 | C34: m³ | D34: 55.58 | E34: 26.31 | F34: 1462.3 | G34: 0 | H34: =D34-G34 -> 55.58 | I34: =G34+H34 -> 55.58 | J34: =TRUNC(E34*G34,2) -> 0 | K34: =TRUNC(E34*H34,2) -> 1462.3 | L34: =J34+K34 -> 1462.3 | M34: =L34/F34 -> 1 | N34: =D34-I34 -> 0
A35: 3 | B35: INFRAESTRUTURA: FUNDAÇÕES | F35: =F36+F45+F52 -> 110557.96 | J35: =J36+J45+J52 -> 45907.78 | K35: =K36+K45+K52 -> 56323.48 | L35: =K35+J35 -> 102231.26 | M35: =L35/F35 -> 0.92468475
A36: 3.1 | B36: CONCRETO ARMADO PARA FUNDAÇÕES - SAPATAS | F36: =SUM(F37:F44) -> 40612.69 | J36: =SUM(J37:J44) -> 27829.43 | K36: =SUM(K37:K44) -> 12267.55 | L36: =K36+J36 -> 40096.98 | M36: =L36/F36 -> 0.98730175
A37: 3.1.1 | B37: LASTRO DE CONCRETO MAGRO, APLICADO EM BLOCOS DE COROAMENTO OU SAPATAS, ESPESSURA DE 5 CM. AF_08/2017 | C37: m² | D37: 61.88 | E37: 27.39 | F37: 1694.89 | G37: 26.434 | H37: =D37-G37 -> 35.446 | I37: =G37+H37 -> 61.88 | J37: =TRUNC(E37*G37,2) -> 724.02 | K37: =TRUNC(E37*H37,2) -> 970.86 | L37: =(J37+K37)+0.01 -> 1694.89 | M37: =L37/F37 -> 1 | N37: =D37-I37 -> 0 | P37: ERROS DE 1 CENTAVO
A38: 3.1.2 | B38: FABRICAÇÃO, MONTAGEM E DESMONTAGEM DE FÔRMA PARA SAPATA, EM MADEIRA SERRADA, E=25 MM, 4 UTILIZAÇÕES. AF_06/2017 | C38: m² | D38: 165.15 | E38: 128.27 | F38: 21183.79 | G38: 112.3 | H38: =D38-G38 -> 52.85 | I38: =G38+H38 -> 165.15 | J38: =TRUNC(E38*G38,2) -> 14404.72 | K38: =TRUNC(E38*H38,2) -> 6779.06 | L38: =(J38+K38)+0.01 -> 21183.79 | M38: =L38/F38 -> 1 | N38: =D38-I38 -> 0
A39: 3.1.3 | B39: ARMAÇÃO DE ESTRUTURAS DIVERSAS DE CONCRETO ARMADO, EXCETO VIGAS, PILARES, LAJES E FUNDAÇÕES, UTILIZANDO AÇO CA-50 DE 6,3 MM - MONTAGEM. AF_06/2022 | C39: KG | D39: 6.55 | E39: 14.13 | F39: 92.55 | G39: 0 | H39: ='MEMORIA DE CALCULO'!H191 -> 0 | I39: =G39+H39 -> 0 | J39: =TRUNC(E39*G39,2) -> 0 | K39: =TRUNC(E39*H39,2) -> 0 | L39: =J39+K39 -> 0 | M39: =L39/F39 -> 0 | N39: =D39-I39 -> 6.55
A40: 3.1.4 | B40: ARMAÇÃO DE ESTRUTURAS DIVERSAS DE CONCRETO ARMADO, EXCETO VIGAS, PILARES, LAJES E FUNDAÇÕES, UTILIZANDO AÇO CA-50 DE 8,0 MM - MONTAGEM. AF_06/2022 | C40: KG | D40: 32.45 | E40: 13.04 | F40: 423.14 | G40: 0 | I40: =G40+H40 -> 0 | J40: =TRUNC(E40*G40,2) -> 0 | K40: =TRUNC(E40*H40,2) -> 0 | L40: =J40+K40 -> 0 | M40: =L40/F40 -> 0 | N40: =D40-I40 -> 32.45
A41: 3.1.5 | B41: ARMAÇÃO DE ESTRUTURAS DIVERSAS DE CONCRETO ARMADO, EXCETO VIGAS, PILARES, LAJES E FUNDAÇÕES, UTILIZANDO AÇO CA-50 DE 10,0 MM - MONTAGEM. AF_06/2022 | C41: KG | D41: 312.26 | E41: 11.49 | F41: 3587.86 | G41: 312.26 | I41: =G41+H41 -> 312.26 | J41: =TRUNC(E41*G41,2) -> 3587.86 | K41: =TRUNC(E41*H41,2) -> 0 | L41: =J41+K41 -> 3587.86 | M41: =L41/F41 -> 1 | N41: =D41-I41 -> 0
A42: 3.1.6 | B42: ARMAÇÃO DE ESTRUTURAS DIVERSAS DE CONCRETO ARMADO, EXCETO VIGAS, PILARES, LAJES E FUNDAÇÕES, UTILIZANDO AÇO CA-50 DE 12,5 MM - MONTAGEM. AF_06/2022 | C42: KG | D42: 32.64 | E42: 9.57 | F42: 312.36 | G42: 0 | H42: 32.64 | I42: =G42+H42 -> 32.64 | J42: =TRUNC(E42*G42,2) -> 0 | K42: =TRUNC(E42*H42,2) -> 312.36 | L42: =J42+K42 -> 312.36 | M42: =L42/F42 -> 1 | N42: =D42-I42 -> 0
A43: 3.1.7 | B43: ARMAÇÃO DE ESTRUTURAS DIVERSAS DE CONCRETO ARMADO, EXCETO VIGAS, PILARES, LAJES E FUNDAÇÕES, UTILIZANDO AÇO CA-60 DE 5,0 MM - MONTAGEM. AF_06/2022 | C43: KG | D43: 307.55 | E43: 15.18 | F43: 4668.6 | G43: 118.89 | H43: 188.66 | I43: =G43+H43 -> 307.55 | J43: =TRUNC(E43*G43,2) -> 1804.75 | K43: =TRUNC(E43*H43,2) -> 2863.85 | L43: =J43+K43 -> 4668.6 | M43: =L43/F43 -> 1 | N43: =D43-I43 -> 0
A44: 3.1.8 | B44: CONCRETAGEM DE SAPATAS, FCK 30 MPA, COM USO DE BOMBA  LANÇAMENTO, ADENSAMENTO E ACABAMENTO. AF_11/2016 | C44: m³ | D44: 16.12 | E44: 536.57 | F44: 8649.5 | G44: 13.62 | H44: 2.5 | I44: =G44+H44 -> 16.12 | J44: =TRUNC(E44*G44,2) -> 7308.08 | K44: =TRUNC(E44*H44,2) -> 1341.42 | L44: =J44+K44 -> 8649.5 | M44: =L44/F44 -> 1 | N44: =D44-I44 -> 0
A45: 3.2 | B45: CONCRETO ARMADO PARA FUNDAÇÕES - VIGAS BALDRAMES | F45: =SUM(F46:F51) -> 62144.6 | J45: =SUM(J46:J51) -> 18078.35 | K45: =SUM(K46:K51) -> 44055.93 | L45: =K45+J45 -> 62134.28 | M45: =L45/F45 -> 0.99983394
A46: 3.2.1 | B46: FABRICAÇÃO, MONTAGEM E DESMONTAGEM DE FÔRMA PARA VIGA BALDRAME, EM MADEIRA SERRADA, E=25 MM, 4 UTILIZAÇÕES. AF_06/2017 | C46: m² | D46: 463.48 | E46: 64.54 | F46: 29912.99 | G46: 57.64 | H46: ='MEMORIA DE CALCULO'!H271 -> 405.84 | I46: =G46+H46 -> 463.48 | J46: =TRUNC(E46*G46,2) -> 3720.08 | K46: =TRUNC(E46*H46,2) -> 26192.91 | L46: =J46+K46 -> 29912.99 | M46: =L46/F46 -> 1 | N46: =D46-I46 -> 0
A47: 3.2.2 | B47: ARMAÇÃO DE ESTRUTURAS DIVERSAS DE CONCRETO ARMADO, EXCETO VIGAS, PILARES, LAJES E FUNDAÇÕES, UTILIZANDO AÇO CA-50 DE 6,3 MM - MONTAGEM. AF_06/2022 | C47: KG | D47: 0.73 | E47: 14.13 | F47: 10.31 | G47: 0 | I47: =G47+H47 -> 0 | J47: =TRUNC(E47*G47,2) -> 0 | K47: =TRUNC(E47*H47,2) -> 0 | L47: =J47+K47 -> 0 | M47: =L47/F47 -> 0 | N47: =D47-I47 -> 0.73
...

Sheet MEMORIA DE CALCULO
A3: OBRA: | C3: CONTRATAÇÃO DE EMPRESA PARA CONSTRUÇÃO DE UMA ESCOLA COM 6 SALAS DE AULA.
A4: MUNICÍPIO: | C4: MOGEIRO - PB
A5: LICITAÇÃO Nº: | C5: PROCESSO LICITATÓRIO Nº 004/2024 - CONCORRÊNCIA Nº 004/2024
A6: MODALIDADE: | C6: ESCOLA | G6: DATA: | H6: 45838
A8: MEMÓRIA DE CÁLCULO - CONSTRUÇÃO - BM 03 - PERÍODO: 01/04/2025 A 30/06/2025
A10: 1.1 | C10: =VLOOKUP(A10,'Orçamento Sintético'!A4:D301,4,0) -> Placa de obra em chapa aço galvanizado, instalada - Rev 02_01/2022 | F10: TOTAL MED 01 | H10: =H16 -> 10
F11: Acum. Med. Anteriores
F12: total planilha | H12: ='Orçamento Sintético'!F7 -> 10
F13: MEDIDO NA BM | H13: =H16 -> 10
F14: saldo | H14: =H12-H13 -> 0
D15: COMP | E15: ALTURA | F15: LARG | G15: QUANT
B16: MED 01 | C16: obra da escola | E16: 2 | F16: 5 | H16: =E16*F16 -> 10
A21: 1.2 | C21: =VLOOKUP(A21,'Orçamento Sintético'!A:J,4,0) -> TAPUME COM COMPENSADO DE MADEIRA. AF_05/2018 | F21: TOTAL MED 01 | H21: =H27 -> 176
F22: Acum. Med. Anteriores
F23: total planilha | H23: 176
F24: MEDIDO NA BM | H24: =H27 -> 176
F25: saldo | H25: =H23-H24 -> 0
D26: COMP | E26: ALTURA | F26: LARG | G26: QUANT
B27: MED 01 | C27: obra da escola | G27: 176 | H27: =G27 -> 176
A29: 1.7 | C29: =VLOOKUP(A29,'Orçamento Sintético'!A:J,4,0) -> EXECUÇÃO DE ESCRITÓRIO EM CANTEIRO DE OBRA EM CHAPA DE MADEIRA COMPENSADA, NÃO INCLUSO MOBILIÁRIO E EQUIPAMENTOS. AF_02/2016 | F29: TOTAL MED 01 | H29: =H35 -> 20
F30: Acum. Med. Anteriores
F31: total planilha | H31: 20
F32: MEDIDO NA BM | H32: =H35 -> 20
F33: saldo | H33: =H31-H32 -> 0
D34: COMP | E34: ALTURA | F34: LARG | G34: QUANT
B35: MED 01 | C35: escritório | G35: 20 | H35: =G35 -> 20
A37: 1.8 | C37: =VLOOKUP(A37,'Orçamento Sintético'!A:J,4,0) -> EXECUÇÃO DE DEPÓSITO EM CANTEIRO DE OBRA EM CHAPA DE MADEIRA COMPENSADA, NÃO INCLUSO MOBILIÁRIO. AF_04/2016 | F37: TOTAL MED 01 | H37: =H43 -> 20
F38: Acum. Med. Anteriores
F39: total planilha | H39: 20
F40: MEDIDO NA BM | H40: =H43 -> 20
F41: saldo | H41: =H39-H40 -> 0
D42: COMP | E42: ALTURA | F42: LARG | G42: QUANT
B43: MED 01 | C43: depósito | G43: 20 | H43: =G43 -> 20
A45: 1.10 | C45: =VLOOKUP(A45,'Orçamento Sintético'!A:J,4,0) -> LIMPEZA MECANIZADA DE CAMADA VEGETAL, VEGETAÇÃO E PEQUENAS ÁRVORES (DIÂMETRO DE TRONCO MENOR QUE 0,20 M), COM TRATOR DE ESTEIRAS.AF_05/2018 | F45: TOTAL MED 01 | H45: =H51 -> 4000
F46: Acum. Med. Anteriores
F47: total planilha | H47: 4000
F48: MEDIDO NA BM | H48: =H51 -> 4000
F49: saldo | H49: =H47-H48 -> 0
D50: COMP | E50: ALTURA | F50: LARG | G50: QUANT
B51: MED 01 | C51: Limpeza de obra | G51: 4000 | H51: =G51 -> 4000
...

Sheet FOTOGRÁFICO
A1: MEMÓRIA FOTOGRÁFICA
B14: 1.9 | C14: =VLOOKUP(B14,'Orçamento Sintético'!A:J,4,0) -> LOCAÇÃO DA OBRA - EXECUÇÃO DE GABARITO | J14: 2.1 | K14: =VLOOKUP(J14,'Orçamento Sintético'!A:J,4,0) -> ATERRO MANUAL DE VALAS COM SOLO ARGILO-ARENOSO E COMPACTAÇÃO MECANIZADA. AF_05/2016
B27: 2.2 | C27: =VLOOKUP(B27,'Orçamento Sintético'!A:J,4,0) -> ESCAVAÇÃO MANUAL DE VALA COM PROFUNDIDADE MENOR OU IGUAL A 1,30 M. AF_02/2021 | J27: 2.3 | K27: =VLOOKUP(J27,'Orçamento Sintético'!A:J,4,0) -> ATERRO MANUAL DE VALAS COM SOLO ARGILO-ARENOSO E COMPACTAÇÃO MECANIZADA. AF_05/2016
B40: 2.4 | C40: =VLOOKUP(B40,'Orçamento Sintético'!A:J,4,0) -> REATERRO MANUAL DE VALAS COM COMPACTAÇÃO MECANIZADA. AF_04/2016 | J40: 3.1.1 | K40: =VLOOKUP(J40,'Orçamento Sintético'!A:J,4,0) -> LASTRO DE CONCRETO MAGRO, APLICADO EM BLOCOS DE COROAMENTO OU SAPATAS, ESPESSURA DE 5 CM. AF_08/2017
B53: 3.1.2 | C53: =VLOOKUP(B53,'Orçamento Sintético'!A:J,4,0) -> FABRICAÇÃO, MONTAGEM E DESMONTAGEM DE FÔRMA PARA SAPATA, EM MADEIRA SERRADA, E=25 MM, 4 UTILIZAÇÕES. AF_06/2017 | J53: 3.1.6 | K53: =VLOOKUP(J53,'Orçamento Sintético'!A:J,4,0) -> ARMAÇÃO DE ESTRUTURAS DIVERSAS DE CONCRETO ARMADO, EXCETO VIGAS, PILARES, LAJES E FUNDAÇÕES, UTILIZANDO AÇO CA-50 DE 12,5 MM - MONTAGEM. AF_06/2022
B66: 3.1.6 | C66: =VLOOKUP(B66,'Orçamento Sintético'!A:J,4,0) -> ARMAÇÃO DE ESTRUTURAS DIVERSAS DE CONCRETO ARMADO, EXCETO VIGAS, PILARES, LAJES E FUNDAÇÕES, UTILIZANDO AÇO CA-50 DE 12,5 MM - MONTAGEM. AF_06/2022 | J66: 3.1.7 | K66: =VLOOKUP(J66,'Orçamento Sintético'!A:J,4,0) -> ARMAÇÃO DE ESTRUTURAS DIVERSAS DE CONCRETO ARMADO, EXCETO VIGAS, PILARES, LAJES E FUNDAÇÕES, UTILIZANDO AÇO CA-60 DE 5,0 MM - MONTAGEM. AF_06/2022
B79: 3.1.8 | C79: =VLOOKUP(B79,'Orçamento Sintético'!A:J,4,0) -> CONCRETAGEM DE SAPATAS, FCK 30 MPA, COM USO DE BOMBA  LANÇAMENTO, ADENSAMENTO E ACABAMENTO. AF_11/2016 | J79: 3.2.1 | K79: =VLOOKUP(J79,'Orçamento Sintético'!A:J,4,0) -> FABRICAÇÃO, MONTAGEM E DESMONTAGEM DE FÔRMA PARA VIGA BALDRAME, EM MADEIRA SERRADA, E=25 MM, 4 UTILIZAÇÕES. AF_06/2017
B92: 3.2.3 | C92: =VLOOKUP(B92,'Orçamento Sintético'!A:J,4,0) -> ARMAÇÃO DE ESTRUTURAS DIVERSAS DE CONCRETO ARMADO, EXCETO VIGAS, PILARES, LAJES E FUNDAÇÕES, UTILIZANDO AÇO CA-50 DE 8,0 MM - MONTAGEM. AF_06/2022 | J92: 3.2.4 | K92: =VLOOKUP(J92,'Orçamento Sintético'!A:J,4,0) -> ARMAÇÃO DE ESTRUTURAS DIVERSAS DE CONCRETO ARMADO, EXCETO VIGAS, PILARES, LAJES E FUNDAÇÕES, UTILIZANDO AÇO CA-50 DE 10,0 MM - MONTAGEM. AF_06/2022
B105: 3.2.5 | C105: =VLOOKUP(B105,'Orçamento Sintético'!A:J,4,0) -> ARMAÇÃO DE ESTRUTURAS DIVERSAS DE CONCRETO ARMADO, EXCETO VIGAS, PILARES, LAJES E FUNDAÇÕES, UTILIZANDO AÇO CA-60 DE 5,0 MM - MONTAGEM. AF_06/2022 | J105: 3.2.6 | K105: =VLOOKUP(J105,'Orçamento Sintético'!A:J,4,0) -> CONCRETAGEM DE BLOCOS DE COROAMENTO E VIGAS BALDRAMES, FCK 30 MPA, COM USO DE BOMBA  LANÇAMENTO, ADENSAMENTO E ACABAMENTO. AF_06/2017
B118: 4.2.1 | C118: =VLOOKUP(B118,'Orçamento Sintético'!A:J,4,0) -> MONTAGEM E DESMONTAGEM DE FÔRMA DE PILARES RETANGULARES E ESTRUTURAS SIMILARES, PÉ-DIREITO SIMPLES, EM CHAPA DE MADEIRA COMPENSADA PLASTIFICADA, 12 UTILIZAÇÕES. AF_09/2020 | J118: 4.2.2 | K118: =VLOOKUP(J118,'Orçamento Sintético'!A:J,4,0) -> ARMAÇÃO DE ESTRUTURAS DIVERSAS DE CONCRETO ARMADO, EXCETO VIGAS, PILARES, LAJES E FUNDAÇÕES, UTILIZANDO AÇO CA-50 DE 10,0 MM - MONTAGEM. AF_06/2022
B131: 4.2.4 | C131: =VLOOKUP(B131,'Orçamento Sintético'!A:J,4,0) -> ARMAÇÃO DE ESTRUTURAS DIVERSAS DE CONCRETO ARMADO, EXCETO VIGAS, PILARES, LAJES E FUNDAÇÕES, UTILIZANDO AÇO CA-60 DE 5,0 MM - MONTAGEM. AF_06/2022 | J131: 4.2.5 | K131: =VLOOKUP(J131,'Orçamento Sintético'!A:J,4,0) -> CONCRETAGEM DE PILARES, FCK = 25 MPA, COM USO DE BOMBA - LANÇAMENTO, ADENSAMENTO E ACABAMENTO. AF_02/2022_PS
B144: 4.4.1 | C144: =VLOOKUP(B144,'Orçamento Sintético'!A:J,4,0) -> VERGA PRÉ-MOLDADA PARA JANELAS COM MAIS DE 1,5 M DE VÃO. AF_03/2016 | J144: 5.1 | K144: =VLOOKUP(J144,'Orçamento Sintético'!A:J,4,0) -> ALVENARIA DE VEDAÇÃO DE BLOCOS CERÂMICOS FURADOS NA VERTICAL DE 9X19X39 CM (ESPESSURA 9 CM) E ARGAMASSA DE ASSENTAMENTO COM PREPARO EM BETONEIRA. AF_12/2021
B157: 8.1 | C157: =VLOOKUP(B157,'Orçamento Sintético'!A:J,4,0) -> TINTA DE BASE ASFÁLTICA 2 DEMÃOS C/BROXA | J157: 9.1 | K157: =VLOOKUP(J157,'Orçamento Sintético'!A:J,4,0) -> CHAPISCO APLICADO EM ALVENARIAS E ESTRUTURAS DE CONCRETO INTERNAS, COM COLHER DE PEDREIRO. ARGAMASSA TRAÇO 1:3 COM PREPARO MANUAL. AF_10/2022
B159: Atesto que os serviços foram executados conforme projetos aprovados | J159: Atesto que os serviços foram executados e aceitos
B160: Responsável Técnico pela Execução | J160: Fiscalização
C174: =VLOOKUP(B174,'Orçamento Sintético'!A:J,4,0) -> #N/A | K174: =VLOOKUP(J174,'Orçamento Sintético'!A:J,4,0) -> #N/A
C187: =VLOOKUP(B187,'Orçamento Sintético'!A:J,4,0) -> #N/A | K187: =VLOOKUP(J187,'Orçamento Sintético'!A:J,4,0) -> #N/A
C200: =VLOOKUP(B200,'Orçamento Sintético'!A:J,4,0) -> #N/A | K200: =VLOOKUP(J200,'Orçamento Sintético'!A:J,4,0) -> #N/A
C213: =VLOOKUP(B213,'Orçamento Sintético'!A:J,4,0) -> #N/A | K213: =VLOOKUP(J213,'Orçamento Sintético'!A:J,4,0) -> #N/A
C226: =VLOOKUP(B226,'Orçamento Sintético'!A:J,4,0) -> #N/A | K226: =VLOOKUP(J226,'Orçamento Sintético'!A:J,4,0) -> #N/A
C238: =VLOOKUP(B238,'Orçamento Sintético'!A:J,4,0) -> #N/A | K238: =VLOOKUP(J238,'Orçamento Sintético'!A:J,4,0) -> #N/A
B240: Atesto que os serviços foram executados conforme projetos aprovados | J240: Atesto que os serviços foram executados e aceitos
B241: Responsável Técnico pela Execução | J241: Fiscalização

Sheet BM 04
A2: BOLETIM DE MEDIÇÃO
A4: PROGRAMA: | B4: INTEGRA PARAIBA | C4: MODALIDADE: ESCOLA | H4: EMPREENDIMENTO: | J4: GESTOR: | L4: DATA DA MEDIÇÃO | M4: 45869
J5: ESTADO DA PARAÍBA
A7: CONTRATANTE: | D7: CNPJ: | F7: CONTRATADA: CONSTRUTORA SOUSA CAMPOS | J7: CNPJ: 19.175.657/0001-18 | L7: INICIO DA OBRA; | M7: 45579
A8: PREFEITURA MUNICIPAL DE MOGEIRO | D8: 08.866.501/0001-67
A10: OBJETO: | B10: CONTRATAÇÃO DE EMPRESA PARA CONSTRUÇÃO DE UMA ESCOLA COM 6 SALAS DE AULA. TIPO A INTEGRA PARAIBA. | F10: PROCESSO/OPERAÇÃO: | H10: CONTRATO-CPL: | J10: N° MEDIÇÃO | L10: PERÍODO DA MEDIÇÃO:
H11: 00125/2024-CPL | J11: 04 | L11: 01/07/2025 a 31/07/2025
A13: LOCAL: | B13: AVENIDA JOSÉ AMÉRICO, Z/N, BAIRRO MARIA PEIXOTO, MOGEIRO-PB | F13: VALOR CONTRATADO | H13: VALOR DA MEDIÇÃO | J13: VALOR ACUMULADO | L13: SALDO DO CONTRATO
F14: =F316 -> 1401000 | H14: =K324 -> 102090.56 | J14: =L316 -> 342916.08 | L14: =F14-J14 -> 1058083.9
A16: ITEM | B16: DISCRIMINAÇÃO | C16: CONTRATADO | G16: QUANTITATIVO | J16: FINANCEIRO | M16: PERCENTUAL MEDIDO
C17: UNID | D17: QUANT. | E17: UNITÁRIO | F17: TOTAL | G17: ACUMULADO ANTERIOR | H17: PERIODO | I17: ACUMULADO INCLUINDO O PERIODO | J17: ACUMULADO ANTERIOR | K17: PERIODO | L17: ACUMULADO INCLUINDO O PERIODO | N17: =L323 -> 0
A19: 1 | B19: SERVIÇOS PRELIMINARES | F19: =SUM(F20:F29) -> 73151.734 | J19: =SUM(J20:J29) -> 73151.734 | K19: =SUM(K20:K29) -> 0 | L19: =SUM(L20:L29) -> 73151.734 | M19: =L19/F19 -> 1
A20: 1.1 | B20: Placa de obra em chapa aço galvanizado, instalada - Rev 02_01/2022 | C20: m² | D20: 10 | E20: 311.37 | F20: =E20*D20 -> 3113.7 | G20: 10 | I20: 10 | J20: =G20*E20 -> 3113.7 | K20: =TRUNC(E20*H20,2) -> 0 | L20: =J20+K20 -> 3113.7 | M20: =L20/F20 -> 1 | N20: =D20-I20 -> 0
A21: 1.2 | B21: TAPUME COM COMPENSADO DE MADEIRA. AF_05/2018 | C21: m² | D21: 176 | E21: 92.8 | F21: =E21*D21 -> 16332.8 | G21: 176 | I21: 176 | J21: =G21*E21 -> 16332.8 | K21: =TRUNC(E21*H21,2) -> 0 | L21: =J21+K21 -> 16332.8 | M21: =L21/F21 -> 1 | N21: =D21-I21 -> 0
A22: 1.3 | B22: INSTALAÇÕES PROVISÓRIAS DE LUZ , FORÇA,TELEFONE E LÓGICA | C22: UN | D22: 1 | E22: 1140.85 | F22: =E22*D22 -> 1140.85 | G22: 1 | I22: =G22+H22 -> 1 | J22: =G22*E22 -> 1140.85 | K22: =TRUNC(E22*H22,2) -> 0 | L22: =J22+K22 -> 1140.85 | M22: =L22/F22 -> 1 | N22: =D22-I22 -> 0
A23: 1.4 | B23: EXECUÇÃO DE RESERVATÓRIO ELEVADO DE ÁGUA (1000 LITROS) EM CANTEIRO DE OBRA, APOIADO EM ESTRUTURA DE MADEIRA. AF_02/2016_PA | C23: UN | D23: 1 | E23: 4511.19 | F23: =E23*D23 -> 4511.19 | G23: 1 | I23: =G23+H23 -> 1 | J23: =G23*E23 -> 4511.19 | K23: =TRUNC(E23*H23,2) -> 0 | L23: =J23+K23 -> 4511.19 | M23: =L23/F23 -> 1 | N23: =D23-I23 -> 0
A24: 1.5 | B24: FOSSA SÉPTICA E SUMIDOURO EM ALVENARIA | C24: UN | D24: 1 | E24: 4397.61 | F24: =E24*D24 -> 4397.61 | G24: 1 | I24: =G24+H24 -> 1 | J24: =G24*E24 -> 4397.61 | K24: =TRUNC(E24*H24,2) -> 0 | L24: =J24+K24 -> 4397.61 | M24: =L24/F24 -> 1 | N24: =D24-I24 -> 0
A25: 1.6 | B25: EXECUÇÃO DE SANITÁRIO E VESTIÁRIO EM CANTEIRO DE OBRA EM CHAPA DE MADEIRA COMPENSADA, NÃO INCLUSO MOBILIÁRIO. AF_02/2016 | C25: m² | D25: 2.52 | E25: 831.62 | F25: =E25*D25 -> 2095.6824 | G25: 2.52 | I25: =G25+H25 -> 2.52 | J25: =G25*E25 -> 2095.6824 | K25: =TRUNC(E25*H25,2) -> 0 | L25: =J25+K25 -> 2095.6824 | M25: =L25/F25 -> 1 | N25: =D25-I25 -> 0
A26: 1.7 | B26: EXECUÇÃO DE ESCRITÓRIO EM CANTEIRO DE OBRA EM CHAPA DE MADEIRA COMPENSADA, NÃO INCLUSO MOBILIÁRIO E EQUIPAMENTOS. AF_02/2016 | C26: m² | D26: 20 | E26: 893.23 | F26: =E26*D26 -> 17864.6 | G26: 20 | I26: =G26+H26 -> 20 | J26: =G26*E26 -> 17864.6 | K26: =TRUNC(E26*H26,2) -> 0 | L26: =J26+K26 -> 17864.6 | M26: =L26/F26 -> 1 | N26: =D26-I26 -> 0
A27: 1.8 | B27: EXECUÇÃO DE DEPÓSITO EM CANTEIRO DE OBRA EM CHAPA DE MADEIRA COMPENSADA, NÃO INCLUSO MOBILIÁRIO. AF_04/2016 | C27: m² | D27: 20 | E27: 732.78 | F27: =E27*D27 -> 14655.6 | G27: 20 | I27: =G27+H27 -> 20 | J27: =G27*E27 -> 14655.6 | K27: =TRUNC(E27*H27,2) -> 0 | L27: =J27+K27 -> 14655.6 | M27: =L27/F27 -> 1 | N27: =D27-I27 -> 0
A28: 1.9 | B28: LOCAÇÃO DA OBRA - EXECUÇÃO DE GABARITO | C28: m² | D28: 1129.64 | E28: 6.94 | F28: =E28*D28 -> 7839.7016 | G28: 1129.64 | H28: =D28-G28 -> 0 | I28: =G28+H28 -> 1129.64 | J28: =G28*E28 -> 7839.7016 | K28: =TRUNC(E28*H28,2) -> 0 | L28: =(J28+K28) -> 7839.7016 | M28: =L28/F28 -> 1 | N28: =D28-I28 -> 0 | P28: ERROS DE 1 CENTAVO
A29: 1.10 | B29: LIMPEZA MECANIZADA DE CAMADA VEGETAL, VEGETAÇÃO E PEQUENAS ÁRVORES (DIÂMETRO DE TRONCO MENOR QUE 0,20 M), COM TRATOR DE ESTEIRAS.AF_05/2018 | C29: m² | D29: 4000 | E29: 0.3 | F29: =E29*D29 -> 1200 | G29: 4000 | I29: =G29+H29 -> 4000 | J29: =G29*E29 -> 1200 | K29: =TRUNC(E29*H29,2) -> 0 | L29: =J29+K29 -> 1200 | M29: =L29/F29 -> 1 | N29: =D29-I29 -> 0
A30: 2 | B30: MOVIMENTO DE TERRAS PARA FUNDAÇÕES | F30: =SUM(F31:F34) -> 31327.78 | J30: =SUM(J31:J34) -> 31327.78 | K30: =SUM(K31:K34) -> 0 | L30: =SUM(L31:L34) -> 31327.78 | M30: =L30/F30 -> 1
A31: 2.1 | B31: ATERRO MANUAL DE VALAS COM SOLO ARGILO-ARENOSO E COMPACTAÇÃO MECANIZADA. AF_05/2016 | C31: m³ | D31: 168.5 | E31: 66.13 | F31: 11142.9 | G31: 168.5 | I31: =G31+H31 -> 168.5 | J31: =TRUNC(E31*G31,2) -> 11142.9 | K31: =TRUNC(E31*H31,2) -> 0 | L31: =J31+K31 -> 11142.9 | M31: =L31/F31 -> 1 | N31: =D31-I31 -> 0
A32: 2.2 | B32: ESCAVAÇÃO MANUAL DE VALA COM PROFUNDIDADE MENOR OU IGUAL A 1,30 M. AF_02/2021 | C32: m³ | D32: 94.33 | E32: 69.08 | F32: 6516.31 | G32: 94.33 | I32: =G32+H32 -> 94.33 | J32: =TRUNC(E32*G32,2) -> 6516.31 | K32: =TRUNC(E32*H32,2) -> 0 | L32: =J32+K32 -> 6516.31 | M32: =L32/F32 -> 1 | N32: =D32-I32 -> 0
A33: 2.3 | B33: ATERRO MANUAL DE VALAS COM SOLO ARGILO-ARENOSO E COMPACTAÇÃO MECANIZADA. AF_05/2016 | C33: m³ | D33: 184.58 | E33: 66.13 | F33: 12206.27 | G33: 184.58 | I33: =G33+H33 -> 184.58 | J33: =TRUNC(E33*G33,2) -> 12206.27 | K33: =TRUNC(E33*H33,2) -> 0 | L33: =J33+K33 -> 12206.27 | M33: =L33/F33 -> 1 | N33: =D33-I33 -> 0
A34: 2.4 | B34: REATERRO MANUAL DE VALAS COM COMPACTAÇÃO MECANIZADA. AF_04/2016 | C34: m³ | D34: 55.58 | E34: 26.31 | F34: 1462.3 | G34: 55.58 | I34: =G34+H34 -> 55.58 | J34: =TRUNC(E34*G34,2) -> 1462.3 | K34: =TRUNC(E34*H34,2) -> 0 | L34: =J34+K34 -> 1462.3 | M34: =L34/F34 -> 1 | N34: =D34-I34 -> 0
A35: 3 | B35: INFRAESTRUTURA: FUNDAÇÕES | F35: =F36+F45+F52 -> 110557.96 | J35: =J36+J45+J52 -> 102231.26 | K35: =K36+K45+K52 -> 526 | L35: =L36+L45+L52 -> 102757.26 | M35: =L35/F35 -> 0.92944244
A36: 3.1 | B36: CONCRETO ARMADO PARA FUNDAÇÕES - SAPATAS | F36: =SUM(F37:F44) -> 40612.69 | J36: =SUM(J37:J44)-0.02 -> 40096.98 | K36: =SUM(K37:K44) -> 515.69 | L36: =SUM(L37:L44)-0.02 -> 40612.67 | M36: =L36/F36 -> 0.99999951
A37: 3.1.1 | B37: LASTRO DE CONCRETO MAGRO, APLICADO EM BLOCOS DE COROAMENTO OU SAPATAS, ESPESSURA DE 5 CM. AF_08/2017 | C37: m² | D37: 61.88 | E37: 27.39 | F37: 1694.89 | G37: 61.88 | H37: 0 | I37: =G37+H37 -> 61.88 | J37: =TRUNC(E37*G37,2) -> 1694.89 | K37: =TRUNC(E37*H37,2) -> 0 | L37: =(J37+K37) -> 1694.89 | M37: =L37/F37 -> 1 | N37: =D37-I37 -> 0
A38: 3.1.2 | B38: FABRICAÇÃO, MONTAGEM E DESMONTAGEM DE FÔRMA PARA SAPATA, EM MADEIRA SERRADA, E=25 MM, 4 UTILIZAÇÕES. AF_06/2017 | C38: m² | D38: 165.15 | E38: 128.27 | F38: 21183.79 | G38: 165.15 | H38: 0 | I38: =G38+H38 -> 165.15 | J38: =TRUNC(E38*G38,2) -> 21183.79 | K38: =TRUNC(E38*H38,2) -> 0 | L38: =(J38+K38) -> 21183.79 | M38: =L38/F38 -> 1 | N38: =D38-I38 -> 0
A39: 3.1.3 | B39: ARMAÇÃO DE ESTRUTURAS DIVERSAS DE CONCRETO ARMADO, EXCETO VIGAS, PILARES, LAJES E FUNDAÇÕES, UTILIZANDO AÇO CA-50 DE 6,3 MM - MONTAGEM. AF_06/2022 | C39: KG | D39: 6.55 | E39: 14.13 | F39: 92.55 | G39: 0 | H39: 6.55 | I39: =G39+H39 -> 6.55 | J39: =TRUNC(E39*G39,2) -> 0 | K39: =TRUNC(E39*H39,2) -> 92.55 | L39: =J39+K39 -> 92.55 | M39: =L39/F39 -> 1 | N39: =D39-I39 -> 0
A40: 3.1.4 | B40: ARMAÇÃO DE ESTRUTURAS DIVERSAS DE CONCRETO ARMADO, EXCETO VIGAS, PILARES, LAJES E FUNDAÇÕES, UTILIZANDO AÇO CA-50 DE 8,0 MM - MONTAGEM. AF_06/2022 | C40: KG | D40: 32.45 | E40: 13.04 | F40: 423.14 | G40: 0 | H40: 32.45 | I40: =G40+H40 -> 32.45 | J40: =TRUNC(E40*G40,2) -> 0 | K40: =TRUNC(E40*H40,2) -> 423.14 | L40: =J40+K40 -> 423.14 | M40: =L40/F40 -> 1 | N40: =D40-I40 -> 0
A41: 3.1.5 | B41: ARMAÇÃO DE ESTRUTURAS DIVERSAS DE CONCRETO ARMADO, EXCETO VIGAS, PILARES, LAJES E FUNDAÇÕES, UTILIZANDO AÇO CA-50 DE 10,0 MM - MONTAGEM. AF_06/2022 | C41: KG | D41: 312.26 | E41: 11.49 | F41: 3587.86 | G41: 312.26 | I41: =G41+H41 -> 312.26 | J41: =TRUNC(E41*G41,2) -> 3587.86 | K41: =TRUNC(E41*H41,2) -> 0 | L41: =J41+K41 -> 3587.86 | M41: =L41/F41 -> 1 | N41: =D41-I41 -> 0
A42: 3.1.6 | B42: ARMAÇÃO DE ESTRUTURAS DIVERSAS DE CONCRETO ARMADO, EXCETO VIGAS, PILARES, LAJES E FUNDAÇÕES, UTILIZANDO AÇO CA-50 DE 12,5 MM - MONTAGEM. AF_06/2022 | C42: KG | D42: 32.64 | E42: 9.57 | F42: 312.36 | G42: 32.64 | I42: =G42+H42 -> 32.64 | J42: =TRUNC(E42*G42,2) -> 312.36 | K42: =TRUNC(E42*H42,2) -> 0 | L42: =J42+K42 -> 312.36 | M42: =L42/F42 -> 1 | N42: =D42-I42 -> 0
A43: 3.1.7 | B43: ARMAÇÃO DE ESTRUTURAS DIVERSAS DE CONCRETO ARMADO, EXCETO VIGAS, PILARES, LAJES E FUNDAÇÕES, UTILIZANDO AÇO CA-60 DE 5,0 MM - MONTAGEM. AF_06/2022 | C43: KG | D43: 307.55 | E43: 15.18 | F43: 4668.6 | G43: 307.55 | I43: =G43+H43 -> 307.55 | J43: =TRUNC(E43*G43,2) -> 4668.6 | K43: =TRUNC(E43*H43,2) -> 0 | L43: =J43+K43 -> 4668.6 | M43: =L43/F43 -> 1 | N43: =D43-I43 -> 0
A44: 3.1.8 | B44: CONCRETAGEM DE SAPATAS, FCK 30 MPA, COM USO DE BOMBA  LANÇAMENTO, ADENSAMENTO E ACABAMENTO. AF_11/2016 | C44: m³ | D44: 16.12 | E44: 536.57 | F44: 8649.5 | G44: 16.12 | I44: =G44+H44 -> 16.12 | J44: =TRUNC(E44*G44,2) -> 8649.5 | K44: =TRUNC(E44*H44,2) -> 0 | L44: =J44+K44 -> 8649.5 | M44: =L44/F44 -> 1 | N44: =D44-I44 -> 0
A45: 3.2 | B45: CONCRETO ARMADO PARA FUNDAÇÕES - VIGAS BALDRAMES | F45: =SUM(F46:F51) -> 62144.6 | J45: =SUM(J46:J51)-0.01 -> 62134.28 | K45: =SUM(K46:K51) -> 10.31 | L45: =SUM(L46:L51)-0.01 -> 62144.59 | M45: =L45/F45 -> 0.99999984
A46: 3.2.1 | B46: FABRICAÇÃO, MONTAGEM E DESMONTAGEM DE FÔRMA PARA VIGA BALDRAME, EM MADEIRA SERRADA, E=25 MM, 4 UTILIZAÇÕES. AF_06/2017 | C46: m² | D46: 463.48 | E46: 64.54 | F46: 29912.99 | G46: 463.48 | I46: =G46+H46 -> 463.48 | J46: =TRUNC(E46*G46,2) -> 29912.99 | K46: =TRUNC(E46*H46,2) -> 0 | L46: =J46+K46 -> 29912.99 | M46: =L46/F46 -> 1 | N46: =D46-I46 -> 0
A47: 3.2.2 | B47: ARMAÇÃO DE ESTRUTURAS DIVERSAS DE CONCRETO ARMADO, EXCETO VIGAS, PILARES, LAJES E FUNDAÇÕES, UTILIZANDO AÇO CA-50 DE 6,3 MM - MONTAGEM. AF_06/2022 | C47: KG | D47: 0.73 | E47: 14.13 | F47: 10.31 | G47: 0 | H47: 0.73 | I47: =G47+H47 -> 0.73 | J47: =TRUNC(E47*G47,2) -> 0 | K47: =TRUNC(E47*H47,2) -> 10.31 | L47: =J47+K47 -> 10.31 | M47: =L47/F47 -> 1 | N47: =D47-I47 -> 0
...

Sheet MEMORIA DE CALCULO BM04
A3: OBRA: | C3: CONTRATAÇÃO DE EMPRESA PARA CONSTRUÇÃO DE UMA ESCOLA COM 6 SALAS DE AULA.
A4: MUNICÍPIO: | C4: MOGEIRO - PB
A5: LICITAÇÃO Nº: | C5: PROCESSO LICITATÓRIO Nº 004/2024 - CONCORRÊNCIA Nº 004/2024
A6: MODALIDADE: | C6: ESCOLA | G6: DATA: | H6: 45869
A8: MEMÓRIA DE CÁLCULO - CONSTRUÇÃO - BM 04 - PERÍODO: 01/07/2025 A 31/07/2025
A10: 1.1 | C10: =VLOOKUP(A10,'[2]Orçamento Sintético'!A4:D301,4,0) -> Placa de obra em chapa aço galvanizado, instalada - Rev 02_01/2022 | F10: TOTAL MED 01 | H10: =H16 -> 10
F11: Acum. Med. Anteriores
F12: total planilha | H12: ='[2]Orçamento Sintético'!F7 -> 10
F13: MEDIDO NA BM | H13: =H16 -> 10
F14: saldo | H14: =H12-H13 -> 0
D15: COMP | E15: ALTURA | F15: LARG | G15: QUANT
B16: MED 01 | C16: obra da escola | E16: 2 | F16: 5 | H16: =E16*F16 -> 10
A21: 1.2 | C21: =VLOOKUP(A21,'[2]Orçamento Sintético'!A:J,4,0) -> TAPUME COM COMPENSADO DE MADEIRA. AF_05/2018 | F21: TOTAL MED 01 | H21: =H27 -> 176
F22: Acum. Med. Anteriores
F23: total planilha | H23: 176
F24: MEDIDO NA BM | H24: =H27 -> 176
F25: saldo | H25: =H23-H24 -> 0
D26: COMP | E26: ALTURA | F26: LARG | G26: QUANT
B27: MED 01 | C27: obra da escola | G27: 176 | H27: =G27 -> 176
A29: 1.7 | C29: =VLOOKUP(A29,'[2]Orçamento Sintético'!A:J,4,0) -> EXECUÇÃO DE ESCRITÓRIO EM CANTEIRO DE OBRA EM CHAPA DE MADEIRA COMPENSADA, NÃO INCLUSO MOBILIÁRIO E EQUIPAMENTOS. AF_02/2016 | F29: TOTAL MED 01 | H29: =H35 -> 20
F30: Acum. Med. Anteriores
F31: total planilha | H31: 20
F32: MEDIDO NA BM | H32: =H35 -> 20
F33: saldo | H33: =H31-H32 -> 0
D34: COMP | E34: ALTURA | F34: LARG | G34: QUANT
B35: MED 01 | C35: escritório | G35: 20 | H35: =G35 -> 20
A37: 1.8 | C37: =VLOOKUP(A37,'[2]Orçamento Sintético'!A:J,4,0) -> EXECUÇÃO DE DEPÓSITO EM CANTEIRO DE OBRA EM CHAPA DE MADEIRA COMPENSADA, NÃO INCLUSO MOBILIÁRIO. AF_04/2016 | F37: TOTAL MED 01 | H37: =H43 -> 20
F38: Acum. Med. Anteriores
F39: total planilha | H39: 20
F40: MEDIDO NA BM | H40: =H43 -> 20
F41: saldo | H41: =H39-H40 -> 0
D42: COMP | E42: ALTURA | F42: LARG | G42: QUANT
B43: MED 01 | C43: depósito | G43: 20 | H43: =G43 -> 20
A45: 1.10 | C45: =VLOOKUP(A45,'[2]Orçamento Sintético'!A:J,4,0) -> LIMPEZA MECANIZADA DE CAMADA VEGETAL, VEGETAÇÃO E PEQUENAS ÁRVORES (DIÂMETRO DE TRONCO MENOR QUE 0,20 M), COM TRATOR DE ESTEIRAS.AF_05/2018 | F45: TOTAL MED 01 | H45: =H51 -> 4000
F46: Acum. Med. Anteriores
F47: total planilha | H47: 4000
F48: MEDIDO NA BM | H48: =H51 -> 4000
F49: saldo | H49: =H47-H48 -> 0
D50: COMP | E50: ALTURA | F50: LARG | G50: QUANT
B51: MED 01 | C51: Limpeza de obra | G51: 4000 | H51: =G51 -> 4000
...

Sheet FOTOGRÁFICO BM04
A1: MEMÓRIA FOTOGRÁFICA
B13: 3.1.3 | C13: =VLOOKUP(B13,'[3]Orçamento Sintético'!A:J,4,0) -> ARMAÇÃO DE ESTRUTURAS DIVERSAS DE CONCRETO ARMADO, EXCETO VIGAS, PILARES, LAJES E FUNDAÇÕES, UTILIZANDO AÇO CA-50 DE 6,3 MM - MONTAGEM. AF_06/2022 | J13: 3.1.4 | K13: =VLOOKUP(J13,'[3]Orçamento Sintético'!A:J,4,0) -> ARMAÇÃO DE ESTRUTURAS DIVERSAS DE CONCRETO ARMADO, EXCETO VIGAS, PILARES, LAJES E FUNDAÇÕES, UTILIZANDO AÇO CA-50 DE 8,0 MM - MONTAGEM. AF_06/2022
B25: 3.2.2 | C25: =VLOOKUP(B25,'[3]Orçamento Sintético'!A:J,4,0) -> ARMAÇÃO DE ESTRUTURAS DIVERSAS DE CONCRETO ARMADO, EXCETO VIGAS, PILARES, LAJES E FUNDAÇÕES, UTILIZANDO AÇO CA-50 DE 6,3 MM - MONTAGEM. AF_06/2022 | J25: 4.1.1 | K25: =VLOOKUP(J25,'[3]Orçamento Sintético'!A:J,4,0) -> MONTAGEM E DESMONTAGEM DE FÔRMA DE VIGA, ESCORAMENTO COM GARFO DE MADEIRA, PÉ-DIREITO SIMPLES, EM CHAPA DE MADEIRA PLASTIFICADA, 12 UTILIZAÇÕES. AF_09/2020
B39: 4.1.2 | C39: =VLOOKUP(B39,'[3]Orçamento Sintético'!A:J,4,0) -> ARMAÇÃO DE PILAR OU VIGA DE ESTRUTURA CONVENCIONAL DE CONCRETO ARMADO UTILIZANDO AÇO CA-50 DE 6,3 MM - MONTAGEM. AF_06/2022 | J39: 4.1.3 | K39: =VLOOKUP(J39,'[3]Orçamento Sintético'!A:J,4,0) -> ARMAÇÃO DE PILAR OU VIGA DE ESTRUTURA CONVENCIONAL DE CONCRETO ARMADO UTILIZANDO AÇO CA-50 DE 8,0 MM - MONTAGEM. AF_06/2022
B52: 4.1.4 | C52: =VLOOKUP(B52,'[3]Orçamento Sintético'!A:J,4,0) -> ARMAÇÃO DE PILAR OU VIGA DE ESTRUTURA CONVENCIONAL DE CONCRETO ARMADO UTILIZANDO AÇO CA-50 DE 10,0 MM - MONTAGEM. AF_06/2022 | J52: 4.1.5 | K52: =VLOOKUP(J52,'[3]Orçamento Sintético'!A:J,4,0) -> ARMAÇÃO DE PILAR OU VIGA DE ESTRUTURA CONVENCIONAL DE CONCRETO ARMADO UTILIZANDO AÇO CA-60 DE 5,0 MM - MONTAGEM. AF_06/2022
B65: 4.1.6 | C65: =VLOOKUP(B65,'[3]Orçamento Sintético'!A:J,4,0) -> CONCRETAGEM DE VIGAS E LAJES, FCK=25 MPA, PARA LAJES MACIÇAS OU NERVURADAS COM USO DE BOMBA - LANÇAMENTO, ADENSAMENTO E ACABAMENTO. AF_02/2022_PS | J65: 4.2.1 | K65: =VLOOKUP(J65,'[3]Orçamento Sintético'!A:J,4,0) -> MONTAGEM E DESMONTAGEM DE FÔRMA DE PILARES RETANGULARES E ESTRUTURAS SIMILARES, PÉ-DIREITO SIMPLES, EM CHAPA DE MADEIRA COMPENSADA PLASTIFICADA, 12 UTILIZAÇÕES. AF_09/2020
B78: 4.2.2 | C78: =VLOOKUP(B78,'[3]Orçamento Sintético'!A:J,4,0) -> ARMAÇÃO DE ESTRUTURAS DIVERSAS DE CONCRETO ARMADO, EXCETO VIGAS, PILARES, LAJES E FUNDAÇÕES, UTILIZANDO AÇO CA-50 DE 10,0 MM - MONTAGEM. AF_06/2022 | J78: 4.2.3 | K78: =VLOOKUP(J78,'[3]Orçamento Sintético'!A:J,4,0) -> ARMAÇÃO DE ESTRUTURAS DIVERSAS DE CONCRETO ARMADO, EXCETO VIGAS, PILARES, LAJES E FUNDAÇÕES, UTILIZANDO AÇO CA-50 DE 12,5 MM - MONTAGEM. AF_06/2022
B91: 4.2.4 | C91: =VLOOKUP(B91,'[3]Orçamento Sintético'!A:J,4,0) -> ARMAÇÃO DE ESTRUTURAS DIVERSAS DE CONCRETO ARMADO, EXCETO VIGAS, PILARES, LAJES E FUNDAÇÕES, UTILIZANDO AÇO CA-60 DE 5,0 MM - MONTAGEM. AF_06/2022 | J91: 4.2.5 | K91: =VLOOKUP(J91,'[3]Orçamento Sintético'!A:J,4,0) -> CONCRETAGEM DE PILARES, FCK = 25 MPA, COM USO DE BOMBA - LANÇAMENTO, ADENSAMENTO E ACABAMENTO. AF_02/2022_PS
