Workbook

Sheet BM 01
A2: BOLETIM DE MEDIÇÃO
A4: PROGRAMA: | B4: INTEGRA PARAIBA | C4: MODALIDADE: ESCOLA | H4: EMPREENDIMENTO: | J4: GESTOR: | L4: DATA DA MEDIÇÃO | M4: 45646
J5: ESTADO DA PARAÍBA
A7: CONTRATANTE: | D7: CNPJ: | F7: CONTRATADA: CONSTRUTORA SOUSA CAMPOS | J7: CNPJ: 19.175.657/0001-18 | L7: INICIO DA OBRA; | M7: 45579
A8: PREFEITURA MUNICIPAL DE MOGEIRO | D8: 08.866.501/0001-67
A10: OBJETO: | B10: CONTRATAÇÃO DE EMPRESA PARA CONSTRUÇÃO DE UMA ESCOLA COM 6 SALAS DE AULA. TIPO A INTEGRA PARAIBA. | F10: PROCESSO/OPERAÇÃO: | H10: CONTRATO-CPL: | J10: N° MEDIÇÃO | L10: PERÍODO DA MEDIÇÃO:
H11: 00125/2024-CPL | J11: 01 | L11: DE 01/12/2024 a 20/12/2024
A13: LOCAL: | B13: AVENIDA JOSÉ AMÉRICO, Z/N, BAIRRO MARIA PEIXOTO, MOGEIRO-PB | F13: VALOR CONTRATADO | H13: VALOR DA MEDIÇÃO | J13: VALOR ACUMULADO | L13: SALDO DO CONTRATO
F14: =F316 -> 1401000 | H14: =K324 -> 53166.7 | J14: =L324 -> 53166.7 | L14: =F14-J14 -> 1347833.3
A16: ITEM | B16: DISCRIMINAÇÃO | C16: CONTRATADO | G16: QUANTITATIVO | J16: FINANCEIRO | M16: PERCENTUAL MEDIDO
C17: UNID | D17: QUANT. | E17: UNITÁRIO | F17: TOTAL | G17: ACUMULADO ANTERIOR | H17: PERIODO | I17: ACUMULADO INCLUINDO O PERIODO | J17: ACUMULADO ANTERIOR | K17: PERIODO | L17: ACUMULADO INCLUINDO O PERIODO
A19: 1 | B19: SERVIÇOS PRELIMINARES | F19: =SUM(F20:F29) -> 73151.734 | J19: =SUM(J20) -> 0 | K19: =SUM(K20:K29) -> 53166.7 | L19: =K19 -> 53166.7 | M19: =L19/F19 -> 0.72680027
A20: 1.1 | B20: Placa de obra em chapa aço galvanizado, instalada - Rev 02_01/2022 | C20: m² | D20: 10 | E20: 311.37 | F20: =E20*D20 -> 3113.7 | G20: 0 | H20: 10 | I20: 10 | J20: =TRUNC(E20*G20,2) -> 0 | K20: =TRUNC(E20*H20,2) -> 3113.7 | L20: =J20+K20 -> 3113.7 | M20: =L20/F20 -> 1
A21: 1.2 | B21: TAPUME COM COMPENSADO DE MADEIRA. AF_05/2018 | C21: m² | D21: 176 | E21: 92.8 | F21: =E21*D21 -> 16332.8 | G21: 0 | H21: 176 | I21: =G21+H21 -> 176 | J21: =TRUNC(E21*G21,2) -> 0 | K21: =TRUNC(E21*H21,2) -> 16332.8 | L21: =J21+K21 -> 16332.8 | M21: =L21/F21 -> 1
A22: 1.3 | B22: INSTALAÇÕES PROVISÓRIAS DE LUZ , FORÇA,TELEFONE E LÓGICA | C22: UN | D22: 1 | E22: 1140.85 | F22: =E22*D22 -> 1140.85 | G22: 0 | H22: 0 | I22: =G22+H22 -> 0 | J22: =TRUNC(E22*G22,2) -> 0 | K22: =TRUNC(E22*H22,2) -> 0 | L22: =J22+K22 -> 0 | M22: =L22/F22 -> 0
A23: 1.4 | B23: EXECUÇÃO DE RESERVATÓRIO ELEVADO DE ÁGUA (1000 LITROS) EM CANTEIRO DE OBRA, APOIADO EM ESTRUTURA DE MADEIRA. AF_02/2016_PA | C23: UN | D23: 1 | E23: 4511.19 | F23: =E23*D23 -> 4511.19 | G23: 0 | H23: 0 | I23: =G23+H23 -> 0 | J23: =TRUNC(E23*G23,2) -> 0 | K23: =TRUNC(E23*H23,2) -> 0 | L23: =J23+K23 -> 0 | M23: =L23/F23 -> 0
A24: 1.5 | B24: FOSSA SÉPTICA E SUMIDOURO EM ALVENARIA | C24: UN | D24: 1 | E24: 4397.61 | F24: =E24*D24 -> 4397.61 | G24: 0 | H24: 0 | I24: =G24+H24 -> 0 | J24: =TRUNC(E24*G24,2) -> 0 | K24: =TRUNC(E24*H24,2) -> 0 | L24: =J24+K24 -> 0 | M24: =L24/F24 -> 0
A25: 1.6 | B25: EXECUÇÃO DE SANITÁRIO E VESTIÁRIO EM CANTEIRO DE OBRA EM CHAPA DE MADEIRA COMPENSADA, NÃO INCLUSO MOBILIÁRIO. AF_02/2016 | C25: m² | D25: 2.52 | E25: 831.62 | F25: =E25*D25 -> 2095.6824 | G25: 0 | H25: 0 | I25: =G25+H25 -> 0 | J25: =TRUNC(E25*G25,2) -> 0 | K25: =TRUNC(E25*H25,2) -> 0 | L25: =J25+K25 -> 0 | M25: =L25/F25 -> 0
A26: 1.7 | B26: EXECUÇÃO DE ESCRITÓRIO EM CANTEIRO DE OBRA EM CHAPA DE MADEIRA COMPENSADA, NÃO INCLUSO MOBILIÁRIO E EQUIPAMENTOS. AF_02/2016 | C26: m² | D26: 20 | E26: 893.23 | F26: =E26*D26 -> 17864.6 | G26: 0 | H26: 20 | I26: =G26+H26 -> 20 | J26: =TRUNC(E26*G26,2) -> 0 | K26: =TRUNC(E26*H26,2) -> 17864.6 | L26: =J26+K26 -> 17864.6 | M26: =L26/F26 -> 1
A27: 1.8 | B27: EXECUÇÃO DE DEPÓSITO EM CANTEIRO DE OBRA EM CHAPA DE MADEIRA COMPENSADA, NÃO INCLUSO MOBILIÁRIO. AF_04/2016 | C27: m² | D27: 20 | E27: 732.78 | F27: =E27*D27 -> 14655.6 | G27: 0 | H27: 20 | I27: =G27+H27 -> 20 | J27: =TRUNC(E27*G27,2) -> 0 | K27: =TRUNC(E27*H27,2) -> 14655.6 | L27: =J27+K27 -> 14655.6 | M27: =L27/F27 -> 1
A28: 1.9 | B28: LOCAÇÃO DA OBRA - EXECUÇÃO DE GABARITO | C28: m² | D28: 1129.64 | E28: 6.94 | F28: =E28*D28 -> 7839.7016 | G28: 0 | H28: 0 | I28: =G28+H28 -> 0 | J28: =TRUNC(E28*G28,2) -> 0 | K28: =TRUNC(E28*H28,2) -> 0 | L28: =J28+K28 -> 0 | M28: =L28/F28 -> 0
A29: 1.10 | B29: LIMPEZA MECANIZADA DE CAMADA VEGETAL, VEGETAÇÃO E PEQUENAS ÁRVORES (DIÂMETRO DE TRONCO MENOR QUE 0,20 M), COM TRATOR DE ESTEIRAS.AF_05/2018 | C29: m² | D29: 4000 | E29: 0.3 | F29: =E29*D29 -> 1200 | G29: 0 | H29: 4000 | I29: =G29+H29 -> 4000 | J29: =TRUNC(E29*G29,2) -> 0 | K29: =TRUNC(E29*H29,2) -> 1200 | L29: =J29+K29 -> 1200 | M29: =L29/F29 -> 1
A30: 2 | B30: MOVIMENTO DE TERRAS PARA FUNDAÇÕES | F30: =SUM(F31:F34) -> 31327.78 | K30: =SUM(K31:K34) -> 0 | L30: =K30 -> 0 | M30: =L30/F30 -> 0
A31: 2.1 | B31: ATERRO MANUAL DE VALAS COM SOLO ARGILO-ARENOSO E COMPACTAÇÃO MECANIZADA. AF_05/2016 | C31: m³ | D31: 168.5 | E31: 66.13 | F31: 11142.9 | G31: 0 | H31: 0 | I31: =G31+H31 -> 0 | J31: =TRUNC(E31*G31,2) -> 0 | K31: =TRUNC(E31*H31,2) -> 0 | L31: =J31+K31 -> 0 | M31: =L31/F31 -> 0
A32: 2.2 | B32: ESCAVAÇÃO MANUAL DE VALA COM PROFUNDIDADE MENOR OU IGUAL A 1,30 M. AF_02/2021 | C32: m³ | D32: 94.33 | E32: 69.08 | F32: 6516.31 | G32: 0 | H32: 0 | I32: =G32+H32 -> 0 | J32: =TRUNC(E32*G32,2) -> 0 | K32: =TRUNC(E32*H32,2) -> 0 | L32: =J32+K32 -> 0 | M32: =L32/F32 -> 0
A33: 2.3 | B33: ATERRO MANUAL DE VALAS COM SOLO ARGILO-ARENOSO E COMPACTAÇÃO MECANIZADA. AF_05/2016 | C33: m³ | D33: 184.58 | E33: 66.13 | F33: 12206.27 | G33: 0 | H33: 0 | I33: =G33+H33 -> 0 | J33: =TRUNC(E33*G33,2) -> 0 | K33: =TRUNC(E33*H33,2) -> 0 | L33: =J33+K33 -> 0 | M33: =L33/F33 -> 0
A34: 2.4 | B34: REATERRO MANUAL DE VALAS COM COMPACTAÇÃO MECANIZADA. AF_04/2016 | C34: m³ | D34: 55.58 | E34: 26.31 | F34: 1462.3 | G34: 0 | H34: 0 | I34: =G34+H34 -> 0 | J34: =TRUNC(E34*G34,2) -> 0 | K34: =TRUNC(E34*H34,2) -> 0 | L34: =J34+K34 -> 0 | M34: =L34/F34 -> 0
A35: 3 | B35: INFRAESTRUTURA: FUNDAÇÕES | F35: =F36+F45+F52 -> 110557.96 | K35: =K36+K45+K52 -> 0 | L35: =K35 -> 0 | M35: =L35/F35 -> 0
A36: 3.1 | B36: CONCRETO ARMADO PARA FUNDAÇÕES - SAPATAS | F36: =SUM(F37:F44) -> 40612.69 | K36: =SUM(K37:K44) -> 0 | L36: =K36 -> 0 | M36: =L36/F36 -> 0
A37: 3.1.1 | B37: LASTRO DE CONCRETO MAGRO, APLICADO EM BLOCOS DE COROAMENTO OU SAPATAS, ESPESSURA DE 5 CM. AF_08/2017 | C37: m² | D37: 61.88 | E37: 27.39 | F37: 1694.89 | G37: 0 | H37: 0 | I37: =G37+H37 -> 0 | J37: =TRUNC(E37*G37,2) -> 0 | K37: =TRUNC(E37*H37,2) -> 0 | L37: =J37+K37 -> 0 | M37: =L37/F37 -> 0
A38: 3.1.2 | B38: FABRICAÇÃO, MONTAGEM E DESMONTAGEM DE FÔRMA PARA SAPATA, EM MADEIRA SERRADA, E=25 MM, 4 UTILIZAÇÕES. AF_06/2017 | C38: m² | D38: 165.15 | E38: 128.27 | F38: 21183.79 | G38: 0 | H38: 0 | I38: =G38+H38 -> 0 | J38: =TRUNC(E38*G38,2) -> 0 | K38: =TRUNC(E38*H38,2) -> 0 | L38: =J38+K38 -> 0 | M38: =L38/F38 -> 0
A39: 3.1.3 | B39: ARMAÇÃO DE ESTRUTURAS DIVERSAS DE CONCRETO ARMADO, EXCETO VIGAS, PILARES, LAJES E FUNDAÇÕES, UTILIZANDO AÇO CA-50 DE 6,3 MM - MONTAGEM. AF_06/2022 | C39: KG | D39: 6.55 | E39: 14.13 | F39: 92.55 | G39: 0 | H39: 0 | I39: =G39+H39 -> 0 | J39: =TRUNC(E39*G39,2) -> 0 | K39: =TRUNC(E39*H39,2) -> 0 | L39: =J39+K39 -> 0 | M39: =L39/F39 -> 0
A40: 3.1.4 | B40: ARMAÇÃO DE ESTRUTURAS DIVERSAS DE CONCRETO ARMADO, EXCETO VIGAS, PILARES, LAJES E FUNDAÇÕES, UTILIZANDO AÇO CA-50 DE 8,0 MM - MONTAGEM. AF_06/2022 | C40: KG | D40: 32.45 | E40: 13.04 | F40: 423.14 | G40: 0 | H40: 0 | I40: =G40+H40 -> 0 | J40: =TRUNC(E40*G40,2) -> 0 | K40: =TRUNC(E40*H40,2) -> 0 | L40: =J40+K40 -> 0 | M40: =L40/F40 -> 0
A41: 3.1.5 | B41: ARMAÇÃO DE ESTRUTURAS DIVERSAS DE CONCRETO ARMADO, EXCETO VIGAS, PILARES, LAJES E FUNDAÇÕES, UTILIZANDO AÇO CA-50 DE 10,0 MM - MONTAGEM. AF_06/2022 | C41: KG | D41: 312.26 | E41: 11.49 | F41: 3587.86 | G41: 0 | H41: 0 | I41: =G41+H41 -> 0 | J41: =TRUNC(E41*G41,2) -> 0 | K41: =TRUNC(E41*H41,2) -> 0 | L41: =J41+K41 -> 0 | M41: =L41/F41 -> 0
A42: 3.1.6 | B42: ARMAÇÃO DE ESTRUTURAS DIVERSAS DE CONCRETO ARMADO, EXCETO VIGAS, PILARES, LAJES E FUNDAÇÕES, UTILIZANDO AÇO CA-50 DE 12,5 MM - MONTAGEM. AF_06/2022 | C42: KG | D42: 32.64 | E42: 9.57 | F42: 312.36 | G42: 0 | H42: 0 | I42: =G42+H42 -> 0 | J42: =TRUNC(E42*G42,2) -> 0 | K42: =TRUNC(E42*H42,2) -> 0 | L42: =J42+K42 -> 0 | M42: =L42/F42 -> 0
A43: 3.1.7 | B43: ARMAÇÃO DE ESTRUTURAS DIVERSAS DE CONCRETO ARMADO, EXCETO VIGAS, PILARES, LAJES E FUNDAÇÕES, UTILIZANDO AÇO CA-60 DE 5,0 MM - MONTAGEM. AF_06/2022 | C43: KG | D43: 307.55 | E43: 15.18 | F43: 4668.6 | G43: 0 | H43: 0 | I43: =G43+H43 -> 0 | J43: =TRUNC(E43*G43,2) -> 0 | K43: =TRUNC(E43*H43,2) -> 0 | L43: =J43+K43 -> 0 | M43: =L43/F43 -> 0
A44: 3.1.8 | B44: CONCRETAGEM DE SAPATAS, FCK 30 MPA, COM USO DE BOMBA  LANÇAMENTO, ADENSAMENTO E ACABAMENTO. AF_11/2016 | C44: m³ | D44: 16.12 | E44: 536.57 | F44: 8649.5 | G44: 0 | H44: 0 | I44: =G44+H44 -> 0 | J44: =TRUNC(E44*G44,2) -> 0 | K44: =TRUNC(E44*H44,2) -> 0 | L44: =J44+K44 -> 0 | M44: =L44/F44 -> 0
A45: 3.2 | B45: CONCRETO ARMADO PARA FUNDAÇÕES - VIGAS BALDRAMES | F45: =SUM(F46:F51) -> 62144.6 | M45: =L45/F45 -> 0
A46: 3.2.1 | B46: FABRICAÇÃO, MONTAGEM E DESMONTAGEM DE FÔRMA PARA VIGA BALDRAME, EM MADEIRA SERRADA, E=25 MM, 4 UTILIZAÇÕES. AF_06/2017 | C46: m² | D46: 463.48 | E46: 64.54 | F46: 29912.99 | G46: 0 | H46: 0 | I46: =G46+H46 -> 0 | J46: =TRUNC(E46*G46,2) -> 0 | K46: =TRUNC(E46*H46,2) -> 0 | L46: =J46+K46 -> 0 | M46: =L46/F46 -> 0
A47: 3.2.2 | B47: ARMAÇÃO DE ESTRUTURAS DIVERSAS DE CONCRETO ARMADO, EXCETO VIGAS, PILARES, LAJES E FUNDAÇÕES, UTILIZANDO AÇO CA-50 DE 6,3 MM - MONTAGEM. AF_06/2022 | C47: KG | D47: 0.73 | E47: 14.13 | F47: 10.31 | G47: 0 | H47: 0 | I47: =G47+H47 -> 0 | J47: =TRUNC(E47*G47,2) -> 0 | K47: =TRUNC(E47*H47,2) -> 0 | L47: =J47+K47 -> 0 | M47: =L47/F47 -> 0
...

Sheet MC 01
A2: MEMÓRIA DE CÁLCULO
A4: 1.0 - SERVIÇOS PRELIMINARES
A6: ITEM | B6: DESCRIÇÃO | E6: UNID. | F6: TOTAL CONTR. | G6: ACUMUL. MEDIÇÕES | H6: SALDO CONTRATO
A7: 1.1 | B7: ='BM 01'!B20 -> Placa de obra em chapa aço galvanizado, instalada - Rev 02_01/2022 | E7: ='BM 01'!C20 -> m² | F7: ='BM 01'!D20 -> 10 | G7: ='BM 01'!H20 -> 10 | H7: =F7-G7 -> 0
C8: CÁLCULOS
A9: DESCRIÇÃO | C9: QUANT. | E9: LARGUR. | F9: ALTURA | H9: TOTAL
A10: ÁREA DA PLACA | C10: 1 | E10: 2 | F10: 5 | G10: =F10*E10 -> 10 | H10: =C10*F10*E10 -> 10
A12: TOTAL =====================> | H12: =SUM(H10:H10) -> 10
A14: ITEM | B14: DESCRIÇÃO | E14: UNID. | F14: TOTAL CONTR. | G14: ACUMUL. MEDIÇÕES | H14: SALDO CONTRATO
A15: 1.2 | B15: ='BM 01'!B21 -> TAPUME COM COMPENSADO DE MADEIRA. AF_05/2018 | E15: ='BM 01'!C21 -> m² | F15: ='BM 01'!D21 -> 176 | G15: ='BM 01'!I21 -> 176 | H15: =F15-G15 -> 0
C16: CÁLCULOS
A17: DESCRIÇÃO | C17: QUANT. | D17: COMPRIM. | E17: LARGUR. | H17: TOTAL
A18: COMPRIMENTO LINEAR | C18: 1 | D18: 58.67 | E18: 3 | F18: =E18*D18 -> 176.01 | H18: =C18*D18*E18 -> 176.01
A20: TOTAL =====================> | H20: =SUM(H18:H18) -> 176.01
A22: ITEM | B22: DESCRIÇÃO | E22: UNID. | F22: TOTAL CONTR. | G22: ACUMUL. MEDIÇÕES | H22: SALDO CONTRATO
A23: ='BM 01'!A22 -> 1.3 | B23: ='BM 01'!B22 -> INSTALAÇÕES PROVISÓRIAS DE LUZ , FORÇA,TELEFONE E LÓGICA | E23: UND | F23: 0 | G23: ='BM 01'!I22 -> 0 | H23: 0
C24: CÁLCULOS
A25: DESCRIÇÃO | H25: TOTAL
A26: Energia | C26: 0 | H26: 0
A28: TOTAL =====================> | H28: 1und
A30: 2.0 - MOVIMENTO DE TERRAS
A32: ITEM | B32: DESCRIÇÃO | E32: UNID. | F32: TOTAL CONTR. | G32: ACUMUL. MEDIÇÕES | H32: SALDO CONTRATO
A33: 1.4 | B33: EXECUÇÃO DE RESERVATÓRIO ELEVADO DE ÁGUA (1000 LITROS) EM CANTEIRO DE OBRA, APOIADO EM ESTRUTURA DE MADEIRA. AF_02/2016_PA | E33: und | F33: 0 | G33: 0
C34: CÁLCULOS
A35: DESCRIÇÃO | H35: TOTAL
A36: Agua portavel. | C36: 0 | H36: 0
A38: TOTAL =====================> | H38: 1 und
A40: ITEM | B40: DESCRIÇÃO | E40: UNID. | F40: TOTAL CONTR. | G40: ACUMUL. MEDIÇÕES | H40: SALDO CONTRATO
A41: 1.6 | B41: EXECUÇÃO DE SANITÁRIO E VESTIÁRIO EM CANTEIRO DE OBRA EM CHAPA DE MADEIRA COMPENSADA, NÃO INCLUSO MOBILIÁRIO. AF_02/2016 | E41: m² | F41: 0 | G41: 0
C42: CÁLCULOS
A43: DESCRIÇÃO | H43: TOTAL
A44: Área de banheiro. | C44: QUANT. | D44: COMPRIM. | E44: LARGUR. | H44: 1.00
C45: 0 | D45: 0 | E45: 0 | F45: 0 | H45: 0
A47: TOTAL =====================> | H47: 2.52
A49: ITEM | B49: DESCRIÇÃO | E49: UNID. | F49: TOTAL CONTR. | G49: ACUMUL. MEDIÇÕES | H49: SALDO CONTRATO
A50: 1.7 | B50: EXECUÇÃO DE ESCRITÓRIO EM CANTEIRO DE OBRA EM CHAPA DE MADEIRA COMPENSADA, NÃO INCLUSO MOBILIÁRIO E EQUIPAMENTOS. AF_02/2016 | E50: m² | F50: 20 | G50: 20
C51: CÁLCULOS
A52: DESCRIÇÃO | C52: QUANT. | D52: COMPRIM. | E52: LARGUR. | H52: TOTAL
A53: Área de canteiro. | C53: 1 | D53: 5 | E53: 4 | F53: =E53*D53 -> 20 | H53: 20
A55: TOTAL =====================> | H55: 20
...

Sheet MF 01
A1: MEMÓRIA FOTOGRÁFICA
J3: FOTO 02 - Tapume .
B14: FOTO 01 - Placa de obra
B27: FOTO 06 -Escritório. | J27: FOTO 07 - Depósito.
B40: FOTO 08 - Limpeza da obra.
B66: FOTO 09 - | J66: FOTO 10 -
B79: FOTO 11 - | J79: FOTO 12 -
B92: FOTO 13 - | J92: FOTO 14 -
B105: FOTO 15 -

Sheet CPU do item não planilhado
B2: COMPOSIÇÕES DE CUSTOS UNITÁRIOS DE ITENS EXECUTADOS NÃO PLANILHADOS
B4: 1 | C4: Código | D4: Banco | E4: Descrição | F4: Tipo | H4: Und | I4: Quant. | J4: Valor Unit | K4: Total
B5: Composição | C5: D18 | D5: Próprio | E5: ALVENARIA EM TIJOLO CERAMICO FURADO 9X19X19CM, 1 VEZ (ESPESSURA 19 CM), ASSENTADO EM ARGAMASSA TRACO 1:4 (CIMENTO E AREIA MEDIA NAO PENEIRADA), PREPARO MANUAL, JUNTA1 CM. INC_11/2016 | F5: 205 | H5: m² | I5: 1 | J5: 83.93 | K5: =K6+K7+K8+K9 -> 74.510654
B6: Composição Auxiliar | C6: 87373 | D6: SINAPI | E6: ARGAMASSA TRAÇO 1:4 (EM VOLUME DE CIMENTO E AREIA MÉDIA ÚMIDA) PARA CONTRAPISO, PREPARO MANUAL. AF_08/2019 | F6: SEDI - SERVIÇOS DIVERSOS | H6: m³ | I6: 0.0138 | J6: 513.83 | K6: =J6*I6 -> 7.090854
B7: Composição Auxiliar | C7: 88309 | D7: SINAPI | E7: PEDREIRO COM ENCARGOS COMPLEMENTARES | F7: SEDI - SERVIÇOS DIVERSOS | H7: H | I7: 1.14 | J7: 17.59 | K7: =J7*I7 -> 20.0526
B8: Composição Auxiliar | C8: 88316 | D8: SINAPI | E8: SERVENTE COM ENCARGOS COMPLEMENTARES | F8: SEDI - SERVIÇOS DIVERSOS | H8: H | I8: 0.88 | J8: 13.94 | K8: =J8*I8 -> 12.2672
B9: Insumo | C9: 7271 | D9: SINAPI | E9: BLOCO CERAMICO / TIJOLO VAZADO PARA ALVENARIA DE VEDACAO, 8 FUROS NA HORIZONTAL, DE 9 X 19 X 19 CM (L XA X C) | F9: Material | H9: UN | I9: 54 | J9: 0.65 | K9: =J9*I9 -> 35.1
F10: MO sem LS => | G10: 29.07 | H10: LS => | I10: 0 | J10: MO com LS => | K10: 29.07
F11: Valor do BDI => | G11: =K5*0.275 -> 20.49043 | I11: Valor com BDI => | K11: =K5+G11 -> 95.001084
B12: Observação
B13: Baseado no item CAERN (2050001) , BDI 27,50 %, SINAPI BASE LICITADA 09/2021
